BEGIN:VCALENDAR
VERSION:2.0
PRODID:-//https://techplay.jp//JP
CALSCALE:GREGORIAN
METHOD:PUBLISH
X-WR-CALDESC:シニアプログラミング発表会-2023年1月 #4
X-WR-CALNAME:シニアプログラミング発表会-2023年1月 #4
X-WR-TIMEZONE:Asia/Tokyo
BEGIN:VTIMEZONE
TZID:Asia/Tokyo
BEGIN:STANDARD
DTSTART:19700101T000000
TZOFFSETFROM:+0900
TZOFFSETTO:+0900
TZNAME:JST
END:STANDARD
END:VTIMEZONE
BEGIN:VEVENT
UID:886246@techplay.jp
SUMMARY:シニアプログラミング発表会-2023年1月 #4
DTSTART;TZID=Asia/Tokyo:20230128T200000
DTEND;TZID=Asia/Tokyo:20230128T220000
DTSTAMP:20260420T060318Z
CREATED:20221223T015907Z
DESCRIPTION:イベント詳細はこちら\nhttps://techplay.jp/event/88624
 6?utm_medium=referral&utm_source=ics&utm_campaign=ics\n\nシニアプロ
 グラミング発表会 #4\n2022年1月に第1回目の発表を実施
 し、定期的に実施しています。1年経過して4回目です
 ！シニアのみなさんのプログラミング学習を支援する
 シニアプログラミングネットワークの活動が始まって
 そろそろ5年。「学び始めるにはいつからでも遅くない
 ！」として活動の幅も大きく広がっています。\nそし
 て、シニアプログラミングネットワークに集まるみな
 さんの作品も多くなってきました。そこでみなさんの
 作品を発表する場をつろうということで、シニアプロ
 グラミング発表会を行います。\n今回のエントリーし
 ていただいたみなさん！完成している作品もあれば、
 「今こういう内容を勉強中です」というものまで様々
 。\nまた、イベントの後半は質疑応答も兼ねた懇親会
 とします。ぜひ発表した皆さんと交流してください！\
 nYouTubeでの配信も行います。懇親会でお話ししたい方
 はZoomで、発表だけみたい方はYouTubeからご覧ください
 。\n概要\n本イベントはオンラインイベントです。\n懇
 親会にも参加希望の方は以下のZoom URLから参加お願い
 します。https://us02web.zoom.us/j/84981438293?pwd=SElkempjM2xJNTU5Q25
 WVDhZVkt1dz09ミーティング ID 849 8143 8293パスコード 751111発
 表を見るだけで良い方はYouTubeからご覧ください。https:
 //youtu.be/4jDVRySLGaw\nタイムスケジュール\n\n\n\n時間\n内容
 \n\n\n\n\n19:55〜\n入室可能\n\n\n20:00〜20:05\nオープニング\n
 \n\n20:05〜21:00\n発表会！宇田豊和さん：「機械学習によ
 る雲海の自動検出アプリ」園田真理子さん：「ＡＩの
 「画像認識」を使ってみて」林洋子さん：「子供のた
 めのスクラッチ：フォニックスとスピーキングテスト
 」芳野洋一さん：「徳川家康クイズ」今井　裕さん：
 「スクラッチで出来た事とアプリで実現したい夢」鈴
 木富司さん：「入院時に考えたiPhoneアプリ『オシッコ
 回数記録』」\n\n\n21:00〜21:25\n振り返り\n\n\n21:25〜21:30\n
 クロージング\n\n\n21:30〜22:00\n懇親会\n\n\n\n※ 当日予告
 なく時間配分・内容が変更になる可能性がございます
 。\n登壇者\n\n園田真理子さん(72歳)\nタイトル：ＡＩの
 「画像認識」を使ってみて\nＡＩの画像認識を使って
 次のことを試してみました。\n　　　①犬・猫・狐・
 狸の判定\n　　　②ある病気の判定\n　　　③父親・母
 親どっち似？\n\n\n宇田豊和さん(63歳)\nタイトル：機械
 学習による雲海の自動検出アプリ\n械学習による雲海
 の自動検出を行い、ツイッターに自動投稿するアプリ
 の説明\n\n\n\n鈴木富司さん\nタイトル：入院時に考えた
 iPhoneアプリ『オシッコ回数記録』\nSwiftUIのCoreDataに挑
 戦する\n\n\n\n林洋子さん\nタイトル：子供のためのスク
 ラッチ：フォニックスとスピーキングテスト\n子供の
 教育のためのスクラッチとして英単語フォニックスを
 開発した。また、今回、東京都で行われた中学3年生向
 けスピーキングテストの可能性と今後のプログラム開
 発について述べる。\n\n\n芳野洋一さん\nタイトル：徳
 川家康クイズ(66歳)\n戦国武将の人生感を少しいれなが
 らクイズを作りました。\n\n\n今井裕さん(71歳)\nタイト
 ル：スクラッチで出来た事とアプリで実現したい夢\n
 スクラツチで「楽しい英文50題」を作成しましたが、
 それをより多くの方にお届けする為に、アプリに置き
 換える作業の途中報告\n\n参加対象\n\nプログラミング
 を勉強したいシニア\nシニアのプログラミング勉強を
 支援したい若手\nプログラミングに興味関心がある方\n
 シニアが作成したプログラミング作品に興味がある方\
 n興味があればどなたでも！\n\n参加費\n無料\nハッシュ
 タグ\n#シニアプログラミング\n注意事項\n\nリクルーテ
 ィング、勧誘など、採用目的・宣伝目的でのイベント
 参加はお断りしております。\n
LOCATION:オンライン
URL:https://techplay.jp/event/886246?utm_medium=referral&utm_source=ics&utm
 _campaign=ics
END:VEVENT
END:VCALENDAR
