BEGIN:VCALENDAR
VERSION:2.0
PRODID:-//https://techplay.jp//JP
CALSCALE:GREGORIAN
METHOD:PUBLISH
X-WR-CALDESC:量子コンピュータ時代のプログラミング体験
 セミナー～Fixstars Amplifyで実装するシフト最適化～
X-WR-CALNAME:量子コンピュータ時代のプログラミング体験
 セミナー～Fixstars Amplifyで実装するシフト最適化～
X-WR-TIMEZONE:Asia/Tokyo
BEGIN:VTIMEZONE
TZID:Asia/Tokyo
BEGIN:STANDARD
DTSTART:19700101T000000
TZOFFSETFROM:+0900
TZOFFSETTO:+0900
TZNAME:JST
END:STANDARD
END:VTIMEZONE
BEGIN:VEVENT
UID:886560@techplay.jp
SUMMARY:量子コンピュータ時代のプログラミング体験セミ
 ナー～Fixstars Amplifyで実装するシフト最適化～
DTSTART;TZID=Asia/Tokyo:20230119T140000
DTEND;TZID=Asia/Tokyo:20230119T160000
DTSTAMP:20260422T234003Z
CREATED:20221227T031429Z
DESCRIPTION:イベント詳細はこちら\nhttps://techplay.jp/event/88656
 0?utm_medium=referral&utm_source=ics&utm_campaign=ics\n\n量子コンピ
 ュータ時代のプログラミングセミナー\n～Fixstars Amplify
 で実装するシフト最適化～\n概要\n量子コンピュータ時
 代を見据え、株式会社Fixstars Amplifyでは、量子アニーリ
 ング・イジングマシン向けクラウド基盤「Fixstars Amplify
 」を活用した、社会課題の解決と実業務への適用を進
 めています。\n本セミナーはワークショップの形式で
 、量子アニーリング・イジングマシンの力を無料版「F
 ixstars Amplify」を通じて体験していただきます。今回は
 人員シフト作成を、テーマとして取り扱います。\n量
 子アニーリング・イジングマシンに興味があるエンジ
 ニアの方におすすめの内容です。pythonの基礎知識をお
 持ちであれば、理解できる内容となっております。\n
 ぜひお気軽にご参加ください。\nタイムスケジュール\n
 \n\n\n時間\n内容\n\n\n\n\n14:00〜14:45\nフィックスターズの
 紹介組合せ最適化問題・イジングマシンの紹介Fixstars A
 mplifyの紹介\n\n\n14:45〜16:00\nFixstars Amplifyを用いた人員シ
 フト最適化ワークショップQ&A\n\n\n\n※ 当日予告なく時
 間配分・内容が変更になる可能性がございます。※発
 表内容については変更になる可能性もございますので
 あらかじめご了承ください。※途中入退室可\n登壇者\n
 松田 佳希株式会社 Fixstars AmplifyCTO\n木下 敦寛株式会社F
 ixstars Amplify応用技術部　シニアディレクター\n轟 貴久
 株式会社Fixstars Amplifyパートナーサクセス部　シニアデ
 ィレクター\n参加対象\n\nPythonの基本的な知識があるエ
 ンジニア、学生\n\n参加費\n無料\n注意事項\n\nリクルー
 ティング、勧誘など、採用目的でのイベント参加はお
 断りしております。\nキャンセル待ち・補欠・落選の
 方はご参加いただくことが出来ませんのでご了承くだ
 さい。\n欠席される場合は、お手数ですが速やかにキ
 ャンセル処理をお願い致します。\n無断キャンセルや
 欠席が続く場合、次回以降の参加をお断りさせていた
 だく場合がございます。\n
LOCATION:オンライン（Zoom）
URL:https://techplay.jp/event/886560?utm_medium=referral&utm_source=ics&utm
 _campaign=ics
END:VEVENT
END:VCALENDAR
