BEGIN:VCALENDAR
VERSION:2.0
PRODID:-//https://techplay.jp//JP
CALSCALE:GREGORIAN
METHOD:PUBLISH
X-WR-CALDESC:Excelで学ぶデータ集計～PowerQuery～＜再演版＞
X-WR-CALNAME:Excelで学ぶデータ集計～PowerQuery～＜再演版＞
X-WR-TIMEZONE:Asia/Tokyo
BEGIN:VTIMEZONE
TZID:Asia/Tokyo
BEGIN:STANDARD
DTSTART:19700101T000000
TZOFFSETFROM:+0900
TZOFFSETTO:+0900
TZNAME:JST
END:STANDARD
END:VTIMEZONE
BEGIN:VEVENT
UID:886563@techplay.jp
SUMMARY:Excelで学ぶデータ集計～PowerQuery～＜再演版＞
DTSTART;TZID=Asia/Tokyo:20230116T190000
DTEND;TZID=Asia/Tokyo:20230116T200000
DTSTAMP:20260421T032426Z
CREATED:20221227T053536Z
DESCRIPTION:イベント詳細はこちら\nhttps://techplay.jp/event/88656
 3?utm_medium=referral&utm_source=ics&utm_campaign=ics\n\nExcelで学ぶ
 データ集計～PowerQuery～＜再演版＞\nクリーク･アンド
 ･リバー社（C&R社）は、2023年1月16日（月） に、日常
 的にExcelを使用し多くのデータを扱っている方を対象
 に、「Excelで学ぶデータ集計～PowerQuery～」を開催しま
 す。（このウェビナーは9月22日に実施したウェビナー
 の再演となります。内容は同じです。）\nExcelでデータ
 の加工、集計、データ分析など、これまで必要に応じ
 てご自身で調べたり、先輩から習ったりしながら必要
 に応じて知識・技術の習得をされてきた方が多いので
 はないでしょうか。\n基礎的な操作や関数については
 特に問題なく使用することができ、ピボットやマクロ
 も活用しながらデータを扱っている中で、・作業工程
 をもっと簡略化してスピードアップできないか・エラ
 ーを未然に防げないか・自分の使いかた（使用方法）
 が正しいのか不安だという方々に向け、「Excelで学ぶ
 データ集計」ウェビナーを実施していきます。\n今回
 のウェビナーでは、外部データの取込み・変換・整形
 ・加工ができるExcelの機能である“PowerQuery”について
 、ハンズオン形式で学んでいきます。\n今後も、Excelの
 関数・ピボット・マクロなどについて、ハンズオン形
 式のオンライン講座を順次開催予定です。データ集計
 に必要なExcel技術を習得するために、是非継続してご
 参加ください。\n※講師はOffice2019で授業を行います。
 異なるバージョンの場合ツールの位置や名前が異なる
 場合がありますのでご参加の際はご注意ください。※
 このウェビナーは9月22日に実施したウェビナーの再演
 となります。内容は同じです。\nこんなことをお話し
 ます！\n\nPowerQueryとは\nPowerQueryの使いかた（外部デー
 タとの接続・データを変換する・データを整形する）\
 n\nこんな方にオススメ！\n\n普段Excelを使っている中級
 者\nExcelでデータ集計をされている方\nPowerQueryについて
 再度学びなおしをしたい方\n\nタイムスケジュール\n\n\n
 \n時間\n内容\nspeaker\n\n\n\n\n19：00～19：05\nオープニング\
 nC&R社\n\n\n19：05～19：50\n講演\n古澤登志美 氏\n\n\n19：50
 ～20：00\n質疑応答\n\n\n\n20：00～\nクロージング\n\n\n\n\n
 ※ 当日予告なく時間配分・内容が変更になる可能性が
 ございます。\n登壇者\n古澤　登志美（ふるさわ・とし
 み）氏\n株式会社ワンズ・ワン代表取締役。2001年、パ
 ソコン出張サポート業を起ち上げ、同時にＩＴ系セミ
 ナー講師としても活動を開始。Excelを始めとしたOffice
 アプリの他、ホームページ作成や画像処理など、全く
 初めて触れる受講者にもわかりやすく伝えることを得
 意とする。現在はＩＴ活用支援を中心とした、中小機
 企業向け経営コンサルティングを主な事業としている
 。2017年、中小企業診断士登録。2021年ＩＴコーディネ
 ータ認定。\n\n参加対象\n・Excel中級者の方・データ領
 域に業務の幅を広げたいとお考えの方・マーケティン
 グ部門/販促部門/営業/プランナーの方で、普段データ
 を扱っている方・事務職からのキャリアアップをご検
 討中の方\n参加費\n無料\n当ウェビナーについて\n\n\nこ
 ちらのサイト からもお申込みいただくことができま
 す。\n\n▼C&R社で実施しているオンライン講座・ウェビ
 ナー　一覧ページhttps://www.c-place.ne.jp/
LOCATION:オンライン
URL:https://techplay.jp/event/886563?utm_medium=referral&utm_source=ics&utm
 _campaign=ics
END:VEVENT
END:VCALENDAR
