BEGIN:VCALENDAR
VERSION:2.0
PRODID:-//https://techplay.jp//JP
CALSCALE:GREGORIAN
METHOD:PUBLISH
X-WR-CALDESC:【小売り DX2023】EC・店舗の新規顧客獲得～リ
 ピート施策を一挙公開！ ~MEO×EC×SNS×LINE~
X-WR-CALNAME:【小売り DX2023】EC・店舗の新規顧客獲得～リ
 ピート施策を一挙公開！ ~MEO×EC×SNS×LINE~
X-WR-TIMEZONE:Asia/Tokyo
BEGIN:VTIMEZONE
TZID:Asia/Tokyo
BEGIN:STANDARD
DTSTART:19700101T000000
TZOFFSETFROM:+0900
TZOFFSETTO:+0900
TZNAME:JST
END:STANDARD
END:VTIMEZONE
BEGIN:VEVENT
UID:887138@techplay.jp
SUMMARY:【小売り DX2023】EC・店舗の新規顧客獲得～リピー
 ト施策を一挙公開！ ~MEO×EC×SNS×LINE~
DTSTART;TZID=Asia/Tokyo:20230110T140000
DTEND;TZID=Asia/Tokyo:20230110T160000
DTSTAMP:20260419T230929Z
CREATED:20230104T082708Z
DESCRIPTION:イベント詳細はこちら\nhttps://techplay.jp/event/88713
 8?utm_medium=referral&utm_source=ics&utm_campaign=ics\n\n【小売り DX2
 023】EC・店舗の新規顧客獲得～リピート施策を一挙公
 開！ ~MEO×EC×SNS×LINE~\nさまざまな分野で、「DX」という
 言葉を聞くようになりましたが、本ウェビナーでは、
 「小売業界のDX」をテーマとして、新規来店・EC・SNSな
 どのチャネルや、リピーター対策までをわかりやすく
 解説します。コロナ禍における行動規制が徐々に緩和
 され、リアル店舗へお客様が戻ってくるといわれてい
 る2023年。小売業が今まさに取り組むべきDX施策につい
 て、売上成長へのインパクトが高い優先施策を惜しみ
 なく公開いたします。\n今年こそはDX化に取り組みたい
 とお考えの小売事業者さま、ECやSNSをはじめてみたい
 けど、やり方がよく分からない小売事業者さまにとっ
 て必見の無料ウェビナーです。是非この機会にお気軽
 にご視聴くださいませ。\n– こんな方におすすめです 
 –・ECやSNS運用をこれから始めたいとお考えの方・リ
 ピーターを増やすための方法を知りたい方・DXに興味
 があるが、まず何から手を付けるべきかが分からない
 方・LINEを活用した「もう一度来たい！」と思う顧客体
 験を知りたい方・Googleビジネスプロフィールを活用し
 た販促に興味がある方\n\n– 当日のプログラム–\n第1
 部：株式会社これから\nECサイト支援実績12\,000件以上
 ！ECサイトの集客術〜購入率をUPさせる最新手法を徹底
 解説\nー 登壇者 ー株式会社これから取締役　川村　拓
 也2004年、IT系上場企業に新卒として入社。 ECサイトの
 コンサルティング営業を行う部署に所属し、同期85名
 の中で最短にて管理職昇格。その後全国拠点の拠点長
 を歴任し、2012年1月株式会社これからに創業メンバー
 として参画、取締役就任。 小規模ショップから東証1
 部上場企業まで、500社以上のECサイト戦略について支
 援。年間50回以上のセミナー登壇やイベント講演、書
 籍「図解即戦力 EC担当者の実務と知識がこれ1冊でしっ
 かりわかる教科書」(技術評論社)の執筆を行い、日本
 全国のECサイト売上向上を目指す。IT導入補助金初年度
 より、支援事業者として申請の補助からECの立ち上げ
 まで支援している。\n\n\n第2部：株式会社BESW\nInstagram・
 TikTok経由で新規リーチ獲得を最大化させる秘訣とは？2
 023年の最新トレンド予想をご紹介！\nー 登壇者 ー株式
 会社BESW代表取締役社長田中　千晶2009年、大学在学中
 に会社を設立し、1年半で大手企業、中小企業50社と取
 引をする。Webプロモーション支援を得意とし、特にSNS
 活用支援で多くの実績をもつ。2012年から全国各地でセ
 ミナーを精力的に実施。シリコンバレーのFacebook本社
 やTwitter本社へ毎年出向いて直接SNSの最先端情報を仕入
 れてきている。角川出版社、マイナビ社、技術評論社
 、翔泳社、インプレス社でマーケティング支援の書籍
 を6冊出版。連載も7社で行う。自身のラジオ番組、パ
 ーソナリティとしても活動し、SNSの最新情報を届けて
 いる。\n第3部：株式会社ギブリー\n再来店のきっかけ
 を作る店舗ビジネスのLINE活用\nー 登壇者 ー株式会社
 ギブリーMarketing DX部門 エヴァンジェリスト守屋　翔太
 不動産系の事業会社にて、toCのセールスコールセンタ
 ー責任者やマーケティングを経験。Giveryに2019年2月にJo
 in。オンライン接客プラットフォーム「SYNALIO（シナリ
 オ）」のカスタマーサクセス、フィールドセールスを
 経験。その後「LIBERO（リベロ）」の事業とカスタマー
 サクセスの立ち上げや「診断Bot」のリリースに関わり
 、現在はSYNALIOとLIBEROのカスタマーサクセスを担当。セ
 ミナー登壇実績も多数。\n第4部：株式会社SO Technologies
 株式会社\n店舗集客DXの大本命！Google検索／Googleマップ
 で店舗情報を調べるユーザーにアプローチする方法\n
 ー 登壇者 ー\nSO Technologies株式会社ライクル事業本部渡
 邉　大晃大手飲食メディア営業、ブライダル会社にて
 ウェブ広告営業を経験。店舗集客100社以上に携わる。2
 021年よりSO Technologies株式会社に参画。店舗事業者様の
 集客を支援する「ライクル」のマーケティング業務に
 従事。現職では自動車ディーラー、学習塾、小売、飲
 食、ブライダルなど幅広い業界の顧客を担当している
 。\n\n– 詳細 –\n【イベント名】　【小売り DX2023】EC
 ・店舗の新規顧客獲得～リピート施策を一挙公開！ ~ME
 O×EC×SNS×LINE~\n【日程】2023年1月10日(火)14:00~16:00\n【定
 員】　100名\n【開催場所】　オンライン配信（Zoom）\n
 【参加費】　無料\n【共催】株式会社これから／株式
 会社BESW／株式会社ギブリー／SO Technologies株式会社\n注
 意事項\n・WEBのみの開催となりますので、ご了承くだ
 さい。エントリーいただいた方に、前日までに参加用
 のURLをお送りします。※WEBツール：Zoom・競合、同業社
 様のご参加はお断りいたします。
LOCATION:オンライン
URL:https://techplay.jp/event/887138?utm_medium=referral&utm_source=ics&utm
 _campaign=ics
END:VEVENT
END:VCALENDAR
