BEGIN:VCALENDAR
VERSION:2.0
PRODID:-//https://techplay.jp//JP
CALSCALE:GREGORIAN
METHOD:PUBLISH
X-WR-CALDESC:福岡から生まれたプロダクトの軌跡、そして
 今描く未来
X-WR-CALNAME:福岡から生まれたプロダクトの軌跡、そして
 今描く未来
X-WR-TIMEZONE:Asia/Tokyo
BEGIN:VTIMEZONE
TZID:Asia/Tokyo
BEGIN:STANDARD
DTSTART:19700101T000000
TZOFFSETFROM:+0900
TZOFFSETTO:+0900
TZNAME:JST
END:STANDARD
END:VTIMEZONE
BEGIN:VEVENT
UID:887277@techplay.jp
SUMMARY:福岡から生まれたプロダクトの軌跡、そして今描
 く未来
DTSTART;TZID=Asia/Tokyo:20230131T183000
DTEND;TZID=Asia/Tokyo:20230131T203000
DTSTAMP:20260424T223956Z
CREATED:20230105T142049Z
DESCRIPTION:イベント詳細はこちら\nhttps://techplay.jp/event/88727
 7?utm_medium=referral&utm_source=ics&utm_campaign=ics\n\nGet-together Nig
 ht Fukuokaは福岡で働く人たちが新しいつながりを作るコ
 ミュニティイベントです。\n福岡でプロダクト開発に
 興味があるエンジニアの方、ぜひ参加されませんか？\
 n開催概要\n開催日時：2023年1月31日（火）18:30～20:30（
 開場：18:15）\n会場：Fukuoka Growth Next 1F イベントスペー
 ス（福岡県福岡市中央区大名2丁目6-11）\n参加費：無料
 \n※当日予約の場合は、下記よりお申込み下さい。\nhtt
 ps://fgngtn2.peatix.com/\n※必ずお一人様ずつお申し込みが
 必要です\n※トークセッション後に開催する懇親会で
 は軽食と飲み物を準備します\nハッシュタグ・質疑応
 答について\n本イベントのハッシュタグは #gtn131（Get To
 gether Nightの頭文字 + 開催日の日付）です。ツイッター
 などでイベントに関する発信をされる際にご活用くだ
 さい。\nまた質問はslidoを使って募集いたします。質問
 は下記URLからお寄せください。イベント前に記載いた
 だいても構いません。イベントコードは #gtn131 です。\
 nhttps://app.sli.do/event/9bgw2UgnKRaXoorjpkizZo\n日本有数のスタ
 ートアップシティとして注目を集める福岡。福岡から
 国内外、さまざまな地域のお客様から愛されるサービ
 スやプロダクトが生まれています。\nそのようなプロ
 ダクトはどうやって生まれ、どのように進化し、愛さ
 れてきたのでしょうか。そしてこれからどのような展
 開を描いているのでしょうか。そこで今回は福岡発の
 プロダクトに取り組むスタートアップの代表をお招き
 し、それぞれのプロダクトや会社についてお伺いしま
 す。\nパネリストは昨年上場を果たした株式会社ヌー
 ラボの橋本正徳さん、日本最大級の招待制スタートア
 ップカンファレンス「B Dash Camp」でファイナリストに
 選出された株式会社レイヤードの毛塚牧人さん、株式
 会社クアンドの下岡純一郎さんです。聞き手は福岡の
 スタートアップの伴走者でもあるスタートアップスタ
 ジオ 株式会社SEREALの安達誠寛さんが務めます。\n質疑
 応答の時間はもちろん、トークセッション後には懇親
 会も準備しています。多くの皆さんの参加をお待ちし
 ています！
LOCATION:Fukuoka Growth Next 福岡市中央区大名2‐6‐11
URL:https://techplay.jp/event/887277?utm_medium=referral&utm_source=ics&utm
 _campaign=ics
END:VEVENT
END:VCALENDAR
