BEGIN:VCALENDAR
VERSION:2.0
PRODID:-//https://techplay.jp//JP
CALSCALE:GREGORIAN
METHOD:PUBLISH
X-WR-CALDESC:シンガポールで集客に強くなる！ SingaLifeがGoog
 le検索1位を獲得したSEO対策
X-WR-CALNAME:シンガポールで集客に強くなる！ SingaLifeがGoog
 le検索1位を獲得したSEO対策
X-WR-TIMEZONE:Asia/Tokyo
BEGIN:VTIMEZONE
TZID:Asia/Tokyo
BEGIN:STANDARD
DTSTART:19700101T000000
TZOFFSETFROM:+0900
TZOFFSETTO:+0900
TZNAME:JST
END:STANDARD
END:VTIMEZONE
BEGIN:VEVENT
UID:887321@techplay.jp
SUMMARY:シンガポールで集客に強くなる！ SingaLifeがGoogle検
 索1位を獲得したSEO対策
DTSTART;TZID=Asia/Tokyo:20230119T110000
DTEND;TZID=Asia/Tokyo:20230119T120000
DTSTAMP:20260422T032526Z
CREATED:20230105T225917Z
DESCRIPTION:イベント詳細はこちら\nhttps://techplay.jp/event/88732
 1?utm_medium=referral&utm_source=ics&utm_campaign=ics\n\nシンガポー
 ルで集客に強くなる！SingaLifeがGoogle検索1位を獲得した
 SEO対策\n「Webを通してより多くの人に情報を届けたい
 」「集客を強化したい」と考えたときに、多くの人が
 ぶつかるSEO対策の壁。Webコンテンツや記事を作成した
 ものの、思ったよりも人が集まらなかった、そんな経
 験はありませんか？\nシンガポールの日本人向けメデ
 ィア「SingaLife」は、シンガポール関連の検索キーワー
 ドで多数のGoogle検索1位を獲得。シンガポールのみなら
 ず、シンガポールに興味のある日本在住者からのサイ
 トアクセスも増え続けています。\n“見てもらえるコ
 ンテンツ”の制作に必要なSEO対策についてお話ししま
 す。\n Zoomセミナーに無料で申し込む\n▼このようなお
 悩み・ニーズをお持ちの方におすすめです・シンガポ
 ールでブランディング、集客を強化したい・自社サイ
 トを運営しているものの、アクセスがなかなか伸びな
 い・コンテンツ・商品自体に魅力はあるが、うまく伝
 えることができていない・SEO対策に興味はあるが、何
 から取り組んだらよいか分からない\n Zoomセミナーに
 無料で申し込む\n「シンガポールで集客に強くなる！Si
 ngaLifeがGoogle検索1位を獲得したSEO対策」\n開催日時：202
 3年1月19日（木）10:00～11:00（シンガポール時間）     
                     　　　　　           11:00〜12:
 00（日本時間）\n参加費：無料\nZoomでのオンライン配信
 視聴方法につきましては、お申し込みフォームからご
 登録いただいた後、メールにてご案内させていただき
 ます。ご案内メールが届かない方はお手数ですが（semi
 nar@fiftyonemedia.com）までご連絡ください。\n登壇者：Fifty
  One Media Pte Ltd　井岡 紗英\nSingaLifeのweb/SNSマーケティン
 グ、PR事業の責任者を兼任。読者目線・SEOを意識した
 コンテンツ制作を通して、クライアントのマーケティ
 ング・ブランディングに携わる。\n Zoomセミナーに無
 料で申し込む\nお問い合わせ先：seminar@fiftyonemedia.com
LOCATION:オンライン
URL:https://techplay.jp/event/887321?utm_medium=referral&utm_source=ics&utm
 _campaign=ics
END:VEVENT
END:VCALENDAR
