BEGIN:VCALENDAR
VERSION:2.0
PRODID:-//https://techplay.jp//JP
CALSCALE:GREGORIAN
METHOD:PUBLISH
X-WR-CALDESC:2/18土. 大阪IT系もくもく会、プログラミング初
 心者相談の日 in 大阪天満橋コーボックス
X-WR-CALNAME:2/18土. 大阪IT系もくもく会、プログラミング初
 心者相談の日 in 大阪天満橋コーボックス
X-WR-TIMEZONE:Asia/Tokyo
BEGIN:VTIMEZONE
TZID:Asia/Tokyo
BEGIN:STANDARD
DTSTART:19700101T000000
TZOFFSETFROM:+0900
TZOFFSETTO:+0900
TZNAME:JST
END:STANDARD
END:VTIMEZONE
BEGIN:VEVENT
UID:887589@techplay.jp
SUMMARY:2/18土. 大阪IT系もくもく会、プログラミング初心
 者相談の日 in 大阪天満橋コーボックス
DTSTART;TZID=Asia/Tokyo:20230218T100000
DTEND;TZID=Asia/Tokyo:20230218T180000
DTSTAMP:20260421T022909Z
CREATED:20230109T060011Z
DESCRIPTION:イベント詳細はこちら\nhttps://techplay.jp/event/88758
 9?utm_medium=referral&utm_source=ics&utm_campaign=ics\n\n注意\n体調
 が悪い方は参加をご遠慮ください(体温が37.5度以上の
 方、くしゃみや咳が出る方はNG)\n参加される方は、で
 きるだけマスク着用でお願いします\n主催者上村が万
 が一体調不良になった場合は主催者不在のままもくも
 く会に突入します\n\n初心者も上級者もみなさんいっし
 ょにもくもく勉強しましょう！\n\n以下のようなIT系の
 テーマで個別にもくもく勉強・作業しつつ、分からな
 いことがあったら相談し合ったりする会です。初心者
 歓迎です。一人でも大丈夫です。\n出入り自由です。
 何時に来て何時に帰ってもかまいません。\n\n【テーマ
 】\n*  Linux、UNIXコマンド、CentOS7\n* Apache\, MySQL\, gitなど
 サーバー系アプリケーション\n* WordPressなどCMS(開発環
 境構築やサーバー保守など)\n* PHP、JavaScript、jQuery、シ
 ェルスクリプトなどプログラミング言語、 正規表現\n*
  ネットショップ\n* Webデザイン\n\n主催者でWebエンジニ
 アの上村が参加します。\nもし、なにか相談したい内
 容があればお気軽に聞いてもらって大丈夫です。\n上
 村のプロフィール\n例:\n・WordPressなどのCMSのカスタマ
 イズで悩んでいる。\n・JavaScriptで画像のスライダーと
 か作ってみたいけどよく分からない。\n・お問合せフ
 ォームを作りたいけどよく分からない。\n・レンタル
 サーバーの選定で悩んでいる。\n・ネットショップを
 開設したいが何がおすすめ？。\n・DNSの設定がよく分
 からないので知りたい。\n・サーバーの運用や構築で
 分からないことがある。\n・フリーランスの生き方に
 ついて相談に乗ってほしい。\n\n14:00ごろからワンポイ
 ントレクチャーします。\n「FTP、FTPS、SFTPの話。どう違
 うのか」\n\n管理人\n\n上村 崇（うえむらたかし）\n\nIT
 系フリーランスエンジニア。phpを使ったWebシステム構
 築を仕事にしています。\nhttps://toyao.net/\n\n会場\n\nもの
 づくりコワーキングスペース コーボックス\n大阪市中
 央区谷町1丁目3-5　アンフィニィ天満橋 3F\n\n地下鉄谷
 町線 天満橋駅 3番出口(110m) 徒歩1分\n京阪 天満橋駅 (350
 m) 徒歩4分\n谷町四丁目駅 (700m) 徒歩9分\n北浜駅 (1\,300m) 
 徒歩16分\n大阪城北詰駅 (1\,400m) 徒歩17分\n大阪天満宮駅
  (1\,500m) 徒歩18分\n堺筋本町駅 (1\,600m) 徒歩20分\n大阪ビ
 ジネスパーク駅 (1\,600m) 徒歩20分\n南森町駅 (1\,700m) 徒
 歩21分\n京橋駅 (1\,900m) 徒歩22分\n\n地図\nhttps://www.google.c
 om/maps/place/%E3%82%82%E3%81%AE%E3%81%A5%E3%81%8F%E3%82%8A%E3%82%B3%E3%8
 3%AF%E3%83%BC%E3%82%AD%E3%83%B3%E3%82%B0%E3%82%B9%E3%83%9A%E3%83%BC%E3%82
 %B9Co-Box/@34.6877248\,135.5153918\,17z/data=!3m1!4b1!4m2!3m1!1s0x6000e72
 8d03b7bdb:0x1b1161071eaecdc5?hl=ja\n\n参加費\n\n\nコーボックス
 の会場利用料のみ（1100円）\n最初に受付で「もくもく
 会利用です」と言って会場利用料をお支払いください
 。\nものづくりのコワーキングスペースのため、機械
 音や独特の匂いがします。ご了承ください。\n\n\n参加
 対象者\n\n\n上記テーマに興味がある方なら誰でも。\n\n
 \nプログラム\n\n10:00開始、18:00終了\n14:00くらいにワン
 ポイントレクチャーします。(参加自由)\n※途中入場、
 途中退出可。また食事や休憩なども自由にお取りくだ
 さい。\n\n持ち物\n\n\nノートパソコンなど自分の作業に
 必要なもの\n\n\n設備\n\n無線LAN・電源を使用することが
 できます。\n\nもくもくするのにオススメの参考資料\n\
 n\nプログラミング動画チャンネル 貧困エンジニアU（Yo
 utubeチャンネル）\nもくもくワンポイントレクチャー（
 Youtubeチャンネル）\n\n\nお問い合わせ\n\n本イベントに
 関する問い合わせにつきましては、以下のフォームか
 ら連絡してください。\nhttps://toyao.net/grav/ja/contactform\n\n
 ※ このイベントに関する問い合わせであることが分か
 るように、必ず「イベント名、イベント開催日」の記
 載をお願いします。\n\nお申し込み\n\nTechplayから来た方
 は、DoorKeeperの以下のページからお申し込みください。
 \nhttps://saku-love.doorkeeper.jp/events/149534
LOCATION:ものづくりコワーキングスペース コーボックス 
 大阪府大阪市中央区谷町1丁目3-5　アンフィニィ天満橋
  3F
URL:https://techplay.jp/event/887589?utm_medium=referral&utm_source=ics&utm
 _campaign=ics
END:VEVENT
END:VCALENDAR
