BEGIN:VCALENDAR
VERSION:2.0
PRODID:-//https://techplay.jp//JP
CALSCALE:GREGORIAN
METHOD:PUBLISH
X-WR-CALDESC:【参加費無料】SDGsボードゲーム体験会 @秋葉
 原 〜楽しみながらSDGsを学ぼう〜
X-WR-CALNAME:【参加費無料】SDGsボードゲーム体験会 @秋葉
 原 〜楽しみながらSDGsを学ぼう〜
X-WR-TIMEZONE:Asia/Tokyo
BEGIN:VTIMEZONE
TZID:Asia/Tokyo
BEGIN:STANDARD
DTSTART:19700101T000000
TZOFFSETFROM:+0900
TZOFFSETTO:+0900
TZNAME:JST
END:STANDARD
END:VTIMEZONE
BEGIN:VEVENT
UID:887610@techplay.jp
SUMMARY:【参加費無料】SDGsボードゲーム体験会 @秋葉原 〜
 楽しみながらSDGsを学ぼう〜
DTSTART;TZID=Asia/Tokyo:20230118T203000
DTEND;TZID=Asia/Tokyo:20230118T220000
DTSTAMP:20260420T173821Z
CREATED:20230109T095619Z
DESCRIPTION:イベント詳細はこちら\nhttps://techplay.jp/event/88761
 0?utm_medium=referral&utm_source=ics&utm_campaign=ics\n\nSDGsボードゲ
 ーム「Sustainable World BOARDGAME」を体験！\n多くの方がSDGs
 を自分ゴト化し、さまざまな地域で持続可能性につい
 て考えるボードゲームです。世界の課題解決事例を楽
 しく学びながら「SDGs達成」と「自己成長」を目指しま
 す。SDGsへの理解、協力の大切さ、広く深く考える思考
 力を養うことができます。\nSDGsボードゲームHPhttps://sus
 tainable-world-boardgame.com/\n社会課題について学び、未来の
 社会やキャリアについて一緒に学んでいきましょう。\
 n・SDGsを学んでみたい方・スキルアップしたい方・新
 しいことを始めたい方など、大人から子供まで、どな
 たでもご参加ください！\n開催概要\n【日時】2023年1月1
 8日（水） 20:30~22:00【場所】DMM.make Akiba 12F   〒101-0022 
 東京都千代田区神田練塀町３　https://goo.gl/maps/poExPQQtVQZ
 vFcWa9   ※当日は、20:20までにDMM.make Akibaの1Fロビー、
 エレベーター前までお集まりください。【参加費】無
 料\n講師：三井 恒雄\n一般社団法人未来技術推進協会
 　プログラムオフィサー、SDGs事業担当、SDGsボードゲ
 ーム上級認定ファシリテーター、神奈川県版ふるさとS
 DGsボードゲーム制作プロジェクトボードメンバー、子
 ども版SDGsボードゲーム制作メンバー・TMコミュニケー
 ションサービス株式会社　代表取締役社長・物品寄付
 型ファンドレイジングプログラム『お宝エイド』主宰
 ・古物買取店「お買取屋さん東京本店」オーナー・東
 京都都立高校「探求活動等アドバイザー」\n\n主催：シ
 ンギュラリティ・ラボ\n『テクノロジーで社会課題を
 解決する』をビジョンに、エンジニア、デザイナー、
 ライター、イべンテーターなど、様々な人が活躍する
 テックコミュニティです。SDGsボードゲーム、Webサイト
 制作からコミュニティ作り、イベント企画まで、様々
 なプロジェクトが創出されています。\nシンラボHPhttps:
 //sinlab.future-tech-association.org/シンラボYoutubeチャンネルht
 tps://www.youtube.com/channel/UChs5SSU2BoJBTRxJm1lXe5A/videos\n注意事
 項\n\nリクルーティング、勧誘など、採用目的でのイベ
 ント参加はお断りしております。\nキャンセル待ち・
 補欠・落選の方はご参加いただくことが出来ませんの
 でご了承ください。\n欠席される場合は、お手数です
 が速やかにキャンセル処理をお願い致します。\n無断
 キャンセルや欠席が続く場合、次回以降の参加をお断
 りさせていただく場合がございます。\n
LOCATION:DMM.make AKIBA 東京都千代田区神田練塀町３ 富士ソ
 フト秋葉原ビル 12F　※当日は、20:20までにDMM.make Akiba
 の1Fロビー、エレベーター前までお集まりください。
URL:https://techplay.jp/event/887610?utm_medium=referral&utm_source=ics&utm
 _campaign=ics
END:VEVENT
END:VCALENDAR
