BEGIN:VCALENDAR
VERSION:2.0
PRODID:-//https://techplay.jp//JP
CALSCALE:GREGORIAN
METHOD:PUBLISH
X-WR-CALDESC:最初の一歩！ ファイルサーバークラウド移行 
 成功のポイント
X-WR-CALNAME:最初の一歩！ ファイルサーバークラウド移行 
 成功のポイント
X-WR-TIMEZONE:Asia/Tokyo
BEGIN:VTIMEZONE
TZID:Asia/Tokyo
BEGIN:STANDARD
DTSTART:19700101T000000
TZOFFSETFROM:+0900
TZOFFSETTO:+0900
TZNAME:JST
END:STANDARD
END:VTIMEZONE
BEGIN:VEVENT
UID:887928@techplay.jp
SUMMARY:最初の一歩！ ファイルサーバークラウド移行 成
 功のポイント
DTSTART;TZID=Asia/Tokyo:20230127T160000
DTEND;TZID=Asia/Tokyo:20230127T164500
DTSTAMP:20260420T024744Z
CREATED:20230111T074408Z
DESCRIPTION:イベント詳細はこちら\nhttps://techplay.jp/event/88792
 8?utm_medium=referral&utm_source=ics&utm_campaign=ics\n\n概要\nファ
 イルサーバーやNASは比較的簡単に導入することができ
 ることもあり、企業内の情報共有や情報管理に数多く
 利用されています。企業にとって業務の効率化や競争
 力強化に、ファイルサーバーは重要かつ必要不可欠なI
 T資産となっていることでしょう。\nしかし、業務のデ
 ジタル化に伴う慢性的なデータ量の肥大化やファイル
 サーバーの乱立による情報のサイロ化など、既存のフ
 ァイルサーバーには様々な課題を抱えているケースも
 多いかと思います。\nこれら課題の解決策の１つとし
 て、ファイルサーバーをクラウド環境に移すクラウド
 化が挙げられます。しかしながら、ファイルサーバー
 のクラウド化を利用企業自身で実施することには、い
 くつもの課題があります。\n今回のセミナーではファ
 イルサーバーの管理者様向けに、改めてクラウド化す
 ることのメリット、クラウド移行における重要な検討
 要素、弊社のサービスである「デジタル・ワゴン for 
 ファイルサーバー」についてご紹介させて頂きます。\
 nタイムスケジュール\n\n\n\n時間\n内容\n\n\n\n\n15:45〜\n受
 付開始\n\n\n16:00〜16:05\nオープニング\n\n\n16:05〜16:20\nセ
 ッション1：ファイルサーバー クラウド化のすすめ\n\n\
 n16:20〜16:40\nセッション2：アセスメントしてみません
 か？ ファイルサーバー可視化による3つのメリット\n\n\
 n16:40〜16:45\nアンケート回答\n\n\n\n※ 当日予告なく時間
 配分・内容が変更になる可能性がございます。\nセッ
 ション1：ファイルサーバー クラウド化のすすめテレ
 ワーク時代に求められるデータ共有の在り方やファイ
 ルサーバーの役割。ファイルサーバーやNASをクラウド
 化するメリット。クラウド化における重要な検討事項
 や移行におけるポイントをご紹介。併せて、弊社のフ
 ァイルデータ利用環境向けソリューション「デジタル
 ・ワゴン for ファイルサーバー」についてご紹介させ
 て頂きます。\nセッション2：アセスメントしてみませ
 んか？ ファイルサーバー可視化による3つのメリット
 ファイルサーバ運用における課題、アセスメントの重
 要性、可視化することによるメリットについてご紹介
 。アセスメントツールのデモも交えた、アセスメント
 フェーズ全体の流れをご説明させていただきます。\n
 参加対象\n\nファイルサーバーのクラウド移行を検討さ
 れている方\nWindows Server 2012 EOSをキッカケに、ファイル
 サーバーのリプレイスを検討している方\nクラウド移
 行のメリット・デメリットを知りたい方\n\n参加費\n無
 料\n注意事項\n\nリクルーティング、勧誘など、採用目
 的でのイベント参加はお断りしております。\n欠席さ
 れる場合は、お手数ですが速やかにキャンセル処理を
 お願い致します。\n無断キャンセルや欠席が続く場合
 、次回以降の参加をお断りさせていただく場合がござ
 います。\n
LOCATION:オンライン
URL:https://techplay.jp/event/887928?utm_medium=referral&utm_source=ics&utm
 _campaign=ics
END:VEVENT
END:VCALENDAR
