BEGIN:VCALENDAR
VERSION:2.0
PRODID:-//https://techplay.jp//JP
CALSCALE:GREGORIAN
METHOD:PUBLISH
X-WR-CALDESC:Cloud Server Festa 2013 Autumn　「サバフェス！」
X-WR-CALNAME:Cloud Server Festa 2013 Autumn　「サバフェス！」
X-WR-TIMEZONE:Asia/Tokyo
BEGIN:VTIMEZONE
TZID:Asia/Tokyo
BEGIN:STANDARD
DTSTART:19700101T000000
TZOFFSETFROM:+0900
TZOFFSETTO:+0900
TZNAME:JST
END:STANDARD
END:VTIMEZONE
BEGIN:VEVENT
UID:888@techplay.jp
SUMMARY:Cloud Server Festa 2013 Autumn　「サバフェス！」
DTSTART;TZID=Asia/Tokyo:20131118T100000
DTEND;TZID=Asia/Tokyo:20131125T090000
DTSTAMP:20260422T054600Z
CREATED:20131010T191822Z
DESCRIPTION:イベント詳細はこちら\nhttps://techplay.jp/event/888?u
 tm_medium=referral&utm_source=ics&utm_campaign=ics\n\n■最新情報☆
 イベントサイトオープンしました！！☆http://serverfesta.
 info/☆定員に達し、補欠のエントリーを募集中です（11
 /12 16:50更新）☆参加チーム数は11月12日16:50現在、30チ
 ームです。エントリー、ありがとうございます！締切
 後に、メンバー登録をしたい場合は、コメント欄に追
 加メンバー名をお書きください！また、競技に参加で
 きなくなった方は、お手数ですが、締切前までにキャ
 ンセルをお願いいたします。～サバフェスは、エンジ
 ニアの技術を競い、シェアするコンテストイベントで
 す。～第1回目は、オンラインで全世界から参戦可能！
 優勝賞金の20万円を目指し、クラウド環境でスケール
 アウトとチューニングを駆使し、WordPressのパフォーマ
 ンスを極限まで高めていきます。全世界から、だれで
 も参加できるので、優勝チームのWordPressは実質、世界
 最速！このクラウド環境は大会終了後、テンプレート
 化して、だれでも利用できるように公開します。今回
 は、実務経験の無い方でも楽しんでいただけるよう、
 学生賞を用意し、イベント前のレクチャーも行う予定
 です。また上位者には、表彰式で、テクニックやコツ
 をシェアしていただきます。実務でクラウドに触れた
 ことがない学生の方、開発者や制作寄りの方も、スキ
 ルアップや情報収集にご活用ください。■競技概要・1
 ～3名のチーム制です。・後日発表されるお題（レギュ
 レーション）に準じて、指定されたWordPress環境でのパ
 フォーマンスの向上を、開催期間を通じて試みます。
 ・主にスケールアウト、スケールアップ、チューニン
 グにおいて、パフォーマンスを向上させます。・毎日
 ベンチマークを取り、随時順位を発表します。■日程1
 1/14 オープニングセミナー　※都内開催、参加自由11/18
  エントリー締切 (0:00)　※参加チーム数が30チームに達
 した場合は、18日以前に締め切ります。11/18 競技開始
 （10:00）11/25 競技終了（9:00）12/11　表彰式　※都内開
 催、参加自由※オープニングセミナーでは、実務経験
 のない方に向け、サーバー構築の方法や、チューニン
 グ・スケールアウトなどを解説します。※表彰式では
 、上位者の表彰、ノウハウの共有、懇親会など、大会
 を振り返り、参加者間でノウハウをシェアするイベン
 トを計画しています。もちろん入賞者以外も参加でき
 ますので、ぜひ予定を空けておいてください。■よく
 ある質問「実務経験がないのですが、スケールアウト
 とか、チューニングとか、一般的にどうやっているん
 でしょうか」・実務経験がなくても、参加いただける
 ように、大会前に、セミナーを行う予定です。後日詳
 細をご案内します。「スケールアウトとかスケールア
 ップして、クラウド破産しませんか？」・ご安心くだ
 さい。IDCフロンティアの全面協力で、競技にかかるク
 ラウド費用(IDCFクラウド セルフタイプ利用料金）を負
 担しますので、無料で参加が可能です。「このイベン
 トって楽しいですか？」下記の方には、きっと楽しん
 でいただけるはずです。・「AutoScaleもまだまだ実用レ
 ベルじゃないよね」と思っている方・チューニンガソ
 ンやISUCONにエントリーしている方・インストールマニ
 アックスが終了して、心に穴が開いている方・日頃、
 コストダウンと、可用性向上のはざまで腕を磨かれて
 いる方・スケールアウトやチューニングの技術につい
 て、他のエンジニアと情報交換したい方・将来、IT業
 界に就・転職したいと思っている方・WordPressを実際に
 運用されている方、もしくはこれから運用しようと思
 っている方・まだあまり知名度のない大会で、お手軽
 に賞品・賞金をかっさらいたい方「全校生徒に参加さ
 せたいのですが」・30チームを上限に、エントリーを
 締め切りますので、学校の規模によっては実現すると
 思います！「興味がありますが、情報が少なくて、判
 断できません」・イベントサイトをご覧ください！http
 ://serverfesta.info/「学生賞とは？」・チーム全員が学生
 のチームの中で、ベンチマークの値が最高だったチー
 ムを表彰します。実務経験がなくとも、チャレンジし
 てみてください。「賞品・賞金は優勝賞金20万円だけ
 ですか？」いいえ、より多くのみなさんに楽しんでい
 ただけるよう、2位、3位、コスパ賞、学生賞、参加賞
 をご用意しています。どうぞふるってご参加ください
 ！「表彰式って、都内でやるんですか？」はい。東京
 都新宿区で12月中の開催を予定しています。全国から
 ご参加いただけるように、Ust中継などの手段も検討し
 ています。「地球の裏側にいるので、参加できません
 」オンラインでの競技になりますので、インターネッ
 ト環境があればご参加いただけます！「どこのクラウ
 ド使ってもいいのですか？」純粋に技術を競うため、
 全チーム同環境で戦います。今回協賛いただいているI
 DCFクラウドセルフタイプでの競技となります。他にも
 質問がありましたら、コメント欄にてお寄せいただく
 か、下記までお問い合わせください。みなさまのご参
 加をお待ちしています！■お問い合わせTwitterアカウン
 ト　★svfesメールアドレス　svfes★idc.jp　　　　　　　
 　　　※「★」を半角＠に変えて、送信してください
 。※内容は変更の可能性があります。※内容に変更が
 あった場合は、本サイトまたはイベントサイトでご案
 内します。
LOCATION:株式会社IDCフロンティア本社（最寄駅：丸ノ内線
 新宿御苑前/四谷三丁目駅から徒歩5分） 東京都新宿区
 四谷4-29
URL:https://techplay.jp/event/888?utm_medium=referral&utm_source=ics&utm_ca
 mpaign=ics
END:VEVENT
END:VCALENDAR
