BEGIN:VCALENDAR
VERSION:2.0
PRODID:-//https://techplay.jp//JP
CALSCALE:GREGORIAN
METHOD:PUBLISH
X-WR-CALDESC:ゲームマーケティングの新常識？！企業のTikTo
 k参入事例紹介！
X-WR-CALNAME:ゲームマーケティングの新常識？！企業のTikTo
 k参入事例紹介！
X-WR-TIMEZONE:Asia/Tokyo
BEGIN:VTIMEZONE
TZID:Asia/Tokyo
BEGIN:STANDARD
DTSTART:19700101T000000
TZOFFSETFROM:+0900
TZOFFSETTO:+0900
TZNAME:JST
END:STANDARD
END:VTIMEZONE
BEGIN:VEVENT
UID:888248@techplay.jp
SUMMARY:ゲームマーケティングの新常識？！企業のTikTok参
 入事例紹介！
DTSTART;TZID=Asia/Tokyo:20230125T180000
DTEND;TZID=Asia/Tokyo:20230125T190000
DTSTAMP:20260424T194302Z
CREATED:20230113T104252Z
DESCRIPTION:イベント詳細はこちら\nhttps://techplay.jp/event/88824
 8?utm_medium=referral&utm_source=ics&utm_campaign=ics\n\n\n※お申し
 込みは必ず上記バナーか下記リンクをクリックしてく
 ださい※\n\n＞＞お申し込みはこちら＜＜\nTECH PLAYで「
 イベントに参加する」をクリックされても正式なお申
 し込み受付ができません。大変お手数をおかけいたし
 ますが、よろしくお願いいたします。\n概要\nゲーム業
 界のマーケティング・プロデュースに関わる方必見！\
 n元ゲームディレクター／プロジェクトリーダーであり
 、現在TikTokマーケティング事業を展開するOne Acreの折
 茂 賢成氏と、「TikTok For Business Award 2020」でブロンズ賞
 を受賞したNatee朝戸 太將氏をお招きし、TikTok活用方法
 、事例を徹底解剖いたします。\n2023年のTikTokのグロー
 スと可能性、実際のグロース事例などを交えながら、
 いますぐ使いたくなるTikTok戦略について語っていただ
 きます。\n＜視聴者特典＞アンケート回答者に・ウェ
 ビナーアーカイブのご提供・登壇者ご紹介\n※Gmailなど
 フリーアドレスでのご登録はできません。※競合他社
 様のご参加はお断りさせていただきます。※学生の方
 や個人でお申し込みの方は、特典の対象外とさせてい
 ただきます。\n\n\n\n\n\n\n\n\n\n入室開始\n\n\n\n18:00~18:05\n
 ご挨拶\n\n\n18:05~\n【パネルディスカッション】ゲーム
 マーケティングの新常識？！企業のTikTok参入事例紹介
 ！株式会社ワンエーカー(One Acre) 代表取締役折茂 賢成 
 氏株式会社Natee取締役COO朝戸 太將 氏株式会社1LDK 代表
 取締役CEO朝岡 優太 氏■アジェンダ■・2023年、TikTokの
 グロースと可能性・ショート動画プラットフォームな
 らではの企業×TikTokの活用方法・さまざまな業種にお
 けるTikTokのグロース事例・ゲーム業界、その他業界のT
 ikTok活用事例・質疑応答\n\n\n19:00\n終了\n\n\n\n※講演内
 容が当日変更となる場合がございます。\n登壇者\n\n\n
 折茂 賢成 氏\n株式会社ワンエーカー(One Acre)　代表取
 締役\n株式会社アカツキでゲームディレクター／プロ
 ジェクトリーダーを務め、カジュアルゲームスタジオB
 uddyの立ち上げに携わり独立。主力はTikTokマーケティン
 グやアカウント運用を中心とした広告代理店事業。こ
 れに加え、ゲーム開発、美容サロン運営を展開。TikTok
 運営、ゲームや美容サロンの実店舗マーケティングを
 自社で行うことにより、再現性の高い令和のマーケテ
 ィング施策を模索。\n\n\n朝戸 太將 氏\n株式会社Natee 取
 締役COO\n東京大学を卒業後、リクルートキャリアを経
 てNateeに創業メンバーとしてジョイン。創業期よりTikTo
 k事業の統括を務め、広告主の認知や購買促進など多様
 なニーズに対してTikTokを軸としたソリューションを提
 供。2020年末には「TikTok For Business Award」でブロンズ賞
 を受賞するなど、Nateeの成長をけん引している。\n\n\n
 朝岡 優太 氏\n株式会社1LDK　代表取締役CEO\n2015年新卒
 でアカツキに入社。複数本のIPタイトルの新規開発／
 運用・BizDev業務に従事。2020年1LDK設立。同社代表取締
 役CEO。複数のゲーム企業・事業会社のビジネス支援、
 ライブエンターテインメント事業を統括。\n\n開催概要
 \n開催日：2023年12月25日(水)　18:00～19:00参加料：無料会
 場：オンライン※動画視聴方法につきましては、お申
 し込みいただいた方へのみご案内させていただきます
 。\n＞＞お申し込みはこちら＜＜\n◆注意事項講師およ
 び講演内容は一部変更になる場合がございます。Gmail
 などのフリーメールアドレスはご参加登録いただけま
 せん。\n申込み時に取得した個人情報は、イベント主
 催企業における個人情報保護方針に基づき厳重に管理
 し、本イベントに関する連絡ならびに今後のイベント
 案内・製品情報告知のために利用いたします。株式会
 社SHIFT　個人情報保護方針　https://www.shiftinc.jp/privacy/\n
 【当イベントに関するお問い合わせ】株式会社SHIFT　
 セミナー運営事務局Email：seminars@shiftinc.jp\nハッシュタ
 グ\n*#techplayjp\n\n
LOCATION:オンライン
URL:https://techplay.jp/event/888248?utm_medium=referral&utm_source=ics&utm
 _campaign=ics
END:VEVENT
END:VCALENDAR
