BEGIN:VCALENDAR
VERSION:2.0
PRODID:-//https://techplay.jp//JP
CALSCALE:GREGORIAN
METHOD:PUBLISH
X-WR-CALDESC:優秀なエンジニアになるためのセミナー
X-WR-CALNAME:優秀なエンジニアになるためのセミナー
X-WR-TIMEZONE:Asia/Tokyo
BEGIN:VTIMEZONE
TZID:Asia/Tokyo
BEGIN:STANDARD
DTSTART:19700101T000000
TZOFFSETFROM:+0900
TZOFFSETTO:+0900
TZNAME:JST
END:STANDARD
END:VTIMEZONE
BEGIN:VEVENT
UID:888279@techplay.jp
SUMMARY:優秀なエンジニアになるためのセミナー
DTSTART;TZID=Asia/Tokyo:20230131T190000
DTEND;TZID=Asia/Tokyo:20230131T200000
DTSTAMP:20260423T223205Z
CREATED:20230113T142110Z
DESCRIPTION:イベント詳細はこちら\nhttps://techplay.jp/event/88827
 9?utm_medium=referral&utm_source=ics&utm_campaign=ics\n\nイベント概
 要\n現役エンジニアをゲストとして2名お呼びしました
 ！！\n自由に質問していただいてOKです🙋‍♂️✨\n質
 問がない場合はエンジニアの2人が自由に対談します！
 ！💬\n想像しているよりもゆる〜い雰囲気で開催して
 おりますので、お気軽にご参加ください😊\nミュート
 、画面OFFのご参加でも全然OKです😆\n対象者\n\n\nエン
 ジニアを目指してプログミング学習を始めようしてい
 る方\n\n\nエンジニアを目指してプログラミング学習し
 ている方\n\n\nエンジニア転職したものの、なかなかう
 まくいっていない方\n\n\nやる気はあるけど、何を頑張
 れば良いのか分からない方\n\n\nどんな方でもお役に立
 てる情報が満載となっております！！😆\n※未経験〜
 実務歴1\,2年の方が対象となっております\n登壇者プロ
 フィール\n御業株式会社から2名のエンジニアをお呼び
 しております！\nCEO(最高経営責任者)　内田 明宏さん\n
 \nエンジニア歴10年\n某大手企業で今なお開発中\n幅広
 い業務知識があるフルスタックエンジニア\n6年間企業
 でエンジニアを経験\nその後、2年間のフリーランス経
 験\n\nCTO(最高技術責任者) 　黒田 拳太さん\n\nエンジニ
 ア歴10年\n幅広い業務知識があるフルスタックエンジニ
 ア\n7年間企業でWeb制作エンジニアを経験し、その後Reac
 tやVueを活用したWebアプリ開発を経験\n現在は御業株式
 会社にてバックエンドも含めフルスタックに活動中\n\n
 事前アンケート\nセミナーを円滑に進めるために4つの
 ご質問をご用意させていただきました！\n大変お手数
 ではございますが、お答えいただけると幸いです🙇‍
 ♂️\nhttps://docs.google.com/forms/d/e/1FAIpQLSeyAIUtODpU996V5GSsUjbsQ
 NkVX1cqpyr7lK9a_KA7vSVeGg/viewform\n場所\nオンライン開催 ※Goog
 le Meetを使用します。\nお時間になりましたらこちらか
 らお入りください！\nhttps://meet.google.com/tin-vtvd-zuh\nオン
 ラインの不具合など、緊急で連絡が必要な場合はTwitter
 のDMでご連絡ください！     \nhttps://twitter.com/aoi0038\n参
 加料\n０円\n今後、有料になる可能性もありますので、
 この機会にぜひご参加ください！！！✨\n注意\n会の趣
 旨にそぐわない営業行為、ネットワークビジネスの勧
 誘などを目的としたご参加はご遠慮ください。\n万が
 一そのような行為が確認された場合は、ご退席いただ
 くなど事務局側で適切な対応を取らさせていただきま
 す。
LOCATION:オンライン
URL:https://techplay.jp/event/888279?utm_medium=referral&utm_source=ics&utm
 _campaign=ics
END:VEVENT
END:VCALENDAR
