BEGIN:VCALENDAR
VERSION:2.0
PRODID:-//https://techplay.jp//JP
CALSCALE:GREGORIAN
METHOD:PUBLISH
X-WR-CALDESC:神田・秋葉原 もくもく会 vol.16
X-WR-CALNAME:神田・秋葉原 もくもく会 vol.16
X-WR-TIMEZONE:Asia/Tokyo
BEGIN:VTIMEZONE
TZID:Asia/Tokyo
BEGIN:STANDARD
DTSTART:19700101T000000
TZOFFSETFROM:+0900
TZOFFSETTO:+0900
TZNAME:JST
END:STANDARD
END:VTIMEZONE
BEGIN:VEVENT
UID:888295@techplay.jp
SUMMARY:神田・秋葉原 もくもく会 vol.16
DTSTART;TZID=Asia/Tokyo:20230202T190000
DTEND;TZID=Asia/Tokyo:20230202T210000
DTSTAMP:20260425T120517Z
CREATED:20230113T143506Z
DESCRIPTION:イベント詳細はこちら\nhttps://techplay.jp/event/88829
 5?utm_medium=referral&utm_source=ics&utm_campaign=ics\n\n概要\nテー
 マ自由なもくもく会です。\n神田のカフェ FFFFF Cafe （ h
 ttps://fffff-cafe.com/ ） に集まり、各々やりたいことを作
 業する会です。\n作業内容は勉強、読書、開発、雑談
 なんでもOK！\nソフトウェアエンジニアの参加者が多い
 ですが、どなたでも参加可能です。  \n作業が終わった
 後は交流会を行うので、時間のある方はそちらもぜひ
 参加してください！  \nルール\n\n費用 ドリンクの注文
 （500円〜）\n自分の好きな作業をしてください！\n開始
 時に言える範囲で作業内容の説明と挨拶をお願いしま
 す\n途中参加OK\n電源、Wi-Fi は自由に利用できます\n水
 は飲み放題です\n\n交流会\n作業後にドリンクや食べ物
 を買って交流会を行います。\n予算は一人あたり1500円
 です。\n当日の参加表明もOK！事前に参加予定の場合は
 表明してくれると助かります！\n日時/ タイムテーブル
 \n2023-02-02 19:00-21:00\n\n\n\n時間\n\n\n\n\n\n18:30\n開場\n\n\n19:0
 0-19:15\n挨拶・自己紹介・やること発表\n\n\n19:15-21:00\n作
 業時間\n\n\n21:00-\nやったこと発表、交流会（希望者）\n
 \n\n\n場所\n東京都千代田区神田多町2-9-6 第２田中ビル 1
 F\nhttps://goo.gl/maps/MRmqBBKq9DpvUfhg8  \n主催について\n会場の
 FFFFF Cafeを運営する株式会社リロードが主催しています
 。\nリロードはWeb系のソフトウェア開発を行っている
 会社ですが、ソフトウェアエンジニアに限らず、多様
 なバックグラウンドを持つ人たちの交流の場にしてい
 きたいと思っています。\nご参加お待ちしております
 ！  \n参加者交流用のSlack\n当日の連絡等、こちらで行
 います。\nhttps://join.slack.com/t/fffff-81d6773/shared_invite/zt-1d2
 ozux7o-F2O5pNC5vmXzt1Allox2xQ
LOCATION:FFFFF Cafe 東京都千代田区神田多町2-9-6 第２田中ビ
 ル 1F
URL:https://techplay.jp/event/888295?utm_medium=referral&utm_source=ics&utm
 _campaign=ics
END:VEVENT
END:VCALENDAR
