BEGIN:VCALENDAR
VERSION:2.0
PRODID:-//https://techplay.jp//JP
CALSCALE:GREGORIAN
METHOD:PUBLISH
X-WR-CALDESC:freee Tech Night × Chatwork 「味わい深いEKS運用の世
 界」
X-WR-CALNAME:freee Tech Night × Chatwork 「味わい深いEKS運用の世
 界」
X-WR-TIMEZONE:Asia/Tokyo
BEGIN:VTIMEZONE
TZID:Asia/Tokyo
BEGIN:STANDARD
DTSTART:19700101T000000
TZOFFSETFROM:+0900
TZOFFSETTO:+0900
TZNAME:JST
END:STANDARD
END:VTIMEZONE
BEGIN:VEVENT
UID:888296@techplay.jp
SUMMARY:freee Tech Night × Chatwork 「味わい深いEKS運用の世界
 」
DTSTART;TZID=Asia/Tokyo:20230203T190000
DTEND;TZID=Asia/Tokyo:20230203T200000
DTSTAMP:20260425T181845Z
CREATED:20230113T143523Z
DESCRIPTION:イベント詳細はこちら\nhttps://techplay.jp/event/88829
 6?utm_medium=referral&utm_source=ics&utm_campaign=ics\n\n配信 URL\nYouT
 ube: https://www.youtube.com/watch?v=E486AHQuG7g\nSli.do: https://app.sli
 .do/event/x211R4ypEnVAnA6wxyEnfH\nfreee Tech Night って何？\nfreee株
 式会社のエンジニアによる、エンジニアのためのイベ
 ントです！\nfreeeで利用している技術、組織、エンジニ
 アの生態の紹介を皆様に知っていただけるような内容
 を定期的に配信します。\nfreeeでの自由度と裁量権の高
 い独自の開発文化を支えるエンジニア達がどういう想
 いや熱意でfreeeを開発しているのかに興味を持ってい
 ただければ幸いです。\nちょっと短めの時間で、参加
 しやすい・聞きやすい内容を目指します。\n普段はな
 かなか参加できない…という方も、ラジオを聴く感覚
 で、ぜひご参加ください！\nfreeeはクラウド会計・人事
 労務ソフトを5年以上開発を続けており、技術的な成果
 や経験を広く公開させていただきます。会計や人事労
 務などのセキュアなドメインならではの技術的工夫や
 苦労を、世の中にシェアし役に立てたいという想いか
 ら定期的にイベントを開催しています。\n多くの方に
 ご参加頂き、経験やノウハウの共有や交換のネットワ
 ークを広げるきっかけになれれば幸いです。\n日時\n202
 3/02/03 (火） 19:00〜\n内容・出演者\n今回のテーマはCharwo
 rk社とお届けする「味わい深いEKS運用の世界」です！\n
 AWSで提供されているマネージドKubernetesサービスである
 EKS。AWSの機能をフルに利用して簡単にKubernetesクラスタ
 の構築・運用ができるとても便利なサービスで、その
 手軽さに魅力を感じている方は多いのでは無いでしょ
 うか？今回はCharwork社から2名をゲストとして迎え、 fre
 eeを含めた2社のEKSの活用を簡単にご紹介し、実際に大
 規模サービスを運用してみたEKSならではのインフラ課
 題や実践的なポイントなどをお届けしたいと思います
 ！\nゲスト: 古屋 啓介(Chatwork ドラムが叩けるSRE)\n\nChatw
 orkでAWSとイチャイチャしています\nゲスト: 坂本 諒(Chat
 work SRE)\n\nChatworkでSREやってます。ランニングが趣味で
 す。\nゲスト: tk / FeLvi (freee platform SRE Twitter )\n\n2021年度
 新卒としてfreeeに入社。内定者インターンとしてfreee人
 事労務の開発をした後、入社後はSREとしてEKSを始めと
 したインフラの運用・運用改善をしています。\nゲス
 ト: gami (freee SRE)\n\nfreeeのSRE Platformチームに所属してい
 ます。\nラジオパーソナリティ: てらら (@a_terarara)\nOAuth
 2.0 / OIDCをこよなく愛する認証認可エンジニアとして日
 々奮闘している。ホラーの話になると俄然テンション
 があがる。好きな食べ物はにんじん。\nタイムスケジ
 ュール\n\n\n\n時間\n内容\n\n\n\n\n19:00\n開会\n\n\n19:00 - 19:05
 \nイントロダクション\n\n\n19:05 - 19:30\nトークタイム\n\n\
 n19:30 - 19:40\n質疑応答\n\n\n19:40 -\nクロージング\n\n\n\nキ
 ーワード\nfreee / Chatwork / Kubernetes / k8s / AWS / クラウド / 
 EKS / コンテナ / クラスタ / インフラ\n会場情報\nYouTube L
 iveで配信予定。URLは決定後公開します。\n注意事項\n\n
 当日はYouTube Liveで配信します。YouTubeの視聴環境をご用
 意のうえご参加ください。\nTwitterでの実況歓迎です。
 ハッシュタグは「#freeeTechNight」です。\n\n主催者\nfreee T
 ech Night運営事務局
LOCATION:YouTube Live オンライン
URL:https://techplay.jp/event/888296?utm_medium=referral&utm_source=ics&utm
 _campaign=ics
END:VEVENT
END:VCALENDAR
