BEGIN:VCALENDAR
VERSION:2.0
PRODID:-//https://techplay.jp//JP
CALSCALE:GREGORIAN
METHOD:PUBLISH
X-WR-CALDESC:【インバウンド広告】2023年から始めるインバ
 ウンド対策　訪日外国人向け広告セミナー
X-WR-CALNAME:【インバウンド広告】2023年から始めるインバ
 ウンド対策　訪日外国人向け広告セミナー
X-WR-TIMEZONE:Asia/Tokyo
BEGIN:VTIMEZONE
TZID:Asia/Tokyo
BEGIN:STANDARD
DTSTART:19700101T000000
TZOFFSETFROM:+0900
TZOFFSETTO:+0900
TZNAME:JST
END:STANDARD
END:VTIMEZONE
BEGIN:VEVENT
UID:888654@techplay.jp
SUMMARY:【インバウンド広告】2023年から始めるインバウン
 ド対策　訪日外国人向け広告セミナー
DTSTART;TZID=Asia/Tokyo:20230202T160000
DTEND;TZID=Asia/Tokyo:20230202T170000
DTSTAMP:20260425T111650Z
CREATED:20230117T060502Z
DESCRIPTION:イベント詳細はこちら\nhttps://techplay.jp/event/88865
 4?utm_medium=referral&utm_source=ics&utm_campaign=ics\n\n訪日外国人
 急増による今から始めるインバウンド対策!インバウン
 ド広告に必要なオーディエンスの設計からクリエイテ
 ィブプランまで効果的なキャンペーン方法を紹介\n◆
 インバウンド(訪日外国人旅行者)広告セミナー概要入
 国規制撤廃以後、2023年に入りますます観光客をはじめ
 とした外国人観光客（訪日外国人）の姿が街中や観光
 地に戻ってきたのが実感されるようになりました。ま
 た、円安進行の背景もあり今後旅行客は益々増加する
 ことで観光地での宿泊や食事、移動などに関連した消
 費行動も活性化されることが期待されていることでイ
 ンバウンド対策が必要とされています。\n一方で急速
 に進むインバウンドに向けた取り組みは、長く続いた
 水際対策により過去のデータが活用できないことによ
 るアプローチ対策や集客施策に問題を抱えています。\
 nこのたび、クロスロケーションズでは急速に準備が必
 要とされる2023年日本のインバウンド市場活性化に向け
 て動き始めた企業、自治体様に向けまして、すでに国
 内外含め数多く実施しているインバウンドキャンペー
 ンの経験と、グローバルネットワークを活かしたイン
 バウンド広告のサービスについてご案内いたします。\
 nNear社は世界44カ国の7\,000万以上の場所で、合計16億の
 スマホ端末から発信されたユーザー許諾済みの位置情
 報を分析\nグローバル人流データを活用して、日本に
 滞在中の外国人向け訴求（旅ナカ）だけでなく、海外
 の特定の地域への配信（旅マエ）や過去に日本を訪れ
 た履歴のある外国居住者（旅アト）をターゲットにし
 た広告キャンペーンなども可能になり、世界に対して
 安心で安全な販売・集客活動を促進し、インバウンド
 需要やクールジャパンの再活性化をお手伝いします。
 複雑になりがちなインバウンド広告キャンペーンの設
 計について、位置情報を使うとどのようなことが可能
 になるのか、など解説いたします。\n開催概要\n日　時
 ： 2023年2月2日（木）　時　間　16：00 ～ 17：00定　員
 ： 50名　 ※先着順参加費： 無料開催方法： オンライ
 ン（Zoomウェビナー）セミナー詳細ページ：https://www.x-l
 ocations.com/seminar/20230202/※本セミナーご登録後に当日の
 視聴用のURLをご案内いたします。\nインバウンドキャ
 ンペーンについて\nクロスロケーションズはコロナ禍
 以前に数多く実施していたインバウンドキャンペーン
 の経験と、創業からの資本・業務提携パートナーであ
 るNear Intelligence\, Inc.（本社アメリカ合衆国 カリフォル
 ニア州 以下Near社）のグローバルネットワークを活か
 して、新たな形でのインバウンド人流データ分析・広
 告のサービスを立ち上げました（注1）。\n注1）クロス
 ロケーションズプレスリリース　2022年10月12日10月11日
 入国制限撤廃による訪日外国人の人流拡大に対応。世
 界16億IDの位置情報データ分析による外国人旅行者向け
 位置情報広告の拡充と、外国人の国内人流分析サービ
 スの提供を開始https://www.x-locations.com/news/pr20221012/\n\n講
 師\n石川　真美クロスロケーションズ株式会社\nこのよ
 うな方におすすめ\n\nインバウンド(訪日外国人旅行者)
 ターゲティング広告について詳しく知りたい方\n位置
 情報の仕組みを使ったインバウンドキャンぺーン設計
 について知りたい方\n広告代理店、観光業界、地方自
 治体でインバウンド業務に取り組まれている方\nジオ
 ターゲティング広告について興味がある方\n\n◆主催ク
 ロスロケーションズ株式会社\n◆参加費無料　※オン
 ライン開催　 Zoomウェビナー\n◆注意事項お申し込みに
 は貴社名・アドレス・部署・電話番号が必須となりま
 す。リクルーティング、勧誘など、採用目的でのイベ
 ント参加はお断りしております。参加を辞退する場合
 は、詳細ページより申込のキャンセルをお願いいたし
 ます。同業他社さまのご参加はお断りさせていただい
 ております。ご理解のほどお願い申し上げます。\n【
 個人情報の取り扱い】個人情報保護管理者兼お問い合
 わせ窓口 ：〒150-0022　東京都渋谷区恵比寿南1丁目2-9　
 小林ビル6階クロスロケーションズ株式会社　個人情報
 保護管理責任者　取締役CFOメールアドレス：privacy＠x-l
 ocations.com利用目的 ：セミナーへの参加のご案内、当社
 のサービスに関するご案内・営業およびマーケティン
 グ活動のため任意性：お客様からご提供頂ける個人情
 報はお客様の任意です。但し必要な項目をご提供頂け
 ない場合は利用目的を達成できないことがあります。
 ※ 本セミナーのお申込みをもって、上記内容に同意し
 たものとみなします。
LOCATION:オンラインZoom
URL:https://techplay.jp/event/888654?utm_medium=referral&utm_source=ics&utm
 _campaign=ics
END:VEVENT
END:VCALENDAR
