BEGIN:VCALENDAR
VERSION:2.0
PRODID:-//https://techplay.jp//JP
CALSCALE:GREGORIAN
METHOD:PUBLISH
X-WR-CALDESC:northernforce #25
X-WR-CALNAME:northernforce #25
X-WR-TIMEZONE:Asia/Tokyo
BEGIN:VTIMEZONE
TZID:Asia/Tokyo
BEGIN:STANDARD
DTSTART:19700101T000000
TZOFFSETFROM:+0900
TZOFFSETTO:+0900
TZNAME:JST
END:STANDARD
END:VTIMEZONE
BEGIN:VEVENT
UID:888732@techplay.jp
SUMMARY:northernforce #25
DTSTART;TZID=Asia/Tokyo:20230221T190000
DTEND;TZID=Asia/Tokyo:20230221T201500
DTSTAMP:20260424T083253Z
CREATED:20230117T143750Z
DESCRIPTION:イベント詳細はこちら\nhttps://techplay.jp/event/88873
 2?utm_medium=referral&utm_source=ics&utm_campaign=ics\n\n第25回目\n今
 回はSpring'23注目トピック紹介会です。\nどしどしご参
 加お待ちしております！！\nご出席対象となる方\n\nSale
 sforceシステム管理者の方\nSalesforceの導入を検討してい
 る会社の担当者の方\nSalesforceエンジニアの方\nSalesforce
 に興味があるエンジニアの方\n北海道とクラウドに興
 味がある方\n\n当日の流れ\n19:00 - 19:10 全員で自己紹介
 （参加が10名以下の場合に実施）  \n19:10 - 19:15 northernfor
 ceについて ( kitalive)  \n19:15 - 19:30 LT1(Kitalive 吉松) ※発
 表:8分、質疑応答:7分\n19:30 - 19:45 LT2(Kitalive 有野) ※発
 表:8分、質疑応答:7分\n19:45 - 20:00 ふりかえり・雑談\n20:
 00 - 20:15 クロージング・次回予告       \n会場\nオンライ
 ン開催\n※申込者の皆様へ別途接続方法をアナウンス
 いたします。
LOCATION:オンライン オンライン
URL:https://techplay.jp/event/888732?utm_medium=referral&utm_source=ics&utm
 _campaign=ics
END:VEVENT
END:VCALENDAR
