BEGIN:VCALENDAR
VERSION:2.0
PRODID:-//https://techplay.jp//JP
CALSCALE:GREGORIAN
METHOD:PUBLISH
X-WR-CALDESC:【参加費無料】SDGsボードゲーム体験会 @秋葉
 原 〜楽しみながらSDGsを学ぼう〜
X-WR-CALNAME:【参加費無料】SDGsボードゲーム体験会 @秋葉
 原 〜楽しみながらSDGsを学ぼう〜
X-WR-TIMEZONE:Asia/Tokyo
BEGIN:VTIMEZONE
TZID:Asia/Tokyo
BEGIN:STANDARD
DTSTART:19700101T000000
TZOFFSETFROM:+0900
TZOFFSETTO:+0900
TZNAME:JST
END:STANDARD
END:VTIMEZONE
BEGIN:VEVENT
UID:888747@techplay.jp
SUMMARY:【参加費無料】SDGsボードゲーム体験会 @秋葉原 〜
 楽しみながらSDGsを学ぼう〜
DTSTART;TZID=Asia/Tokyo:20230215T203000
DTEND;TZID=Asia/Tokyo:20230215T220000
DTSTAMP:20260420T194025Z
CREATED:20230117T233612Z
DESCRIPTION:イベント詳細はこちら\nhttps://techplay.jp/event/88874
 7?utm_medium=referral&utm_source=ics&utm_campaign=ics\n\nSDGsボードゲ
 ーム「Sustainable World BOARDGAME」を体験！\n多くの方がSDGs
 を自分ゴト化し、さまざまな地域で持続可能性につい
 て考えるボードゲームです。世界の課題解決事例を楽
 しく学びながら「SDGs達成」と「自己成長」を目指しま
 す。SDGsへの理解、協力の大切さ、広く深く考える思考
 力を養うことができます。\nSDGsボードゲームHPhttps://sus
 tainable-world-boardgame.com/\n社会課題について学び、未来の
 社会やキャリアについて一緒に学んでいきましょう。\
 n・SDGsを学んでみたい方・スキルアップしたい方・新
 しいことを始めたい方など、大人から子供まで、どな
 たでもご参加ください！\n開催概要\n【日時】2023年2月1
 5日（水） 20:30~22:00【参加費】無料\n講師：三井 恒雄\n
 一般社団法人未来技術推進協会　プログラムオフィサ
 ー、SDGs事業担当、SDGsボードゲーム上級認定ファシリ
 テーター、神奈川県版ふるさとSDGsボードゲーム制作プ
 ロジェクトボードメンバー、子ども版SDGsボードゲーム
 制作メンバー・TMコミュニケーションサービス株式会
 社　代表取締役社長・物品寄付型ファンドレイジング
 プログラム『お宝エイド』主宰・古物買取店「お買取
 屋さん東京本店」オーナー・東京都都立高校「探求活
 動等アドバイザー」\n\n主催：シンギュラリティ・ラボ
 \n『テクノロジーで社会課題を解決する』をビジョン
 に、エンジニア、デザイナー、ライター、イべンテー
 ターなど、様々な人が活躍するテックコミュニティで
 す。SDGsボードゲーム、Webサイト制作からコミュニティ
 作り、イベント企画まで、様々なプロジェクトが創出
 されています。\nシンラボHPhttps://sinlab.future-tech-associati
 on.org/シンラボYoutubeチャンネルhttps://www.youtube.com/channel/
 UChs5SSU2BoJBTRxJm1lXe5A/videos\n注意事項\n\nリクルーティング
 、勧誘など、採用目的でのイベント参加はお断りして
 おります。\nキャンセル待ち・補欠・落選の方はご参
 加いただくことが出来ませんのでご了承ください。\n
 欠席される場合は、お手数ですが速やかにキャンセル
 処理をお願い致します。\n無断キャンセルや欠席が続
 く場合、次回以降の参加をお断りさせていただく場合
 がございます。\n
LOCATION:
URL:https://techplay.jp/event/888747?utm_medium=referral&utm_source=ics&utm
 _campaign=ics
END:VEVENT
END:VCALENDAR
