BEGIN:VCALENDAR
VERSION:2.0
PRODID:-//https://techplay.jp//JP
CALSCALE:GREGORIAN
METHOD:PUBLISH
X-WR-CALDESC:【WEBセミナー】Capy生体認証（FIDO）サービスの
 ご紹介
X-WR-CALNAME:【WEBセミナー】Capy生体認証（FIDO）サービスの
 ご紹介
X-WR-TIMEZONE:Asia/Tokyo
BEGIN:VTIMEZONE
TZID:Asia/Tokyo
BEGIN:STANDARD
DTSTART:19700101T000000
TZOFFSETFROM:+0900
TZOFFSETTO:+0900
TZNAME:JST
END:STANDARD
END:VTIMEZONE
BEGIN:VEVENT
UID:888796@techplay.jp
SUMMARY:【WEBセミナー】Capy生体認証（FIDO）サービスのご
 紹介
DTSTART;TZID=Asia/Tokyo:20230216T140000
DTEND;TZID=Asia/Tokyo:20230216T143000
DTSTAMP:20260421T073821Z
CREATED:20230118T060044Z
DESCRIPTION:イベント詳細はこちら\nhttps://techplay.jp/event/88879
 6?utm_medium=referral&utm_source=ics&utm_campaign=ics\n\n漏えいした 
 ID/パスワードを使用した不正ログイン事件、事故は一
 向になくなる気配がありません。 安全・安心・便利な
 オンライン認証は、現代社会における課題の一つと言
 えます。\nFIDO（ファイド：Fast IDentity Online）は、パス
 ワードにかわる認証技術として今後業界の標準となり
 つつあります。\n\n今回ご紹介する 『Capy 生体認証ソリ
 ューション』 は、FIDO 認証の仕様である 「UAF」を活用
 した 純国産のクラウドサービスです。\n\n★本セミナ
 ーでは、その概要と最新の導入事例をご紹介します。\
 n\n※今回は自席で受講可能なWEBセミナー形式で実施い
 たします。\n\n▼▽セミナー概要▼▽\n\n【日  時】2023
 年2月16日（木）14:00～14:30（13:45 入室開始）\n\n【会  場
 】お客様自席のパソコン（Webブラウザ）\n\n【参加費】
 無料（事前登録制）\n\n【備　考】\n本セミナーはWebブ
 ラウザを利用頂き、セミナーサイトへアクセスし受講
 頂くセミナーです。\n当日はご案内するURLへアクセス
 して頂く形になります。受講頂く際の通信費はお客様
 のご負担となります。予めご了承下さい。\n\n※セミナ
 ーの内容につきましては、予告なく変更する可能性が
 ございますので、予めご了承ください。\n\n▼▽お申込
 みから参加までの流れ▼▽\n\n本セミナーはオンライン
 （Adobe Connect）にて実施いたします。\n\nまずは、お申
 し込みフォームから必要情報を記入の上、お申込みく
 ださい。\nお申し込み後、Doorkeeperより会場URLをご案内
 いたします。\nURLクリック後、【ゲスト】欄にお申し
 込み時にご登録された氏名を入力の上、セミナー室に
 お入り下さい。\nパスワードは不要です。\n\nセミナー
 当日までに事前接続テストをお試しください。\n\n※ブ
 ラウザーでの接続に問題がある場合\n\nその１：\nGoogle 
 Chrome、Firefox、IEなど、別のブラウザーで入室出来るか
 お試しください。\n\nその２：\nAdobe Connectのデスクトッ
 プアプリケーションをダウンロードいただき入室出来
 るかお試しください。\n\n【手順】\nブラウザー、もし
 くはアプリケーションを利用するかの確認画面の\n「Ad
 obe Connectアプリケーションをまだインストールしてい
 ませんか。ダウンロード」より、\nConnectSetup.exeをダウ
 ンロードし、インストールをお願いいたします。\n\n▼
 ▽お問い合わせ先▼▽\n\n株式会社サムライズ\nマーケ
 ティンググループ\nTEL: 03-5436-2042\nEmail: mkt_info@samuraiz.co.
 jp\n\n▼▽参加費▼▽\n\n無料\n\n▼▽注意事項▼▽\n\n※ 
 参加を辞退する場合は、詳細ページより申込のキャン
 セルをお願い致します。\n※ 無断キャンセル・欠席が
 続く場合、次回以降の参加をお断りさせていただく場
 合がございますのでご了承ください。\n\n▼▽個人情報
 保護方針について▼▽\n\n株式会社サムライズの個人情
 報の保護方針\n\nイベントにお申込みの前に必ずお読み
 ください。\n\n※セミナーの内容につきましては、予告
 なく変更する可能性がございますので、予めご了承く
 ださい。
LOCATION:オンライン
URL:https://techplay.jp/event/888796?utm_medium=referral&utm_source=ics&utm
 _campaign=ics
END:VEVENT
END:VCALENDAR
