BEGIN:VCALENDAR
VERSION:2.0
PRODID:-//https://techplay.jp//JP
CALSCALE:GREGORIAN
METHOD:PUBLISH
X-WR-CALDESC:【大阪会場で新年会！】LINEDC&LDGK 新年LT会【事
 例/ミニアプリ/bot開発Tips】
X-WR-CALNAME:【大阪会場で新年会！】LINEDC&LDGK 新年LT会【事
 例/ミニアプリ/bot開発Tips】
X-WR-TIMEZONE:Asia/Tokyo
BEGIN:VTIMEZONE
TZID:Asia/Tokyo
BEGIN:STANDARD
DTSTART:19700101T000000
TZOFFSETFROM:+0900
TZOFFSETTO:+0900
TZNAME:JST
END:STANDARD
END:VTIMEZONE
BEGIN:VEVENT
UID:889072@techplay.jp
SUMMARY:【大阪会場で新年会！】LINEDC&LDGK 新年LT会【事例/
 ミニアプリ/bot開発Tips】
DTSTART;TZID=Asia/Tokyo:20230202T190000
DTEND;TZID=Asia/Tokyo:20230202T210000
DTSTAMP:20260424T202457Z
CREATED:20230120T063802Z
DESCRIPTION:イベント詳細はこちら\nhttps://techplay.jp/event/88907
 2?utm_medium=referral&utm_source=ics&utm_campaign=ics\n\nイベント概
 要\n --大阪のLINEコミュニティの皆さん！久しぶりに集
 まりませんか？--\n長らく開催できていなかった大阪で
 のオフラインイベント。\n約3年ぶりの開催です！最新
 のLINE事例やTipsをネタに、近況やこの3年間の変化など
 も話しませんか？\nLINE Bot，ミニアプリ（LIFF）など、LI
 NE Platformに関係することであれば、どんな内容でも構
 いません。\nぜひ気軽な気持ちでLT登壇していただいて
 アウトプットの機会になれば幸いです！\n※ LTとは、Li
 ghtning Talk（ライトニング・トーク）の略で、5分以内く
 らいの短いプレゼンのことです。\n※ 飲食提供はあり
 ませんが、飲料の持ち込みは可とします。アルコール
 は不可です。マスクを着用していない状態での発言は
 お控え下さい。\n主催：LINE Developer Community & LINE Developer
  Group Kansai #LDGK\n日時・参加費\n\n日時：2023年2月2日（木
 ）\n開始時間：19:00開始\n終了時間：20:40ごろ\n\n※ 参加
 費：無料\nタイムテーブル\n適宜休憩を挟んだり、コメ
 ントや質疑に振り返りながら進める予定です。\n※順
 番は仮です\n\n\n\n時間\nやること\nタイトル\n\n\n\n\n18:40\
 n開場\n\n\n\n19:00\nオープニング\n\n\n\n19:10\nスペシャルマ
 ン\nLINEでもできるウクライナ避難民支援\n\n\n19:20\nブレ
 イブテクノロジー 加川\nLINE Bot で安否確認\n\n\n19:30\nObl
 ivion 佐藤\nLINEミニアプリ×スマートロックでスペース
 運営DX\n\n\n19:40\nボイスアップラボ コバヤシトール\nリ
 ッチメニューをStable Diffusionに作らせてみた話\n\n\n19:50\
 nLT5\n募集中\n\n\n20:00\nLT6\n募集中\n\n\n20:05\nTakSan (佐野)\n
 サービス終了予定の LINE CLOVA にラズパイを仕込んで改
 造してみた\n\n\n20:10\n懇親会(会場のみ)\n\n\n\n20:45\n記念
 撮影 & クロージング\n\n\n\n21:00\n完全撤収\n\n\n\n\n発表に
 ついて\nLT登壇を募集中です！初登壇も大歓迎！LT枠で
 お申し込みください。\n話す内容はLINEが関係している
 技術情報であればなんでもOKです。\nオンラインからで
 も登壇できます。\n\nLINEを一部に使っていれば何でもOK
 です。\nQiitaやブログなどに書かれたネタもOKです。\n
 プレゼン方法は自由です。(スライド、デモ、動画、顔
 出しの有無など)\nオンライン/オフラインどちらでも登
 壇可能です。(申込時にどちらが希望がフォームに回答
 ください)\nLINEのAPIに関係ない商品の営業活動は禁止し
 ます。\n事例紹介はウェルカムですが、技術関連の情
 報が主となるようご配慮をお願いいたします\n動画の
 アーカイブが残ります。ご了承ください。\n登壇者へ
 の諸連絡はFacebook Messengerを利用するため、Facebookのア
 カウントが必要です。申込時のアンケートでご回答く
 ださい（LT登壇者のみ）\n\nLINEにまつわるAPI\n\nMessaging A
 PI\nLINE Login\nLINE Front-end Framework\nLINE Pay\nLINE Things\nLINE Not
 ify\nClova Extension Kit\nなど\n\nオンライン参加方法\n\nYoutub
 e Liveで視聴できます\nURLは本ページの申し込み者向け
 情報、及びconnpassメールでご案内します。何度か同内
 容のメールを配信いたしますが、ご容赦ください。\n\n
 オフライン参加方法\n下記の会場にお越しください。\n
 アクセス\n梅田駅から徒歩5分ほどのレンタルスペース
 を借ります。\n詳細はメールでもお送りします。\n\n準
 備や片付けのできる範囲でのお手伝い、会場でのマナ
 ー遵守等、ご協力下さいますようお願い申し上げます
 。\n写真撮影および撮影した写真を公開する可能性が
 ありますのでご了承ください（非公開希望の方は当日
 にスタッフにお知らせいただければ、公開しないよう
 対応いたします）。\n\nLT MC\n\n立花 翔/LINE株式会社 Techn
 ical Evangelist\n登壇者参加方法\n\nオンライン登壇者の方
 はStreamyardで接続します。\n現地でLT をする方は自分の 
 PC をお持ちください。\nWi-Fi あります。\n\n感染症対策
 のお願い\n\nワクチンの接種と、マスクの着用が必要と
 なります。\n東京都のイベント開催等における必要な
 感染防止策に則った感染対策を実施します。\n緊急事
 態宣言などの行動制限措置が発表された場合、イベン
 トがキャンセルになる可能性があります。\n\nYoutube チ
 ャンネルへの登録よろしくおねがいします！\n\nコミュ
 ニティ行動規範（Code of Conduct)について\n本コミュニテ
 ィは参加する全ての方が不快な思いをすることなく、
 楽しんでいただくことを目的としております。\nその
 ために、以下のような行為は禁止されております。\n\n
 ヘイトスピーチ\n性的な言葉や画像、性別に言及した
 り、性別により受け取り方の変わる言葉や画像の使用\
 n侮辱や軽蔑的、中傷や他者を貶めるような発言\n他者
 のプライバシーや私的な情報の無許可での公開\nその
 他多様性への配慮を著しく欠く発言や行動\n\nハラスメ
 ントを受けた、と感じた方は以下までご連絡下さい。\
 n Twitter\nE-mail
LOCATION:大阪駅前第１ビル １１階１１８３号室 大阪府大
 阪市 北区梅田1-3-1 (大阪駅前第１ビル１１階１１８３
 号室)
URL:https://techplay.jp/event/889072?utm_medium=referral&utm_source=ics&utm
 _campaign=ics
END:VEVENT
END:VCALENDAR
