BEGIN:VCALENDAR
VERSION:2.0
PRODID:-//https://techplay.jp//JP
CALSCALE:GREGORIAN
METHOD:PUBLISH
X-WR-CALDESC:10X\, PKSHA Technology\, GENDAの開発組織の変革と挑
 戦
X-WR-CALNAME:10X\, PKSHA Technology\, GENDAの開発組織の変革と挑
 戦
X-WR-TIMEZONE:Asia/Tokyo
BEGIN:VTIMEZONE
TZID:Asia/Tokyo
BEGIN:STANDARD
DTSTART:19700101T000000
TZOFFSETFROM:+0900
TZOFFSETTO:+0900
TZNAME:JST
END:STANDARD
END:VTIMEZONE
BEGIN:VEVENT
UID:889080@techplay.jp
SUMMARY:10X\, PKSHA Technology\, GENDAの開発組織の変革と挑戦
DTSTART;TZID=Asia/Tokyo:20230216T190000
DTEND;TZID=Asia/Tokyo:20230216T201500
DTSTAMP:20260421T045020Z
CREATED:20230120T064005Z
DESCRIPTION:イベント詳細はこちら\nhttps://techplay.jp/event/88908
 0?utm_medium=referral&utm_source=ics&utm_campaign=ics\n\nMIDAS TECH STUDY
 (MTS)とは\n様々な会社のCTO・PM・エンジニアの方々をお
 招きし、パネルディスカッションやLTを通して知見や
 技術を学んでいきます。\nイベント内容\n今回のテーマ
 は「企業を急成長させていくためエンジニア組織編成
 」\n今回は急成長スタートアップである10X、PKSHA Technolo
 gy、GENDAのCTO\, VPoEの方々をお招きし、LT形式で語ってい
 ただきます！\nTopics\n\n優れた人材をどのように集め、
 採用していくか\n開発の効率と質を上げるための、エ
 ンジニアが本当に働きやすい環境づくり\n事業を成長
 させていくにあたった組織の重要性とは\n事業フェー
 ズごとの組織編成\n\nこんな方におすすめ！\n\nエンジ
 ニア組織の編成について考えているEMやVPoEの方々\n5→2
 0、20→50等の成長フェーズを迎えているエンジニアチ
 ームの方\n急成長企業において、エンジニアがどのよ
 うな働き方をしているか興味のある方\n\nタイムテーブ
 ル\nタイムテーブル、トークテーマは変更する場合が
 ございます。\n\n\n\n時間\nタイトル\nスピーカー\n\n\n\n\n
 19:00 - 19:05\nオープニング\n\n\n\n19:05 - 19:25\nグループ会
 社を横断したエンジニア組織の立ち上げと挑戦\n荒井 
 勇輔 氏\n\n\n19:25 - 19:45\n急成長する組織を支える人事制
 度とその変遷\n松江 宏樹 氏\n\n\n19:45 - 20:05\n領域が広い
 サービスの分割統治と開発ガバナンス\n石川 洋資 氏\n\
 n\n20:05 - 20:15\nエンディング\n\n\n\n20:15 - 21:30\n懇親会\n\n\
 n\n\n登壇者紹介\n\n株式会社10X Co-Founder\, 取締役CTO石川 
 洋資 氏@ _ishkawa\n面白法人カヤック、LINE、メルカリで
 ソフトウェアエンジニアとして複数のモバイルアプリ
 の立ち上げを経験。その後、メルカリで同僚だった矢
 本と10Xを創業し、CTOとしてプロダクト開発全般を担当
 する。\n\n\n株式会社PKSHA Technology 執行役員 VPoE松江 宏
 樹 氏@macs_6\nEコマース企業にてOSS分散ストレージの開
 発・運用やスマートフォンアプリ開発に従事。その後
 、スタートアップのCIOとして幅広くシステム開発に携
 わった後、2018年にPKSHA Technologyに入社。入社後はプロ
 ダクト・ソリューション開発のほか、ソフトウエアエ
 ンジニアのマネジメントに従事。\n\n\n株式会社GENDA VPoE
 荒井 勇輔 氏@arara_jp\n2006年ヤフー株式会社入社。Yahoo!
 コミック、Yahoo!ブックスの開発に従事。\n2011年株式会
 社VASILY入社。iOSアプリの開発を担当し、フロントエン
 ド開発事業部長としてフロントエンド開発を統括。\n20
 18年グループ会社統合により、株式会社ZOZOテクノロジ
 ーズに所属。テックリード、ZOZOTOWN iOSリーダーとして
 、同社のiOS組織開発を主導する。\n2021年10月株式会社GE
 NDA入社。VPoE兼プロダクト開発部部長に就任。\n開催概
 要\n\n開催日：2023年2月16日(木)\n時間：19:00 - 20:15\n協賛
 ：株式会社ミダスキャピタル\n参加費：無料\n形式：ハ
 イブリッド開催\n会場：ミダス乃木坂オフィス、YouTube 
 Live\n\n＊当日の内容によっては録画を公開しない場合
 があります。あらかじめご了承ください。\n会場参加(
 オフライン)について\nconnpassにて、オフライン参加を
 選んでお申込みください。\n会場：ミダス乃木坂オフ
 ィス\n開場時間：18:30\n所在地：〒107-0052　東京都港区
 赤坂8-11-37　いちご乃木坂ビル5階\nご参加に関してのお
 願い\n受付で申し込み時のお名前を確認させていただ
 きますので、「名刺2枚（内1枚は名札用）」をご準備
 ください。\nその際に受付表のご提示をお願いしてお
 ります。connpassのページから表示することが可能です
 ので、ご確認ください。\nまた、イベント後に登壇者
 と参加者の方を交えた懇親会を行います！\nそちらで
 、配信上では話しづらい内容等について深くお話しす
 る機会とさせていただきます。\n簡単なお食事も用意
 しておりますので是非そちらもご参加ください！（参
 加費無料、21時30分までを予定）\nオンライン参加につ
 いて\n事前にconnpassからオンライン参加を選んでお申込
 みください。\nYouTube Liveにて配信いたします。\nアンチ
 ハラスメントポリシー\nハラスメントには、性差、性
 同一性と表現、性的指向、障害、外見や身体的特徴、
 人権、宗教、公共な場での性的な画像や類する表現、 
 脅迫、ストーカ、望まない撮影や録音、不適切な接触
 、およびそれらに関連した不快な言動が含まれます。
 全ての利用者が快適に使っていただけるように、本イ
 ベントではこれらのハラスメント行為を許容しません
 。\n個人情報のお取り扱いについて\n\n株式会社ミダス
 キャピタル プライバシーポリシー\n\n注意事項\nイベン
 ト中に録画や撮影をし、記録や情報発信のために活用
 させていただく場合がございます。\n技術交流が目的
 の勉強会ですので、知識の共有および、参加者同士の
 交流を目的としない参加はお断りしています。\n参加
 目的が不適切だと判断される場合には、運営側で参加
 をキャンセルさせていただく場合がございます。
LOCATION:ミダス乃木坂オフィス 〒107-0052　東京都港区赤坂
 8-11-37　いちご乃木坂ビル5階
URL:https://techplay.jp/event/889080?utm_medium=referral&utm_source=ics&utm
 _campaign=ics
END:VEVENT
END:VCALENDAR
