BEGIN:VCALENDAR
VERSION:2.0
PRODID:-//https://techplay.jp//JP
CALSCALE:GREGORIAN
METHOD:PUBLISH
X-WR-CALDESC:ReactについてLT！ TechDLT Vol.8
X-WR-CALNAME:ReactについてLT！ TechDLT Vol.8
X-WR-TIMEZONE:Asia/Tokyo
BEGIN:VTIMEZONE
TZID:Asia/Tokyo
BEGIN:STANDARD
DTSTART:19700101T000000
TZOFFSETFROM:+0900
TZOFFSETTO:+0900
TZNAME:JST
END:STANDARD
END:VTIMEZONE
BEGIN:VEVENT
UID:889162@techplay.jp
SUMMARY:ReactについてLT！ TechDLT Vol.8
DTSTART;TZID=Asia/Tokyo:20230221T190000
DTEND;TZID=Asia/Tokyo:20230221T200000
DTSTAMP:20260424T202656Z
CREATED:20230120T230524Z
DESCRIPTION:イベント詳細はこちら\nhttps://techplay.jp/event/88916
 2?utm_medium=referral&utm_source=ics&utm_campaign=ics\n\n当日の開催
 について\n当日はオンライン開催となります。\n参加者
 の方には、上の欄「参加者への情報」に参加用のURLが
 表示されます。お申し込みの上、当日参加前に改めて
 ご確認ください。URLのメール送付はいたしませんので
 ご了承ください。\n毎回一つのテーマに絞ってLTするイ
 ベント！イベント概要\nTechDLTは、毎回一つのテーマに
 絞り、テーマに対してのLTを行います。テーマはCI/CD・
 Firebase・Nuxt.jsなどの技術要素に絞ったものや、開発手
 法・プロジェクトマネジメントなどの開発に関わる考
 え方になるもの、要件定義や課題分析手法など完全な
 上流工程なものなどを予定しています。\n今回のテー
 マは「React」！\n今回はWebフロントエンド開発用フレー
 クワーク「React」をテーマにLTを行います。↓下記のよ
 うな内容のLT登壇を募集しております！(あくまで一例
 なので他の内容でももちろん歓迎です！)\n\n初めてReact
 を触ってみた感想\nNext.jsの僕だけが知っているTips\nVue
 とReactの違いをまとめてみた\n\n上記他にも、自由でゆ
 るふわなネタをお待ちしてます！\nタイムスケジュー
 ル(登壇順は仮のものです)\n\n\n\n時間\n内容\n\n\n\n\n19:00
 ～19:05\nオープニング・このイベントについて\n\n\n19:05
 ～19:20\nバックエンドエンジニア(Vue経験あり)が初めてR
 eactを触って感じたこと (kawazu)\n\n\n19:20～19:35\nbulletproof-
 react 写経してみた (TK san)\n\n\n19:35～19:50\nLT枠\n\n\n19:50～
 20:00\nクロージング・アンケート\n\n\n20:00～20:15\n歓談(
 登壇者のみ)\n\n\n\nLTの登壇時間は、LT自体を5-10分、質
 疑応答を5分という時間配分の予定です。登壇者の数に
 よって前後はしますが、目安にしていただけたらと思
 います。参加者確定の伴いスケジュールは適宜更新さ
 せていただきます。\n今までの様子\nTechDLT Vol.1 CI/CDに
 ついて\nhttps://youtu.be/uIwaWubSFsg\nTechDLT Vol.2 スクラム開発
 について\nhttps://youtu.be/B-W2OE7XG4Q\nTechDLT Vol.3 ビジネスフ
 レームワークについて\nhttps://youtu.be/jdfukPY5Snw\n推しの
 技術についてLT！ TechnicalDirectorMeetup Vol.1\nhttps://youtu.be/Q
 voSp-fVLTI?t=2371\n上流工程なんでもLT！ TechnicalDirectorMeetup 
 Vol.2\nhttps://youtu.be/zggIY7Xvh8E?t=1442\n新規事業企画LT！ Techn
 icalDirectorMeetup Vol.3\nhttps://youtu.be/jltpJ2OC4e0?t=150\nシステ
 ム思考ベースの問題解決法「システミング」体験ワー
 クショップ\n基礎編：https://youtu.be/g8SSZJ4_CHI?t=1558\n応用
 編：https://youtu.be/HKJejuGdRE0?t=1710\nFacebookグループについ
 て\n開催前後の交流やイベントの通知用に、Facebookグル
 ープを作っています。是非ご参加をよろしくお願いい
 たします。\nhttps://www.facebook.com/groups/260222058791377\n留意
 事項\n\n※講演内容やタイムスケジュールは変更となる
 可能性がございます。\n※当日のイベント内容は後日
 任意の媒体にて公開させて頂くことがあります。\n※
 イベントは、止むを得ず中止させて頂く場合がござい
 ます。　その際は、本サイトからのメッセージよりご
 連絡させて頂きますのでご確認をお願い致します。\n
 ※他人を攻撃するような発言・行為は禁止です。違反
 行為が見られた場合はコミュニティへの参加を禁止さ
 せていただく場合がございます。\n※お申込み後運営
 の都合により、ご参加をキャンセルさせていただく場
 合がございます。\n
LOCATION:オンライン
URL:https://techplay.jp/event/889162?utm_medium=referral&utm_source=ics&utm
 _campaign=ics
END:VEVENT
END:VCALENDAR
