BEGIN:VCALENDAR
VERSION:2.0
PRODID:-//https://techplay.jp//JP
CALSCALE:GREGORIAN
METHOD:PUBLISH
X-WR-CALDESC:要件定義についてLT！ TechDLT Vol.9
X-WR-CALNAME:要件定義についてLT！ TechDLT Vol.9
X-WR-TIMEZONE:Asia/Tokyo
BEGIN:VTIMEZONE
TZID:Asia/Tokyo
BEGIN:STANDARD
DTSTART:19700101T000000
TZOFFSETFROM:+0900
TZOFFSETTO:+0900
TZNAME:JST
END:STANDARD
END:VTIMEZONE
BEGIN:VEVENT
UID:889163@techplay.jp
SUMMARY:要件定義についてLT！ TechDLT Vol.9
DTSTART;TZID=Asia/Tokyo:20230323T190000
DTEND;TZID=Asia/Tokyo:20230323T203000
DTSTAMP:20260424T161740Z
CREATED:20230120T231224Z
DESCRIPTION:イベント詳細はこちら\nhttps://techplay.jp/event/88916
 3?utm_medium=referral&utm_source=ics&utm_campaign=ics\n\n当日の開催
 について\n当日はオンライン開催となります。\n参加者
 の方には、上の欄「参加者への情報」に参加用のURLが
 表示されます。お申し込みの上、当日参加前に改めて
 ご確認ください。URLのメール送付はいたしませんので
 ご了承ください。\n毎回一つのテーマに絞ってLTするイ
 ベント！イベント概要\nTechDLTは、毎回一つのテーマに
 絞り、テーマに対してのLTを行います。テーマはCI/CD・
 Firebase・Nuxt.jsなどの技術要素に絞ったものや、開発手
 法・プロジェクトマネジメントなどの開発に関わる考
 え方になるもの、要件定義や課題分析手法など完全な
 上流工程なものなどを予定しています。\n今回のテー
 マは「要件定義」！\n今回は要件定義をテーマにLTを行
 います。↓下記のような内容のLT登壇を募集しており
 ます！(あくまで一例なので他の内容でももちろん歓迎
 です！)\n\n初の上流工程担当で四苦八苦した話\n自分の
 考える要件定義でやった方がいい・気をつけた方がい
 いこと\n初めてPMをやってみて戸惑ったこと\n\n上記他
 にも、自由でゆるふわなネタをお待ちしてます！\nタ
 イムスケジュール(登壇順は仮のものです)\n\n\n\n時間\n
 内容\n\n\n\n\n19:00～19:05\nオープニング・このイベントに
 ついて\n\n\n19:05～19:20\n建設会社IT職員の要件定義～初PM
 の苦労～ (takami-s san)\n\n\n19:20～19:35\nテーマ未定 (yu_mi082
 5 san)\n\n\n19:35～19:50\n要件定義のしくじりでシステム統
 合大失敗 (おーや san)\n\n\n19:50～20:05\nモデルベースな要
 件定義の実例紹介 (miure san)\n\n\n20:05～20:10\nクロージン
 グ・アンケート\n\n\n20:10～20:30\n歓談(登壇者のみ)\n\n\n\n
 LTの登壇時間は、LT自体を5-10分、質疑応答を5分という
 時間配分の予定です。登壇者の数によって前後はしま
 すが、目安にしていただけたらと思います。参加者確
 定の伴いスケジュールは適宜更新させていただきます
 。\n今までの様子\nTechDLT Vol.1 CI/CDについて\nhttps://youtu.b
 e/uIwaWubSFsg\nTechDLT Vol.2 スクラム開発について\nhttps://yout
 u.be/B-W2OE7XG4Q\nTechDLT Vol.3 ビジネスフレームワークにつ
 いて\nhttps://youtu.be/jdfukPY5Snw\n推しの技術についてLT！ Te
 chnicalDirectorMeetup Vol.1\nhttps://youtu.be/QvoSp-fVLTI?t=2371\n上流
 工程なんでもLT！ TechnicalDirectorMeetup Vol.2\nhttps://youtu.be/z
 ggIY7Xvh8E?t=1442\n新規事業企画LT！ TechnicalDirectorMeetup Vol.3\
 nhttps://youtu.be/jltpJ2OC4e0?t=150\nシステム思考ベースの問題
 解決法「システミング」体験ワークショップ\n基礎編
 ：https://youtu.be/g8SSZJ4_CHI?t=1558\n応用編：https://youtu.be/HKJe
 juGdRE0?t=1710\nFacebookグループについて\n開催前後の交流
 やイベントの通知用に、Facebookグループを作っていま
 す。是非ご参加をよろしくお願いいたします。\nhttps://
 www.facebook.com/groups/260222058791377\n留意事項\n\n※講演内容
 やタイムスケジュールは変更となる可能性がございま
 す。\n※当日のイベント内容は後日任意の媒体にて公
 開させて頂くことがあります。\n※イベントは、止む
 を得ず中止させて頂く場合がございます。　その際は
 、本サイトからのメッセージよりご連絡させて頂きま
 すのでご確認をお願い致します。\n※他人を攻撃する
 ような発言・行為は禁止です。違反行為が見られた場
 合はコミュニティへの参加を禁止させていただく場合
 がございます。\n※お申込み後運営の都合により、ご
 参加をキャンセルさせていただく場合がございます。\
 n
LOCATION:オンライン
URL:https://techplay.jp/event/889163?utm_medium=referral&utm_source=ics&utm
 _campaign=ics
END:VEVENT
END:VCALENDAR
