BEGIN:VCALENDAR
VERSION:2.0
PRODID:-//https://techplay.jp//JP
CALSCALE:GREGORIAN
METHOD:PUBLISH
X-WR-CALDESC:中部Tableauわいわい会 （オフライン）#14　CODE B
 ASE NAGOYAに集合！！
X-WR-CALNAME:中部Tableauわいわい会 （オフライン）#14　CODE B
 ASE NAGOYAに集合！！
X-WR-TIMEZONE:Asia/Tokyo
BEGIN:VTIMEZONE
TZID:Asia/Tokyo
BEGIN:STANDARD
DTSTART:19700101T000000
TZOFFSETFROM:+0900
TZOFFSETTO:+0900
TZNAME:JST
END:STANDARD
END:VTIMEZONE
BEGIN:VEVENT
UID:889516@techplay.jp
SUMMARY:中部Tableauわいわい会 （オフライン）#14　CODE BASE N
 AGOYAに集合！！
DTSTART;TZID=Asia/Tokyo:20230217T183000
DTEND;TZID=Asia/Tokyo:20230217T200000
DTSTAMP:20260420T111917Z
CREATED:20230124T002837Z
DESCRIPTION:イベント詳細はこちら\nhttps://techplay.jp/event/88951
 6?utm_medium=referral&utm_source=ics&utm_campaign=ics\n\n「Tableauわい
 わい会(オフライン)」開催します！\n\nオフライン開催
 について\nワイワイ会は、オフラインとオンラインで
 交互開催しております。遠方のみなさま、今回は申し
 訳ございません。次回はオンラインでわいわい会を開
 催予定です。\n概要\n・Tableauでやりたいことはあるけ
 ど周りに聞ける人がいない・他の人はどうやってTableau
 を活用しているんだろう・Tableau PublicにはかっこいいVi
 zがあるけど、もっと実用的なVizを見てみたい\nそんな
 悩みを抱えている方が中部Tableauユーザー会にご参加い
 ただいた方にもいらっしゃいましたので、この度、Tabl
 eauわいわい会を開催することといたしました！参加者
 でわいわいしながら仕事・趣味を問わず、普段の仕事
 の内容も問わず、Tableauに関することを参加者で話し合
 いましょう！突発的なLTの実施や、作成したVizについ
 ての発表を行ってもOKです！\n開催日時2023年2月17日（
 金） 18:30開始（18時00分受付開始）～20:00終了予定\n会
 場CODE BASE NAGOYA （名古屋市中区葵）最寄り駅：新栄町\
 nタイムスケジュール\n\n\n\n時間\n内容\n\n\n\n\n18:00～18:30
 \n受付\n\n\n18:30～19:45\nイベント開始（基本自由にわい
 わい）\n\n\n19:45～20:00\n片付け解散\n\n\n\n参加対象\n\nTabl
 eauについてみんなでワイワイしたい人\nTableauを触って
 る人、触りたい人、興味がある人\n\n参加費無料\n持ち
 物\n\n名刺を２枚ご用意ください\n\n参加者へのお願い\n
 ・マスクの着用を必須とさせて頂きます。事務局での
 マスクはご用意いたしません。持参をお願いします。
 ・体温37.5℃以上の方、体調がすぐれない方や風邪の症
 状、強いだるさ、息苦しさがある方はご来場をお控え
 ください。・CODE  BASE NAGOYAのルールとして入室時に連
 絡先をGoogleフォームにてご記入頂くことになっており
 ます。（TECH PLAYのアンケートとは別にご記入して頂く
 ことになります）・その他、会場が定める以下の感染
 症対策ルールを順守して頂くようお願いします。会場
 のCODE BASE NAGOYAの感染症対策ルール\n・Tableauの特性上、
 社外秘データを取り扱っている場合も多くあるかと思
 いますので、社外の方に見せる場合にはテストデータ
 を用意する等、ご注意願います。\n・エントリー時に
 アンケートにご協力ください。   ※個人情報利用に
 ついてのお断り      申込時にご提供いただいた情
 報は、主催者・JTUG・サポート企業にて、イベント受付
 管理や各種ご案内(サービス・イベント等)に利用させ
 ていただきます。　・ リクルーティング、勧誘など、
 採用目的でのイベント参加はお断りしております。\n
 ・ 欠席される場合は、お手数ですが速やかにキャンセ
 ル処理をお願い致します。\n・イベント終了後にアン
 ケートへのご協力をお願いいたします。\n・イベント
 当日の写真撮影及び録音はご遠慮ください。
LOCATION:CODE BASE NAGOYA 愛知県名古屋市中区葵1-23-14 プロト
 葵ビル6F
URL:https://techplay.jp/event/889516?utm_medium=referral&utm_source=ics&utm
 _campaign=ics
END:VEVENT
END:VCALENDAR
