BEGIN:VCALENDAR
VERSION:2.0
PRODID:-//https://techplay.jp//JP
CALSCALE:GREGORIAN
METHOD:PUBLISH
X-WR-CALDESC: 【情シス担当様向け】ランサムウェア、Emotet
 等　進化するセキュリティ脅威に対して企業に必要な
 備えとは？ ～AI等を活用した未知の脅威にも対策でき
 る”Vade for M365”、”DeepInstinct”のご紹介～
X-WR-CALNAME: 【情シス担当様向け】ランサムウェア、Emotet
 等　進化するセキュリティ脅威に対して企業に必要な
 備えとは？ ～AI等を活用した未知の脅威にも対策でき
 る”Vade for M365”、”DeepInstinct”のご紹介～
X-WR-TIMEZONE:Asia/Tokyo
BEGIN:VTIMEZONE
TZID:Asia/Tokyo
BEGIN:STANDARD
DTSTART:19700101T000000
TZOFFSETFROM:+0900
TZOFFSETTO:+0900
TZNAME:JST
END:STANDARD
END:VTIMEZONE
BEGIN:VEVENT
UID:889982@techplay.jp
SUMMARY: 【情シス担当様向け】ランサムウェア、Emotet等　
 進化するセキュリティ脅威に対して企業に必要な備え
 とは？ ～AI等を活用した未知の脅威にも対策できる”V
 ade for M365”、”DeepInstinct”のご紹介～
DTSTART;TZID=Asia/Tokyo:20230221T100000
DTEND;TZID=Asia/Tokyo:20230221T110000
DTSTAMP:20260422T211129Z
CREATED:20230127T060014Z
DESCRIPTION:イベント詳細はこちら\nhttps://techplay.jp/event/88998
 2?utm_medium=referral&utm_source=ics&utm_campaign=ics\n\n本セミナー
 は終了いたしました。\n\nたくさんのお申込とご参加を
 いただき誠にありがとうございました。\n\n資料は、セ
 ミナー開催報告ページ で公開しております。\n\n（2023-
 03-23公開予定）\n\n\n\n本セミナーはWebセミナーです\n\n
 ツールはZoomを使います。URLは直前にメールにてご連絡
 いたします。\n\nなお、「osslabo.com」「majisemi.com」から
 のメールが迷惑メールとならないよう、メールの設定
 をご確認下さい。\n\nランサムウェアやEmotet等の被害が
 続いている\n\nランサムウェアやEmotet等のサイバー攻撃
 の被害が後を絶ちません。\n\n企業はこれらの脅威に対
 して「どの経路からの被害が多いのか把握し確実に対
 策すること」、「仮にその対策をすり抜けた場合にも
 備えること」が重要となってきます。\n\nIPAの「情報セ
 キュリティ10大脅威2022」を見ると、約90％以上がメー
 ルをきっかけとしています。つまり、メールセキュリ
 ティ対策は企業にとって必須であり、またその対策を
 すり抜けた脅威にも備える必要があります。\n\n進化す
 るセキュリティリスク、どう防げばよいのか？\n\nサイ
 バー攻撃も常に進化し続けています。そのため、既知
 の脅威だけでなく、未知のマルウェア等にもどう備え
 るかが重要となってきます。\n\nしかし、従来のメール
 セキュリティは未知のマルウェアには弱く、すり抜け
 た脅威をEDR(Endpoint Detection and Response)等で検知したとし
 ても、少なからず被害が出てしまいます。\n\n企業は未
 知のマルウェア等の進化するセキュリティリスクに対
 してどのように対策すれば良いのでしょうか？\n\nセキ
 ュリティリスクを俯瞰的に捉え、未知のリスクにも効
 果的な対策をご紹介\n\n本セミナーでは、昨今のサイバ
 ー攻撃のトレンドと被害を受けているケースについて
 解説すると共に、未知のマルウェア等にどのように対
 策すべきかについて解説致します。\n\n具体的な対策と
 して、AI等を活用した”Vade for M365”、”DeepInstinct”に
 ついてご紹介致します。\n\n被害を受けているケースを
 把握し効果的な対策を講じたい、未知の脅威にどのよ
 うに対策すべきか等お悩みの方は是非本セミナーにご
 参加ください。\n\n講演プログラム\n\n09:45～10:00　受付\
 n\n10:00～10:05　オープニング（マジセミ）\n\n10:05～10:10
 　オープニング（高千穂交易）\n\n高千穂交易株式会社
 　マーケティング戦略推進部　小島 浩史\n\n10:10～10:30
 　世界一狙われやすい、Microsoft365メールを保護する「V
 ade for M365」を解説\n\nメールによるサイバー攻撃の高度
 化・複雑化が短期間で進む中、未知の脅威への対策は
 必須です。本セミナーでは「Microsoft365メールセキュリ
 ティ」をテーマに、最新のメールセキュリティ課題、
 未知の脅威を防ぐ方法を解説いたします。\n\nVade Japan
 株式会社　Channel Sales Manager  清水 俊\n\n10:30～10:50　デ
 ィープラーニングを活用した予測・予防型セキュリテ
 ィソフトDeep Instinctのご紹介\n\n高度化する脅威に対し
 て、従来型のアンチウイルスソフトではもう対応がで
 きなくなっています。\n\nディープラーニングの技術を
 活用した新しいセキュリティソフトのDeep Instinctが企業
 を狙う未知のマルウェアからどのようにデバイスを守
 るのか、製品デモンストレーションを交えてご紹介し
 ていきます。\n\nディープインスティンクト株式会社　
 セールスエンジニアリング部セールスエンジニア 寺川
 博章\n\n10:50～11:00　質疑応答\n\n主催\n\n高千穂交易株式
 会社（プライバシー・ポリシー）\n\n共催\n\nVade Japan株
 式会社（プライバシー・ポリシー）\n\nディープインス
 ティンクト株式会社（プライバシー・ポリシー）\n\n協
 力\n\n株式会社オープンソース活用研究所（プライバシ
 ー・ポリシー）\n\nマジセミ株式会社（プライバシー・
 ポリシー）\n\n当日会場アクセスに関するお問合せ\n\nzo
 om@osslabo.com\n\nセミナー事務局\n\nマジセミ株式会社（プ
 ライバシー・ポリシー）\n\n\n※以下の方について、当
 社判断によりご参加をご遠慮頂く場合がございます。
 予めご了承下さい。\n\n・講演企業の競合となる商品・
 サービスを提供している企業、同業の企業、及びその
 グループ企業・関連企業の方\n・個人や個人事業主の
 方\n・海外から参加される方\n・日本に活動拠点が無い
 企業の方\n・その他、弊社及び講演企業が不適切と判
 断した企業・個人の方\n\n※申込が多数の場合、弊社抽
 選にてご参加をご遠慮頂く場合がございますので、予
 めご了承ください。\n\n※本コミュニティにてご提示い
 ただいた情報、及び、申込時にご記載頂いた内容は、
 マジセミ株式会社にて収集し、マジセミ株式会社／オ
 ープンソース活用研究所、及び、主催・共催・協賛・
 協力・講演の各企業へ提供します。共催・協賛・協力
 ・講演の各企業へは、主催企業を通して提供する場合
 があります。またプライバシーポリシーに定めがある
 場合は主催・共催・協賛・協力・講演の委託先にマジ
 セミ株式会社から直接提供する場合があります。ご記
 入頂いた個人情報は、マジセミ株式会社／株式会社オ
 ープンソース活用研究所及び主催・共催・協賛・協力
 ・講演企業の各プライバシーポリシーに従って厳重に
 管理し、各社のサービス、製品、セミナー、イベント
 などのご案内に使用させて頂き、また各社のメルマガ
 に登録させていただきます。ご記入頂いた個人情報は
 、法で定める場合や各社のプラバシーポリシーに特別
 な記載がある場合を除きご本人の同意を得ることなく
 第三者へ提供いたしません。利用目的遂行のため個人
 情報の取扱いを外部に委託する場合は、委託した個人
 情報の安全管理が図られるように、委託をする各社が
 定めた基準を満たす委託先を選定し、委託先に対して
 必要かつ適切な監督を行います。 お客様の個人情報に
 関する開示等は、お申し出頂いた方がご本人（代理人
 ）であることを確認した上で、各社において合理的な
 期間および範囲で対応いたします。開示等の手続き、
 個人情報の取扱いに関するお問い合わせは下記のお問
 い合わせ窓口へご連絡下さい。\n\n〔お問合せ先　及び
 　個人情報保護管理者〕　マジセミ株式会社 個人情報
 保護管理者　連絡先：03-6721-8548
LOCATION:オンライン
URL:https://techplay.jp/event/889982?utm_medium=referral&utm_source=ics&utm
 _campaign=ics
END:VEVENT
END:VCALENDAR
