BEGIN:VCALENDAR
VERSION:2.0
PRODID:-//https://techplay.jp//JP
CALSCALE:GREGORIAN
METHOD:PUBLISH
X-WR-CALDESC:あすもの研online 2023/1月度ミートアップ
X-WR-CALNAME:あすもの研online 2023/1月度ミートアップ
X-WR-TIMEZONE:Asia/Tokyo
BEGIN:VTIMEZONE
TZID:Asia/Tokyo
BEGIN:STANDARD
DTSTART:19700101T000000
TZOFFSETFROM:+0900
TZOFFSETTO:+0900
TZNAME:JST
END:STANDARD
END:VTIMEZONE
BEGIN:VEVENT
UID:890000@techplay.jp
SUMMARY:あすもの研online 2023/1月度ミートアップ
DTSTART;TZID=Asia/Tokyo:20230201T203000
DTEND;TZID=Asia/Tokyo:20230201T213000
DTSTAMP:20260423T101639Z
CREATED:20230127T063721Z
DESCRIPTION:イベント詳細はこちら\nhttps://techplay.jp/event/89000
 0?utm_medium=referral&utm_source=ics&utm_campaign=ics\n\nあすもの研
 オンライン\n新しい「ものづくり、ことづくり」につ
 ながるアクティビティ(ネタ)を探す、ゆるい勉強会で
 す。\n工作、DIY、プログラミングに限らず、「何か作
 ってみた、やってみた、(失敗してみた)」なら\n話題は
 何でもOKです。\n作ってみた製作物や製作技術、イベン
 ト参加報告、最近の流行の紹介など\nみんなで共有し
 ましょう。\n接続先\nTeams会議\n会社のTeams会議使うよう
 にしました。時間制限なくて安心！\n発表したい人\n発
 表資料に発表タイトル、発表者名を登録してください
 。\n(URLはダミーで可)\n運営のほうでタイムテーブルに
 反映します。\nタイムテーブル(仮)\n\n\n\n時間\n発表者\n
 内容\n\n\n\n\n20:30\n常田\nKiCad ver7 が出てるはずなので試
 してみよう。\n\n\n21:30\n\nクロージング\n\n\n\n主催\n富士
 通株式会社 常田 裕士 <tokita.hiroshi@jp.fujitsu.com>\n\n\n諸注
 意\nイベント内容は一部変更になる可能性がございま
 す。\nお申込後運営都合によりご参加をキャンセルさ
 せて頂く場合がございます。予めご了承頂けますよう
 お願いいたします。\n
LOCATION:オンライン オンライン
URL:https://techplay.jp/event/890000?utm_medium=referral&utm_source=ics&utm
 _campaign=ics
END:VEVENT
END:VCALENDAR
