BEGIN:VCALENDAR
VERSION:2.0
PRODID:-//https://techplay.jp//JP
CALSCALE:GREGORIAN
METHOD:PUBLISH
X-WR-CALDESC:2/16（木）情報システム部門の方向け クライド
 ファイルサーバー基礎＆事例紹介ウェビナー
X-WR-CALNAME:2/16（木）情報システム部門の方向け クライド
 ファイルサーバー基礎＆事例紹介ウェビナー
X-WR-TIMEZONE:Asia/Tokyo
BEGIN:VTIMEZONE
TZID:Asia/Tokyo
BEGIN:STANDARD
DTSTART:19700101T000000
TZOFFSETFROM:+0900
TZOFFSETTO:+0900
TZNAME:JST
END:STANDARD
END:VTIMEZONE
BEGIN:VEVENT
UID:890035@techplay.jp
SUMMARY:2/16（木）情報システム部門の方向け クライドフ
 ァイルサーバー基礎＆事例紹介ウェビナー
DTSTART;TZID=Asia/Tokyo:20230216T150000
DTEND;TZID=Asia/Tokyo:20230216T160000
DTSTAMP:20260424T005901Z
CREATED:20230127T094515Z
DESCRIPTION:イベント詳細はこちら\nhttps://techplay.jp/event/89003
 5?utm_medium=referral&utm_source=ics&utm_campaign=ics\n\n2/16（木）情
 報システム部門の方向け クライドファイルサーバー基
 礎＆事例紹介ウェビナー\n概要\n株式会社TOKAIコミュニ
 ケーションズは、2023年2月16日(木)に情報システム部門
 の方向けの、クラウドファイルサーバー基礎＆事例紹
 介ウェビナーを開催いたします。\n突然ですが、社内
 ファイルサーバーの運用管理を楽にしたいと感じたこ
 とはありませんか？オンプレミスのサーバー管理には
 サーバールームの確保、空調設備の管理、保守切れへ
 の対応、機器故障時の交換対応など、その運用業務は
 膨大です。それに加えてファイルサーバーの場合、ス
 トレージ残容量の管理と容量枯渇に備えたディスク増
 設、万が一に備えたデータ保護やバックアップなど、
 運用管理は大変なのに何かあった時の社内への影響は
 甚大です。だからこそ、ファイルサーバーの運用を見
 直したくてもなかなか踏み切れない方も多いと思いま
 す。\n今回のセミナーでは、AWSの知見がない方でも、
 自社の環境に合致したサービスを見つけられるよう、A
 WSが提供しているクラウドファイルサーバーサービス
 の特長と構築例に焦点をあててご紹介します。また導
 入イメージをもてるよう、当社のクラウドファイルサ
 ーバー導入事例とそのメリットも、併せてご紹介しま
 す。\n数あるクラウドファイルサーバーサービスの中
 から、自社の環境に合うサービスを理解し、発見でき
 るセミナーです。\n・オンプレミス環境からクラウド
 環境へファイルサーバーの移行をお考えの方　（運用
 管理の負荷を軽減したい、ストレージ容量のひっ迫か
 ら解放されたい）・すぐにクラウドファイルサーバー
 を利用したい方　（半導体不足によるファイルサーバ
 ーの納期を待っていられない、大容量データの保存先
 に困っている）・AWSが提供しているクラウドファイル
 サーバーサービスについて知りたい方　（AWSの基礎知
 識を勉強したい、クラウドファイルサーバーの提案力
 を身に着けたい）\nタイムスケジュール\n\n\n\n時間\n内
 容\n\n\n\n\n14:45～15:00\n受付開始\n\n\n15:00～15:05\n講演開始
 のご案内\n\n\n15:05～15:35\nAWSで実現するクラウドファイ
 ルサーバーの活用選択のポイント講師：アマゾン ウェ
 ブ サービス ジャパン合同会社\n\n\n15:35～15:55\n実際に
 クラウドファイルサーバーを導入してみた！～社内シ
 ステムのクラウド化のポイントとは？～講師：株式会
 社TOKAIコミュニケーションズ\n\n\n15:55～16:00\n講演終了
 のご案内\n\n\n\n参加費\n無料\n参加方法\n申込ページか
 らお申込みをお願いします。※お申込み期限　2月16日
 （木）14:30まで\nZoomウェビナーを使用し、開催します
 。事前にZoomウェビナーにアクセスできるブラウザ環境
 （Google Chrome、Mozilla Firefox）を準備いただき、環境チェ
 ックをお願いします。（環境チェックURL　 https://zoom.us
 /test）\n※同業他社の方のお申込み/ご参加はお断りし
 ております。\n共催\n株式会社TOKAIコミュニケーション
 ズアマゾン ウェブ サービス ジャパン合同会社\n注意
 事項\n\nリクルーティング、勧誘など、採用目的でのイ
 ベント参加はお断りしております。\nキャンセル待ち
 ・補欠・落選の方はご参加いただくことが出来ません
 のでご了承ください。\n欠席される場合は、お手数で
 すが速やかにキャンセル処理をお願い致します。\n無
 断キャンセルや欠席が続く場合、次回以降の参加をお
 断りさせていただく場合がございます。\n申込時アン
 ケートを正確に回答頂けていない場合、個別にご連絡
 させていただく場合がございます。\n
LOCATION:オンライン
URL:https://techplay.jp/event/890035?utm_medium=referral&utm_source=ics&utm
 _campaign=ics
END:VEVENT
END:VCALENDAR
