BEGIN:VCALENDAR
VERSION:2.0
PRODID:-//https://techplay.jp//JP
CALSCALE:GREGORIAN
METHOD:PUBLISH
X-WR-CALDESC:コンパイラ　第２版（A.V.エイホ）（Skype上）
X-WR-CALNAME:コンパイラ　第２版（A.V.エイホ）（Skype上）
X-WR-TIMEZONE:Asia/Tokyo
BEGIN:VTIMEZONE
TZID:Asia/Tokyo
BEGIN:STANDARD
DTSTART:19700101T000000
TZOFFSETFROM:+0900
TZOFFSETTO:+0900
TZNAME:JST
END:STANDARD
END:VTIMEZONE
BEGIN:VEVENT
UID:890201@techplay.jp
SUMMARY:コンパイラ　第２版（A.V.エイホ）（Skype上）
DTSTART;TZID=Asia/Tokyo:20230201T220000
DTEND;TZID=Asia/Tokyo:20230201T230000
DTSTAMP:20260424T042007Z
CREATED:20230129T063831Z
DESCRIPTION:イベント詳細はこちら\nhttps://techplay.jp/event/89020
 1?utm_medium=referral&utm_source=ics&utm_campaign=ics\n\nA.V.エイホの
 「コンパイラ」読書会を開催します。  \n教科書は以下
 のものを使用します。\n「コンパイラ　第２版　A.V.エ
 イホ他」\nhttps://www.amazon.co.jp/%E3%82%B3%E3%83%B3%E3%83%91%E3%82%
 A4%E3%83%A9%E2%80%95%E5%8E%9F%E7%90%86%E3%83%BB%E6%8A%80%E6%B3%95%E3%83%B
 B%E3%83%84%E3%83%BC%E3%83%AB-Information-Computing-V-%E3%82%A8%E3%82%A4%E
 3%83%9B/dp/478191229X/\n参加されたい方はconnpassで登録の上
 、Skypeをインストールの上以下よりご入室ください。\n
 https://join.skype.com/p204WDd52qke\nDiscordサーバもあります。\n
 https://discord.gg/VfCVMXa\n初めからやります
LOCATION:オンライングループ（パフォーマンス最適化） 
 オンライン
URL:https://techplay.jp/event/890201?utm_medium=referral&utm_source=ics&utm
 _campaign=ics
END:VEVENT
END:VCALENDAR
