BEGIN:VCALENDAR
VERSION:2.0
PRODID:-//https://techplay.jp//JP
CALSCALE:GREGORIAN
METHOD:PUBLISH
X-WR-CALDESC:［無料］ライブ配信機能を実装したい！それ
 なら、Amazon IVS や Agoraで始めませんか？
X-WR-CALNAME:［無料］ライブ配信機能を実装したい！それ
 なら、Amazon IVS や Agoraで始めませんか？
X-WR-TIMEZONE:Asia/Tokyo
BEGIN:VTIMEZONE
TZID:Asia/Tokyo
BEGIN:STANDARD
DTSTART:19700101T000000
TZOFFSETFROM:+0900
TZOFFSETTO:+0900
TZNAME:JST
END:STANDARD
END:VTIMEZONE
BEGIN:VEVENT
UID:890213@techplay.jp
SUMMARY:［無料］ライブ配信機能を実装したい！それなら
 、Amazon IVS や Agoraで始めませんか？
DTSTART;TZID=Asia/Tokyo:20230216T180000
DTEND;TZID=Asia/Tokyo:20230216T190000
DTSTAMP:20260419T221735Z
CREATED:20230129T064340Z
DESCRIPTION:イベント詳細はこちら\nhttps://techplay.jp/event/89021
 3?utm_medium=referral&utm_source=ics&utm_campaign=ics\n\nライブ配信
 機能を実装したい！それなら、Amazon IVS や Agoraで始め
 ませんか？\nAmazon IVS や Agoraを使えば、低遅延の動画サ
 ービスを簡単に実現！\nクライアント側のSDKも提供さ
 れているため、開発期間やコストの軽減ができます。\
 nそんなAmazon IVS やAgoraの、概要から実装までを徹底解
 説する勉強会です。\n技術選定の方法～機能の実装ま
 で、ライブ配信アプリ開発の流れの紹介や、エンジニ
 アによるコードの解説もあるので、すぐに実装に取り
 掛かれます。\nさらに、開発に使える小ネタやトラブ
 ルに対するコツなど、開発時に知っておきたい情報が
 盛り沢山です！\nAgora とは\nメタバースやVRなどでも活
 用されているAgora（agora io sdk）は、スマートフォン・PC
 アプリやWebサイトに、カスタマイズしたビデオ・音声
 通話やライブ配信・音声配信をかんたんに実装できるS
 DK※です。\n\n最大100万人視聴可能（1配信あたり）\n30-2
 00msの超低遅延\nパケットロスは最大70％まで耐久！\nAPI
 と開発ツール群も多彩！\n\n※SDK=software development kitの
 略称。ソフトウェア開発キット。特定のソフトウェア
 を開発する際に必要なツールのセット。\n   (ブイキュ
 ーブは、Agoraの日本総代理店です。)\nこんな方におす
 すめです！\n\nライブ配信アプリを開発したい\nライブ
 配信の開発において、追加開発ができないなどの課題
 がある\nAmazon IVS/Agoraの基礎や使用方法、APIを使って配
 信する方法を知りたい\n\n講師紹介\n株式会社ブイキュ
 ーブ\n技術本部 Agora担当　藤本 諭志\n2007年ブイキュー
 ブ入社。\n自社開発サービスであるV-CUBE セミナーの開
 発に携わる。現在はAgoraのプロダクト担当SEをしている
 。\nスキル：Docker/AWS/Linux/DB/Ruby/PHP/JavaScript\n※講師は、
 予告なく変更になる場合がございます。\n実施概要\nプ
 ログラム   ：\n\nAmazon IVS・Agoraとは？\n技術選定の時に
 考慮すべきこと\nライブ配信アプリの実装\n        ・コ
 ラボ配信、録画、WatchParty\nアーカイブの設計\n開発に
 役立つ小ネタ紹介\n\n※講演内容は、予告なく変更にな
 る場合がございます。\n対象：\n\nビデオ通話/ライブ配
 信SDKにご興味のある方\nネイティブアプリ/Webアプリな
 どのサービス開発に携わるエンジニアの方\n新たなコ
 ミュニケーションチャネルの実装にご興味がある方\n\n
 ※競合他社様につきましては、お断りさせていただく
 ことがございますので、予めご了承ください。\n費用
 ：無料\n会場：オンライン（Zoom ウェビナー）
LOCATION:オンライン（Zoom ウェビナー）
URL:https://techplay.jp/event/890213?utm_medium=referral&utm_source=ics&utm
 _campaign=ics
END:VEVENT
END:VCALENDAR
