BEGIN:VCALENDAR
VERSION:2.0
PRODID:-//https://techplay.jp//JP
CALSCALE:GREGORIAN
METHOD:PUBLISH
X-WR-CALDESC:今日から実践できるGA4【入門編】
X-WR-CALNAME:今日から実践できるGA4【入門編】
X-WR-TIMEZONE:Asia/Tokyo
BEGIN:VTIMEZONE
TZID:Asia/Tokyo
BEGIN:STANDARD
DTSTART:19700101T000000
TZOFFSETFROM:+0900
TZOFFSETTO:+0900
TZNAME:JST
END:STANDARD
END:VTIMEZONE
BEGIN:VEVENT
UID:890261@techplay.jp
SUMMARY:今日から実践できるGA4【入門編】
DTSTART;TZID=Asia/Tokyo:20230214T120000
DTEND;TZID=Asia/Tokyo:20230214T130000
DTSTAMP:20260420T154151Z
CREATED:20230130T052405Z
DESCRIPTION:イベント詳細はこちら\nhttps://techplay.jp/event/89026
 1?utm_medium=referral&utm_source=ics&utm_campaign=ics\n\n今日から実
 践できるGA4【入門編】\nGA4への移行を、「これから」
 「したばかり」の方向け\n7月のユニバーサルアナリテ
 ィクス（UA）サポート終了まで残り半年となりました
 。UA終了に伴いGoogleアナリティクス4（GA4）に計測環境
 を移管する必要がございます。GA4の導入に不安を感じ
 ていらっしゃる方向けに、設定の方法や計測できるデ
 ータについて入門編として解説いたします。\n▼こん
 な方にオススメです！\n\nマーケティングご担当者様\nW
 ebサイトご担当者様\nGA4への切り替えに不安を感じてい
 るご担当者様\nUAとGA4で何が違うのかわからないご担当
 者様\n\n▼ウェビナー内容\n\nGA4とUAでは何が異なるのか
 \n\nできる事、機能、仕様等\n\n\nGA4とUAのレポートの仕
 方の違い\nGA4の活用事例\n\n▼開催概要\n\n開催日時：202
 3年2月14日（火）12:00～13:00\n参加費：無料\n会場：ウェ
 ビナー　※Zoomを利用します\n参加方法：お申込み受付
 後、メールにて視聴登録用URLをご案内いたします\n\n▼
 登壇者\n株式会社CINCアナリティクス事業本部　クリエ
 イティブ＆アナリシス部コンサルティンググループ　
 マネージャー尾崎 篤志\n以上となります。皆様のご参
 加、お待ちしております！\n\n※企業向けのセミナーで
 ございますので、フリーメールでの登録はご遠慮くだ
 さいますようお願いいたします。※競合他社/同業者/
 企業にご所属でない個人の方からのお申込みなど、 当
 社の判断によりセミナー参加をお断りする場合があり
 ます。予めご了承ください。※終了時刻は前後する可
 能性がございます。※予告なく登壇者・内容の変更が
 ある場合がございます。
LOCATION:オンラインセミナー
URL:https://techplay.jp/event/890261?utm_medium=referral&utm_source=ics&utm
 _campaign=ics
END:VEVENT
END:VCALENDAR
