BEGIN:VCALENDAR
VERSION:2.0
PRODID:-//https://techplay.jp//JP
CALSCALE:GREGORIAN
METHOD:PUBLISH
X-WR-CALDESC:ローコードで始めるモダンフロントエンド開
 発
X-WR-CALNAME:ローコードで始めるモダンフロントエンド開
 発
X-WR-TIMEZONE:Asia/Tokyo
BEGIN:VTIMEZONE
TZID:Asia/Tokyo
BEGIN:STANDARD
DTSTART:19700101T000000
TZOFFSETFROM:+0900
TZOFFSETTO:+0900
TZNAME:JST
END:STANDARD
END:VTIMEZONE
BEGIN:VEVENT
UID:890813@techplay.jp
SUMMARY:ローコードで始めるモダンフロントエンド開発
DTSTART;TZID=Asia/Tokyo:20230216T150000
DTEND;TZID=Asia/Tokyo:20230216T160000
DTSTAMP:20260423T201411Z
CREATED:20230202T062429Z
DESCRIPTION:イベント詳細はこちら\nhttps://techplay.jp/event/89081
 3?utm_medium=referral&utm_source=ics&utm_campaign=ics\n\nローコード
 で始めるモダンフロントエンド開発SPA・APIについて。.
 NET開発者は何を選ぶ？\n現在のWeb アプリケーション開
 発では React\, Vue\, Angular が主流となっており、そこにBl
 azorが新たに加わりました。このようなフロントエンド
 フレームワークを使いたいと思っている開発者の皆さ
 んの中には、名前は知っているけどどこから始めたら
 いいのかわからないという方もいるかもしれません。\
 nそのような開発者の皆さんにフレームワークを活用し
 ていただくため、このウェビナーではアプリケーショ
 ン全体の仕組みから、SPA(シングルページアプリケーシ
 ョン)やAPIについて解説いたします。\nまた、弊社のロ
 ーコードツール「App Builder」を使った画面(インターフ
 ェース/UI)の実装も行なう予定です。\nそさらに学習ロ
 ードマップもご紹介しますので、新しくフロントエン
 ドについて学びたい方、改めて学び直したい方に最適
 おウェビナーです。\nこんな方におすすめです：\n \nRea
 ct\, Vue\, Angular\, Blazor でのアプリケーション開発に興味
 のある方\nデスクトップアプリ開発をしている方\nこれ
 までMVC開発をしてきた方\n既存アプリケーションのUI/UX
  向上を考えている方\n\n\nアジェンダ\n \n「モダン」の
 定義\nSPAとは？\nAPIとは？\nライブ実装：ユーザー一覧
 画面\nおすすめの学習ロードマップ\n質問コーナー\n\n\n
 ※関連リンク\nオンデマンド動画：Blazor Web Assembly 概要
 と多段明細の表示 \nhttps://jp.infragistics.com/resources/on-deman
 d/blazor-webassembly-and-introduction\nブログ：Blazor ServerとBlazor
  WebAssembly:特徴をまとめてみました \nhttps://blogs.jp.infragi
 stics.com/entry/Blazor-Server-vs-Blazor-WebAssembly-Just-the-Facts\n開
 催概要\n\n\n\n\n\n\n\n\n\n主 催\nインフラジスティックス
 ・ジャパン株式会社\n\n\n開催日時\n2023年2月16日（木） 
 15:00 - 16:00\n\n\n会 場\nオンラインセミナー\n\n\n参加費\n
 無 料\n\n\n\n\n\n\n参加リンク\nお時間になりましたら以
 下のURLから入室をお願いします。https://infragistics.zoom.us
 /webinar/register/WN_JNs2pXSmRAmKFfJ7A3Ixcw\n\n\n\n※実施日前々日(
 ２月15日[水])と当日の開始1時間前にconnpassよりリマイ
 ンドメールを送付いたします。\nZoomウェビナーについ
 て\n \n本セミナーではオンラインセミナーツール「Zoom
 」を利用致します。\nZoomウェビナーでは、参加者（視
 聴者）はマイクやカメラ、画面共有機能を使用できま
 せん。\n（ご視聴時、他の参加者から顔と名前は見え
 ません。）\nPCやタブレットなどの端末と、インターネ
 ット環境が必要です。\n事前に視聴環境の確認をお勧
 めいたします。\nテスト接続は[こちら](https://zoom.us/test
 )\n事前にZoomアプリのインストールをお勧めいたします
 。\n\n【PCへのインストール】\n※ミーティング用Zoomク
 ライアント\n【スマートフォンへのインストール】\n\ni
 Phone 「App Store」を開いて「Zoom」で検索 \nAndroid 「Google 
 Play」を開いて「Zoom」で検索\n\n注意事項\n \nセッショ
 ン内容は予告なく変更となる場合があります。\n本イ
 ベントはオンライン開催のため、通信状況によって音
 声や映像の乱れがある場合がございます。\nお申し込
 み時点でインフラジスティックス・ジャパン株式会社
 の[プライバシーポリシー（個人情報保護方針）](https:/
 /jp.infragistics.com/legal/privacy) に同意したものとみなしま
 す。\n
LOCATION:オンライン オンライン
URL:https://techplay.jp/event/890813?utm_medium=referral&utm_source=ics&utm
 _campaign=ics
END:VEVENT
END:VCALENDAR
