BEGIN:VCALENDAR
VERSION:2.0
PRODID:-//https://techplay.jp//JP
CALSCALE:GREGORIAN
METHOD:PUBLISH
X-WR-CALDESC:【女性限定/オンライン】第33回 Java女子部ぽん
 しゅきー開発 #javajo
X-WR-CALNAME:【女性限定/オンライン】第33回 Java女子部ぽん
 しゅきー開発 #javajo
X-WR-TIMEZONE:Asia/Tokyo
BEGIN:VTIMEZONE
TZID:Asia/Tokyo
BEGIN:STANDARD
DTSTART:19700101T000000
TZOFFSETFROM:+0900
TZOFFSETTO:+0900
TZNAME:JST
END:STANDARD
END:VTIMEZONE
BEGIN:VEVENT
UID:891094@techplay.jp
SUMMARY:【女性限定/オンライン】第33回 Java女子部ぽんし
 ゅきー開発 #javajo
DTSTART;TZID=Asia/Tokyo:20230219T140000
DTEND;TZID=Asia/Tokyo:20230219T170000
DTSTAMP:20260423T115142Z
CREATED:20230204T210010Z
DESCRIPTION:イベント詳細はこちら\nhttps://techplay.jp/event/89109
 4?utm_medium=referral&utm_source=ics&utm_campaign=ics\n\nJava女子部ス
 ピンオフ企画！\nみんなで勉強しながら1システムを作
 ってみようという連載ゲリライベントです。\nとりあ
 えず 毎月第３日曜日に開催します     \n\n前回までの議
 事録はこちら : https://github.com/java-women/JavajoPonsyu/tree/mast
 er/docs/reports    \n\n第33回 : システム開発 iterate1 ～API開
 発23～\n\n第11回までに作成したREST API仕様書(open API)を
 利用して実際にAPIをコーディングしていきます\nAPIテ
 ストコード書きつつAPIコード書きつつします\n\nJava女
 子部ぽんしゅきーとは\n\nJava女子部の有志メンバーに
 より発足したゲリライベントのグループ名です。\n主
 に下記のことをやっていく予定です。    \n\nゼロからWe
 bシステムを設計・構築します\n\n\nテーマは日本酒版Viv
 inoです\n\n\n方式としてはゆるやかなハッカソンです\n\n
 \nインフラ・セキュリティ・アプリケーションetc. 各自
 のスキルを持ち寄ってワイワイ議論しながらアプリを
 作っていきます\n長い期間かけてゆるゆる進みます\nわ
 からない技術については参加者全員で全力で調べなが
 ら議論・開発を進めます\n\n\n開催日とか時間とか場所
 とか\n\n\n毎月第３日曜日にやります\nある程度連続し
 て参加しないと面白くないと思いますので、予定を開
 けておいてください★\n\n\nその他今のところ大体ノー
 プランなので、質問などあれば適宜お問い合わせ欄も
 しくは当日質問ください。    \n\n対象者\n\n\nみんなで
 ワイワイアプリ開発をやってみたい人\nいろいろな技
 術を広く浅く取り組んでみたい人\n自分は女性だと思
 っている人\ninputだけでなくoutputしようと思っている人
 \n\n\n本イベントでは初心者・上級者、Javaやったことあ
 る/ないに関わらず、「自分は女性であると思っている
 」「このプロジェクトに貢献したい(ついでに自分の勉
 強もしたい)」という2つの熱い意志があるすべての人
 を歓迎します。    \n\nなんでやるの？\n\n大規模システ
 ムのJava屋さんとして働いていると知識が偏りがちにな
 る・・・でも広く浅く周辺知識について知識を広めた
 い・・・手を動かさないと憶えない・・・というJava女
 子部懇親会から出てきた悩みに対して緩く解決できる
 場をつくれたらいいな、という思いから発足しました
 。    \n\nなんで日本酒なのかというと、オーガナイザ
 のまーやさんが欲しかったからです。つまり特に意味
 はありません。    \n\n進め方・参加者心得\n\n\nすべて
 の参加者は自分のもってる知識をフルに活用して議論
 ・開発に参加してください。わからないことは積極的
 に質問を。どんなに初歩的な質問でもOKです。\nドキュ
 メント・議論内容・ソースコードetc.すべてこのGitHubリ
 ポジトリにまとめていきましょう～\n毎回イベント終
 わりに参加者のうち1-2名で議事録を作成し、このGitHub
 リポジトリ内reportsディレクトリへファイルアップして
 ください（プルリク投げてね！）。ファイルフォーマ
 ットはmarkdownでお願いします。\ndiscord server あります。
 ワイワイどうぞ。 : https://discord.gg/U38xfhY\n
LOCATION:オンライン
URL:https://techplay.jp/event/891094?utm_medium=referral&utm_source=ics&utm
 _campaign=ics
END:VEVENT
END:VCALENDAR
