BEGIN:VCALENDAR
VERSION:2.0
PRODID:-//https://techplay.jp//JP
CALSCALE:GREGORIAN
METHOD:PUBLISH
X-WR-CALDESC:ヘルスケア業界の営業トークをAI分析〜オンラ
 インでもニーズを掴む〜
X-WR-CALNAME:ヘルスケア業界の営業トークをAI分析〜オンラ
 インでもニーズを掴む〜
X-WR-TIMEZONE:Asia/Tokyo
BEGIN:VTIMEZONE
TZID:Asia/Tokyo
BEGIN:STANDARD
DTSTART:19700101T000000
TZOFFSETFROM:+0900
TZOFFSETTO:+0900
TZNAME:JST
END:STANDARD
END:VTIMEZONE
BEGIN:VEVENT
UID:891417@techplay.jp
SUMMARY:ヘルスケア業界の営業トークをAI分析〜オンライ
 ンでもニーズを掴む〜
DTSTART;TZID=Asia/Tokyo:20230207T120000
DTEND;TZID=Asia/Tokyo:20230228T230000
DTSTAMP:20260419T144336Z
CREATED:20230207T020529Z
DESCRIPTION:イベント詳細はこちら\nhttps://techplay.jp/event/89141
 7?utm_medium=referral&utm_source=ics&utm_campaign=ics\n\nMRの仕事を
 する上で販売情報提供活動ガイドラインに縛られ、\n
 オンラインでは対面よりも薬のことが伝わりにくい\n
 などの問題を抱えていませんか？\n本ウェビナーでは
 ヘルスケア業界のMRの伝え方にフォーカスします。オ
 ンライン商談に対応した今こそ取り組むべき課題とそ
 の解決策について、事例紹介も交えながら説明いたし
 ます。\n近年情報提供をしているにも関わらず、医師
 のニーズに合致していない内容が増えてきていること
 がAI分析により明らかになりました。今回のウェビナ
 ーでは特にMRに特化した内外の対話力向上のための、
 課題と解決策を提供いたします。\nオンラインが進ん
 できたことで対面とは異なって生じた課題感を解消し
 、相手のニーズに合わせたトークを導いたAI分析を知
 ってみませんか？\n＜日時＞\n【再配信】2月8日(水)	14-1
 52月13日(月)	15-162月14日(火)	11-122月16日(木)	19-202月20日(
 月)	10-112月24日(金)	16-172月28日(火)	17-18\n各回１時間を予
 定しております。詳しい日程は、弊社お申込みフォー
 ムをご確認ください。\n＜場所＞\nZoom※開催日前日に
 メールにて、URLをご連絡します\n＜お申し込み方法＞\n
 当サイトからお申込みいただけます。弊社googleフォー
 ムによるエントリーも可能です。開催前日〜当日のお
 申込みは、開催情報通知が間に合わない可能性がある
 ため、上記フォームからお申し込みいただきますよう
 お願いいたします。\nプログラム\n1. 医薬品情報提供に
 おける対話力とその指導力の現状2. AIで分かる「対話
 力」、導入事例と改善効果3. AIで分かる「指導力」、
 導入事例と改善効果4. トライアル導入の方法とお知ら
 せ\n登壇者\nコグニティ株式会社・河野　理愛　代表取
 締役・岩崎　雅彦\n料金\n無料\n注意事項\n・本ウェビ
 ナーはお申込みいただくことで無料でご視聴いただけ
 ます。視聴の際の通信料につきましては、各個人のご
 負担となります。\n・ウェビナー前日にURLメールが届
 かない場合はメールアドレスが誤って登録されている
 可能性がございますので、お手数ですが、こちらのフ
 ォーム（https://cognitee.com/contact）よりお問い合わせをお
 願いいたします。\n・メール指定受信を設定されてい
 る場合は、＜@cognitee.com＞のドメイン設定を各自でお願
 いします。\n・ご登録いただいた個人情報は、Webinarに
 関するご連絡の他、製品資料の送付、新製品・サービ
 ス、イベントに関する情報提供のために利用させてい
 ただく場合がございます。また、共同開催者への情報
 提供もございます。ご登録いただいた時点でご同意い
 ただく形になりますことをご了承ください。プライバ
 シーポリシー：https://cognitee.com/about/5014
LOCATION:オンライン（ZOOM）
URL:https://techplay.jp/event/891417?utm_medium=referral&utm_source=ics&utm
 _campaign=ics
END:VEVENT
END:VCALENDAR
