BEGIN:VCALENDAR
VERSION:2.0
PRODID:-//https://techplay.jp//JP
CALSCALE:GREGORIAN
METHOD:PUBLISH
X-WR-CALDESC:【オンライン開催】2/19(日) TECH PLAY女子部 朝活
 雑談会 #techplaygirls #hayaoki_girls
X-WR-CALNAME:【オンライン開催】2/19(日) TECH PLAY女子部 朝活
 雑談会 #techplaygirls #hayaoki_girls
X-WR-TIMEZONE:Asia/Tokyo
BEGIN:VTIMEZONE
TZID:Asia/Tokyo
BEGIN:STANDARD
DTSTART:19700101T000000
TZOFFSETFROM:+0900
TZOFFSETTO:+0900
TZNAME:JST
END:STANDARD
END:VTIMEZONE
BEGIN:VEVENT
UID:891984@techplay.jp
SUMMARY:【オンライン開催】2/19(日) TECH PLAY女子部 朝活雑
 談会 #techplaygirls #hayaoki_girls
DTSTART;TZID=Asia/Tokyo:20230219T080000
DTEND;TZID=Asia/Tokyo:20230219T090000
DTSTAMP:20260421T002357Z
CREATED:20230212T062235Z
DESCRIPTION:イベント詳細はこちら\nhttps://techplay.jp/event/89198
 4?utm_medium=referral&utm_source=ics&utm_campaign=ics\n\n朝活雑談会\
 n概要\nTECH PLAY女子部では朝活の時間帯が設けられてい
 て、同じ時間帯に参加できたメンバーで10分間雑談し
 て、その後は各自好きなことをやっています。\nTECH PLA
 Y女子部内で行われている朝活のことを hayaoki_girls と呼
 んでいます。hayaoki_girls の存在を知ってもらうために
 、いつもの雑談時間を拡大してこのイベントを開催す
 ることにしました！\nTECH PLAY女子部の朝活は初めてと
 いう方も、お久しぶりの方も、みんなでわいわいおし
 ゃべりしましょう！\n作業（朝ご飯の支度、洗濯物を
 畳むetc...）しながらの参加も大歓迎！\n途中参加、途
 中退室自由です。また、本イベントは女性限定のイベ
 ントとなります。\n当日のタイムテーブル\n\n\n\n時間\n
 内容\n\n\n\n\n8:00〜8:10\nオープニング、自己紹介\n\n\n8:10
 〜8:50\n雑談\n\n\n8:50〜9:00\nクロージング\n\n\n\n※ 当日予
 告なく時間配分・内容が変更になる可能性がございま
 す。\n参加方法\nDiscordを使ったオンライン開催です。
 参加される方は事前に、Discordアカウントの作成をお願
 いします。参加登録された方には、本イベントページ
 から登録完了後にTECH PLAY女子部のDiscordの参加URLをお知
 らせします。\n参加対象\n\n女性エンジニアの方\nプロ
 グラミングを勉強中の女性\nITが好きな女性\n\nこんな
 方におすすめ\n\nTECH PLAY女子部の朝活が気になってる人
 \nおしゃべりしたい人\n雑談を聞きながら作業したい人
 \n\n参加費\n無料\nお願い ※応募前にご確認ください\nTE
 CH PLAY女子部ではイベント会場内だけではなく、SNSなど
 を通じた交流や発信において、マルチ商法的勧誘を禁
 止しています。万が一勧誘に合われた方、行為を見聞
 きした方はTECH PLAY女子部運営スタッフ(Twitterアカウン
 ト@techplaygirls)までご連絡ください。\nまた本イベント
 は女性限定のイベントとなります。\nアンチハラスメ
 ントポリシー\nTECH PLAY女子部ではアンチハラスメント
 ポリシーを定めています。イベントに参加するみなさ
 んは以下のリンク先に書かれたポリシーを遵守するよ
 うに心がけてください。TECHPLAY女子部 アンチハラスメ
 ントポリシー\n主催\nTECH PLAY女子部\nTECH PLAY女子部 に関
 する情報\nTECH PLAY女子部のイベント予定は、TECH PLAYイ
 ベントページやTwitterアカウント（@techplaygirls）でお知
 らせします。お気軽にフォローしてください。\nTECH PLA
 Y女子部が目指すコミュニティは、『女性エンジニアの
 繋がりが欲しい人がふらっと参加できるコミュニティ
 』です。\nそういった場をつくるツールとしてTECH PLAY
 女子部ではSlackやDiscordを使って、雑談・朝活・読書会
 などを女性エンジニア同士で楽しんでいます。TECH PLAY
 女子部の活動に興味ある方はTECH PLAY女子部の概要をご
 覧ください♪Slack、Discordの案内もこちらに記載してま
 す！（※女性限定です）\n注意事項\n\nリクルーティン
 グ、勧誘など、採用目的でのイベント参加はお断りし
 ております。\nキャンセル待ち・補欠・落選の方はご
 参加いただくことが出来ませんのでご了承ください。\
 n欠席される場合は、お手数ですが速やかにキャンセル
 処理をお願い致します。\n無断キャンセルや欠席が続
 く場合、次回以降の参加をお断りさせていただく場合
 がございます。\n
LOCATION:オンライン
URL:https://techplay.jp/event/891984?utm_medium=referral&utm_source=ics&utm
 _campaign=ics
END:VEVENT
END:VCALENDAR
