BEGIN:VCALENDAR
VERSION:2.0
PRODID:-//https://techplay.jp//JP
CALSCALE:GREGORIAN
METHOD:PUBLISH
X-WR-CALDESC:WEBサイトリニューアル　知っておきたい5つの
 ポイント
X-WR-CALNAME:WEBサイトリニューアル　知っておきたい5つの
 ポイント
X-WR-TIMEZONE:Asia/Tokyo
BEGIN:VTIMEZONE
TZID:Asia/Tokyo
BEGIN:STANDARD
DTSTART:19700101T000000
TZOFFSETFROM:+0900
TZOFFSETTO:+0900
TZNAME:JST
END:STANDARD
END:VTIMEZONE
BEGIN:VEVENT
UID:892107@techplay.jp
SUMMARY:WEBサイトリニューアル　知っておきたい5つのポイ
 ント
DTSTART;TZID=Asia/Tokyo:20230221T140000
DTEND;TZID=Asia/Tokyo:20230221T150000
DTSTAMP:20260420T044429Z
CREATED:20230213T071410Z
DESCRIPTION:イベント詳細はこちら\nhttps://techplay.jp/event/89210
 7?utm_medium=referral&utm_source=ics&utm_campaign=ics\n\n概要\nWEBサ
 イトリニューアル　知っておきたい5つのポイントとは
 ？\n2023年に入り、マーケティングの戦略を見直したり
 、新たな試みを検討したりしているご担当者様も多い
 のではないでしょうか？中には、WEBサイトを使った情
 報発信やマーケティングの重要性が増してきているこ
 とを受け、WEBサイトリニューアルをお考えのご担当者
 様もいらっしゃることと思います。しかし、いざリニ
 ューアルの担当を任されたものの、「具体的に何から
 始めれば良いか分からない」という方もいらっしゃる
 のではないでしょうか。\n一口にサイトリニューアル
 といっても、サイトの規模やどんなサイトをリニュー
 アルするのかによって、スケジュールはもちろん費用
 も大きく変わります。「デザインが古くなったから」
 、「問い合わせを増やしたいから」という漠然とした
 目的だけで進めてしまうと、多くの予算や時間を割い
 たにも関わらず、リニューアルプロジェクトが失敗に
 終わった…ということになりかねません。ポイントを
 押さえながら、プロジェクトを進行していくことがWEB
 サイトリニューアルを成功させる「カギ」ともいえま
 す。\n今回のセミナーでは、WEBサイトリニューアルを
 始める前に知っておくべきポイントを、5つの視点から
 ご紹介します。いざリニューアルや新規制作に向けて
 プロジェクトがスタートした際に困らないようするた
 めに、これからWEBサイトを新規制作する方、リニュー
 アルを予定している方は、ぜひご参加ください。\n※
 本セミナーは以前当社にて開催したセミナーと内容が
 重複する部分がございます。\nタイムスケジュール\n\n\
 n\n時間\n内容\n\n\n\n\n14:00〜14:05\nオープニング\n\n\n14:05
 〜14:55\n株式会社インフォネット　Solution Business Division
 　村岡 祐輔WEBサイトリニューアル 知っておきたい5つ
 のポイント1. 全体スケジュール2. 課題出し・目的の整
 理・コンテンツの精査3. リニューアル後の目標・成果
 の設定4. 運用方法5. セキュリティについて\n\n\n14:55〜15
 :00\n質疑応答\n\n\n\n※ 当日予告なく時間配分・内容が
 変更になる可能性がございます。\n登壇者\n\n村岡 祐輔
 \n株式会社インフォネット　Solution Business Division\n大学
 卒業後、大手ハウスメーカーにて個人営業を経験した
 のち、中古車情報運営企業において、WEBや紙媒体の広
 告企画の法人営業に従事。2021年、インフォネットへ入
 社。\nインフォネットでは主に関西の法人企業に対し
 、WEBサイトの企画・提案営業に従事している。「成果
 創出」の理念のもと、顧客のWEBサイトの「あるべき姿
 」を想定し、本質的な課題を解決することを信条とし
 ている。\n\nこんな方におすすめ\n\nWEBサイトのリニュ
 ーアルを予定している方\nWEBサイトのニューアルの進
 め方が分からず、悩んでいる方\nWEBサイトリニューア
 ル時のポイントを知りたい方\n前回のリニューアルか
 ら時間が経っており、最近の情報を知りたい方\n\n参加
 費\n無料\n注意事項\n\n同業他社の方の参加はお断りす
 る場合がございます。\nリクルーティング、勧誘など
 、採用目的でのイベント参加はお断りしております。\
 nキャンセル待ち・補欠・落選の方はご参加いただくこ
 とが出来ませんのでご了承ください。\n欠席される場
 合は、お手数ですが速やかにキャンセル処理をお願い
 致します。\n無断キャンセルや欠席が続く場合、次回
 以降の参加をお断りさせていただく場合がございます
 。\n
LOCATION:オンライン
URL:https://techplay.jp/event/892107?utm_medium=referral&utm_source=ics&utm
 _campaign=ics
END:VEVENT
END:VCALENDAR
