BEGIN:VCALENDAR
VERSION:2.0
PRODID:-//https://techplay.jp//JP
CALSCALE:GREGORIAN
METHOD:PUBLISH
X-WR-CALDESC:結局、WEBサイトが肝！～CMSの選び方3つのポイ
 ント～
X-WR-CALNAME:結局、WEBサイトが肝！～CMSの選び方3つのポイ
 ント～
X-WR-TIMEZONE:Asia/Tokyo
BEGIN:VTIMEZONE
TZID:Asia/Tokyo
BEGIN:STANDARD
DTSTART:19700101T000000
TZOFFSETFROM:+0900
TZOFFSETTO:+0900
TZNAME:JST
END:STANDARD
END:VTIMEZONE
BEGIN:VEVENT
UID:892111@techplay.jp
SUMMARY:結局、WEBサイトが肝！～CMSの選び方3つのポイント
 ～
DTSTART;TZID=Asia/Tokyo:20230228T110000
DTEND;TZID=Asia/Tokyo:20230228T120000
DTSTAMP:20260420T110620Z
CREATED:20230213T074710Z
DESCRIPTION:イベント詳細はこちら\nhttps://techplay.jp/event/89211
 1?utm_medium=referral&utm_source=ics&utm_campaign=ics\n\nWEBサイト、
 活きていますか？\n概要\nインターネットが私たちの⽣
 活に溶け込むとともに、ビジネスにおいてもWEBサイト
 を使った情報発信やマーケティングの重要性が増して
 きています。しかし、WEBサイトはあるものの、有効活
 用できずに、更新ができていないという企業様も多い
 かもしれません。あるいは、オンライン化が進み、マ
 ーケティングを強化しようと費用をかけて広告配信等
 を行ったものの、流入先の自社サイトが「更新されて
 いない」「欲しい情報が見つからない」というようなW
 EBサイトになっているようでは非常にもったいないと
 いえるでしょう。まずは、受け皿となるWEBサイトを自
 社で更新・改善できる体制を整えて、情報発信するこ
 とが重要です。\n本セミナーでは、WEBサイトを有効活
 用するための運用術やそれをサポートする当社プロダ
 クト「infoCMS」についてご紹介します。今や、WEBサイト
 の更新性を高めたり、最新の情報を発信したりするた
 めに、多くの企業や団体が検討・導入しており、また
 、WEBサイトの管理には欠かせないツールとなったCMS(コ
 ンテンツ・マネジメント・システム)。CMSとは何か、CMS
 のメリット・デメリットなど、CMS導入前に押さえてお
 くべきポイントについてもお話させていただきます。
 下記のようなお悩みをお持ちのご担当者様は、ぜひご
 参加ください。\n\n\n\n時間\n内容\n\n\n\n\n11:00〜11:50\n株
 式会社インフォネット　Solution Business Division　村岡 祐
 輔CMSの選び方3つのポイント～infoCMSデモセミナー～1. WE
 Bサイト更新の重要性2. CMSとは3. CMSの選び方4. infoCMSで
 何ができるの？～デモンストレーション～5. まとめ※
 プログラムは変更になる場合がございます。\n\n\n11:50
 〜12:00\n質疑応答\n\n\n\n※ 当日予告なく時間配分・内容
 が変更になる可能性がございます。\n登壇者\n\n村岡 祐
 輔\n株式会社インフォネット　Solution Business Division\n大
 学卒業後、大手ハウスメーカーにて個人営業を経験し
 たのち、中古車情報運営企業において、WEBや紙媒体の
 広告企画の法人営業に従事。2021年、インフォネットへ
 入社。\nインフォネットでは主に関西の法人企業に対
 し、WEBサイトの企画・提案営業に従事している。「成
 果創出」の理念のもと、顧客のWEBサイトの「あるべき
 姿」を想定し、本質的な課題を解決することを信条と
 している。\n\nこんな方におすすめ\n\nCMS導入・リプレ
 イスをご検討中のご担当者様\nCMSの選定にお悩みのご
 担当者様\nWEBサイトのリニューアルをご検討中のご担
 当者様\n\n参加費\n無料\n注意事項\n\n同業他社の方の参
 加はお断りする場合がございます。\nリクルーティン
 グ、勧誘など、採用目的でのイベント参加はお断りし
 ております。\nキャンセル待ち・補欠・落選の方はご
 参加いただくことが出来ませんのでご了承ください。\
 n欠席される場合は、お手数ですが速やかにキャンセル
 処理をお願い致します。\n無断キャンセルや欠席が続
 く場合、次回以降の参加をお断りさせていただく場合
 がございます。\n
LOCATION:オンライン
URL:https://techplay.jp/event/892111?utm_medium=referral&utm_source=ics&utm
 _campaign=ics
END:VEVENT
END:VCALENDAR
