BEGIN:VCALENDAR
VERSION:2.0
PRODID:-//https://techplay.jp//JP
CALSCALE:GREGORIAN
METHOD:PUBLISH
X-WR-CALDESC:中小企業はWebセキュリティをどう選択するべ
 きか？主要な3つのWAFサービスを比較
X-WR-CALNAME:中小企業はWebセキュリティをどう選択するべ
 きか？主要な3つのWAFサービスを比較
X-WR-TIMEZONE:Asia/Tokyo
BEGIN:VTIMEZONE
TZID:Asia/Tokyo
BEGIN:STANDARD
DTSTART:19700101T000000
TZOFFSETFROM:+0900
TZOFFSETTO:+0900
TZNAME:JST
END:STANDARD
END:VTIMEZONE
BEGIN:VEVENT
UID:892208@techplay.jp
SUMMARY:中小企業はWebセキュリティをどう選択するべきか
 ？主要な3つのWAFサービスを比較
DTSTART;TZID=Asia/Tokyo:20230221T140000
DTEND;TZID=Asia/Tokyo:20230221T150000
DTSTAMP:20260425T135604Z
CREATED:20230214T060020Z
DESCRIPTION:イベント詳細はこちら\nhttps://techplay.jp/event/89220
 8?utm_medium=referral&utm_source=ics&utm_campaign=ics\n\n攻撃遮断く
 ん、Cloudflare、Wafcharm：環境別の最適なWAFの選び方とは\
 n\nゼロデイ攻撃などが急増、全ての組織で「Webサイト
 のセキュリティ対策」が急務に\n\n国内外で猛威を振る
 うサイバー攻撃。警察庁が観測しているサイバー攻撃
 の推移によると、過去9年間で約24倍まで増加していま
 す。\nまた、過去に発生したセキュリティ被害の多く
 はWeb経由であり、依然として増加傾向にあります。特
 に修正プログラムの公開前を狙う「ゼロデイ攻撃」が
 急増し、脆弱性の悪用、情報漏えい、攻撃の踏み台に
 されてしまうケースが起きています。企業規模や業界
 ・業種に関わらず、全ての組織において「Webサイトの
 セキュリティ対策」が急務となっています。\n\n重要性
 は分かっていても、導入・運用に課題がある「WAF」と
 いう存在\n\nWebセキュリティ対策の重要な役割を担うの
 が「WAF（Webアプリケーションファイアウォール）」で
 す。WebサイトやWebサーバへの攻撃を遮断し、情報漏え
 いや改ざん、サーバダウンを狙う攻撃などの脅威から
 組織を保護します。\nただ、その重要性を分かってい
 ても、実際にWAFの導入・運用では幾つかの課題が出て
 くることも事実です。\n\n運用担当者を悩ます、WAF導入
 ・運用における課題\n\nたとえば、Webセキュリティの運
 用担当する部門や担当者からは「WAFの導入を検討した
 が、高額な導入費用・月々の運用コスト面に課題があ
 り断念した」「WAFの運用に詳しい人材がいないため、
 最適なルール策定やチューニングができない」「運用
 開始後に誤検知の対応やトラブルに時間がかかる」と
 いった声が多く上がっているのです。\nこうした傾向
 は、人的リソースやコスト面がネックになりがちな中
 小企業に多い傾向にあります。\n\n中小企業でも簡単に
 導入・運用できる、自社に最適なWAFの選び方を解説\n\n
 本セミナーでは、そうした課題を解決できる中小企業
 にもお勧めな3つのWAF運用サービスとして国内導入実績
 No.1の「攻撃遮断くん」、世界No.1のCDN「Cloudflare」のWAF
 、AWS WAF自動運用サービス国内導入実績No.1の「Wafcharm」
 をご紹介。それぞれの特徴を踏まえて、自社に最適なW
 AFの選び方のコツを解説いたします。Webセキュリティ
 対策に欠かせない「WAF」を簡単に導入・運用したい方
 や、どのWAF運用サービスを選べばいいのかお悩みの方
 は、ぜひご参加ください。
LOCATION:オンライン
URL:https://techplay.jp/event/892208?utm_medium=referral&utm_source=ics&utm
 _campaign=ics
END:VEVENT
END:VCALENDAR
