BEGIN:VCALENDAR
VERSION:2.0
PRODID:-//https://techplay.jp//JP
CALSCALE:GREGORIAN
METHOD:PUBLISH
X-WR-CALDESC:ネットワークの自動化による コスト削減方法
 と事例紹介　[ 経営者・管理職向け ]
X-WR-CALNAME:ネットワークの自動化による コスト削減方法
 と事例紹介　[ 経営者・管理職向け ]
X-WR-TIMEZONE:Asia/Tokyo
BEGIN:VTIMEZONE
TZID:Asia/Tokyo
BEGIN:STANDARD
DTSTART:19700101T000000
TZOFFSETFROM:+0900
TZOFFSETTO:+0900
TZNAME:JST
END:STANDARD
END:VTIMEZONE
BEGIN:VEVENT
UID:892253@techplay.jp
SUMMARY:ネットワークの自動化による コスト削減方法と事
 例紹介　[ 経営者・管理職向け ]
DTSTART;TZID=Asia/Tokyo:20230228T131000
DTEND;TZID=Asia/Tokyo:20230228T135000
DTSTAMP:20260425T121720Z
CREATED:20230214T073457Z
DESCRIPTION:イベント詳細はこちら\nhttps://techplay.jp/event/89225
 3?utm_medium=referral&utm_source=ics&utm_campaign=ics\n\n\nネットワ
 ークの自動化によるコスト削減方法と事例紹介\n概要\n
 時間が経てば経つほどに解決が難しくなる人材や運用
 コストなどの諸課題を早期に解決し、企業の新しい価
 値創造に着手したいという経営者、管理職の方向けの
 ウェビナーです。\n下記の様な課題をお持ちの経営者
 ・管理職を対象としております。\n\n停滞している自動
 化プロジェクトを進めたい\nエンジニアのエンゲージ
 メントを向上させて離職率を下げたい\n手を付けられ
 ていなかった本質的な課題を解決したい\n企業として
 新しい価値創造に取り組みたい\nバラけてしまってい
 る社内の言語を統一したい\n\nIT業界で深刻化しつつあ
 る人材の問題やシステムの運用コスト、システムのブ
 ラックボックス化、レガシーシステムなどなど頭を悩
 ませる経営課題は尽きない時代です。\nそれらの課題
 を一手に解決することが出来る手法がネットワークの
 自動化です。\nしかし、「日々の業務に追われて着手
 する時間が取れない」「知識を持ったエンジニアが揃
 わずに進められない」というお声が多く寄せられます
 。\nそんなネットワーク自動化のメリットや実現手法
 と事例紹介を40分に濃縮してお伝えいたします。\n開催
 日時\n2月28日（火）13:10～13:50（待合室への入室開始は1
 3:00～）\n定員\n20名　※定員を超えた場合は次回以降の
 ウェビナーにご案内致します。\n参加費\n無料\n会場\nZo
 omにてオンライン開催
LOCATION:オンライン
URL:https://techplay.jp/event/892253?utm_medium=referral&utm_source=ics&utm
 _campaign=ics
END:VEVENT
END:VCALENDAR
