BEGIN:VCALENDAR
VERSION:2.0
PRODID:-//https://techplay.jp//JP
CALSCALE:GREGORIAN
METHOD:PUBLISH
X-WR-CALDESC:Re：Groonga 13.0.0 リリース自慢会
X-WR-CALNAME:Re：Groonga 13.0.0 リリース自慢会
X-WR-TIMEZONE:Asia/Tokyo
BEGIN:VTIMEZONE
TZID:Asia/Tokyo
BEGIN:STANDARD
DTSTART:19700101T000000
TZOFFSETFROM:+0900
TZOFFSETTO:+0900
TZNAME:JST
END:STANDARD
END:VTIMEZONE
BEGIN:VEVENT
UID:892749@techplay.jp
SUMMARY:Re：Groonga 13.0.0 リリース自慢会
DTSTART;TZID=Asia/Tokyo:20230221T121500
DTEND;TZID=Asia/Tokyo:20230221T124500
DTSTAMP:20260424T011249Z
CREATED:20230217T141803Z
DESCRIPTION:イベント詳細はこちら\nhttps://techplay.jp/event/89274
 9?utm_medium=referral&utm_source=ics&utm_campaign=ics\n\n「リリース
 自慢会」は、リリースノートを見ながら、Groongaの新機
 能・バグ修正を開発者が自慢する会です！\n2023年2月9
 日にリリースされた最新13.0.0について自慢します！\n2
 月14日に放送トラブルがあったので改めてメジャーバ
 ージョンアップについて自慢します！\n配信URL：https://
 youtube.com/live/7VhH1rpIoLw\n開発者的に「これ！」という機
 能や、「ここをがんばった！」ということを紹介しま
 す。Liveチャットでコメントも受け付けていますので、
 気になっていることを質問したり、気になっていたあ
 の機能について聞いたりすることも可能です。\nYouTube
 チャンネル：\nhttps://www.youtube.com/channel/UC9XcXAhHSb2TMPqlCvUH
 HbQ\nリリースノートは、公式ページから：https://groonga.o
 rg/ja/\n===Groongaについてもっと知りたい方への情報===\n
 ほぼ毎週火曜日に、なんらかのYouTubeLiveを開催してい
 ます。\n最新情報を自慢する自慢会と、開発者に詳し
 いことを教えてもらうグルカイ！の2種類があります！
 \n● 国産高速全文検索エンジンGroongaについて\nGroongaは
 主に日本人が開発していることもあり日本語対応が強
 力です。きめ細やかなテキスト正規化やローマ字で入
 力された検索キーワードでもオートコンプリートでき
 るなど日本語Webサイト内検索・ECサイト内検索に必要
 な機能が豊富に揃っています。\nGroongaプロジェクトペ
 ージ：https://github.com/groonga\n● Groongaコミュニティ関連
 情報：\n Groongaプロジェクトはリリース情報やリリース
 自慢会の開催情報をTwitterやFacebookなどで発信していま
 す。チャットやメーリングリストで開発者・ユーザー
 間で情報交換することもできます。\nTwitter： https://twit
 ter.com/groonga\nFacebook: https://www.facebook.com/groonga/\nYouTube: ht
 tps://www.youtube.com/channel/UC9Xc...\nGitter（チャット）： https
 ://gitter.im/groonga/ja\nGitHub Discussions（掲示板）： https://git
 ter.im/groonga/ja\nメーリングリスト：https://lists.osdn.me/mailm
 an/listinf...\n
LOCATION:YouTube　Live Groongaチャンネル
URL:https://techplay.jp/event/892749?utm_medium=referral&utm_source=ics&utm
 _campaign=ics
END:VEVENT
END:VCALENDAR
