BEGIN:VCALENDAR
VERSION:2.0
PRODID:-//https://techplay.jp//JP
CALSCALE:GREGORIAN
METHOD:PUBLISH
X-WR-CALDESC:THE 組織営業力 vol.0 - 組織営業力とは？構造分
 解と実践方法
X-WR-CALNAME:THE 組織営業力 vol.0 - 組織営業力とは？構造分
 解と実践方法
X-WR-TIMEZONE:Asia/Tokyo
BEGIN:VTIMEZONE
TZID:Asia/Tokyo
BEGIN:STANDARD
DTSTART:19700101T000000
TZOFFSETFROM:+0900
TZOFFSETTO:+0900
TZNAME:JST
END:STANDARD
END:VTIMEZONE
BEGIN:VEVENT
UID:893175@techplay.jp
SUMMARY:THE 組織営業力 vol.0 - 組織営業力とは？構造分解と
 実践方法
DTSTART;TZID=Asia/Tokyo:20230302T110000
DTEND;TZID=Asia/Tokyo:20230302T114500
DTSTAMP:20260421T050431Z
CREATED:20230220T093857Z
DESCRIPTION:イベント詳細はこちら\nhttps://techplay.jp/event/89317
 5?utm_medium=referral&utm_source=ics&utm_campaign=ics\n\n競争が激化
 する一方で人材流出のリスクが高まっている昨今、個
 人の能力ではなく組織全体の営業力を強化したいとお
 考えの経営者・事業部長の方が増えてきています。\n
 しかし、営業力とは個人の能力であるとの考え方が多
 数派だったり、結果を重視しすぎるあまりプロセスの
 改善が進まなかったりしたために、組織営業が十分に
 できていないという企業様も多いのではないでしょう
 か。\nそこで今回は、組織営業力の構造を分解し、強
 化するための条件や多くの企業がぶつかる課題と対策
 についてお伝えします。\n弊社はこれまでLINE株式会社
 や三井物産株式会社など、多くの企業様の営業組織の
 変革や成果改善を支援してまいりました。その中で、
 受注率10倍などの事例も出て来ています。\nそんな Magic
  Moment で得てきた知見を生かして、組織営業の構造を
 分解し、組織営業力を強化して永続的な事業にしてい
 くためのポイントについて紹介いたします。\n営業責
 任者や事業責任者の皆様にとって、組織営業力を強化
 して、企業の競争力を向上させるためのヒントになり
 ましたら幸いです。\n【こんな方におすすめです】・
 「営業力 = 個人のスキル」だと思っている方・属人性
 に頼った営業組織から脱したいと思っており、その方
 法を模索している方・組織営業力を強化するためのド
 ライバーを特定したい方\n\n概要\n\n\n\n\n\n\n\n\n\n対象\n
 事業責任者/ 営業責任者\n\n\n日時\n2023年3月2日（木） 11
 :00 – 11:45\n\n\n内容\n・組織営業力とは？・組織営業力
 を強化するための条件と解決すべき課題\n\n\n会場\nオ
 ンライン（Zoom）\n\n\n費用\n無料\n\n\n参加方法\nお申込
 み後、開催日前日までにメールにて視聴用URLが届きま
 す。\n\n\nご不明点・ご質問\n弊社ホームページよりお
 問い合わせください。\n\n\n注意事項\n＊同業他社様の
 ご参加はご遠慮いただいております。＊弊社からのメ
 ールを配信解除されている方は、お手数ですが、申込
 時に表示される再配信設定にて再登録をよろしくお願
 いいたします。当日のzoomURLを送付させていただきます
 。【プライバシーポリシーについて】今回ご提供いた
 だく個人情報は、プライバシーポリシーに基づき厳重
 に管理いたします。株式会社Magic Moment 個人情報保護方
 針\n\n\n
LOCATION:Zoom
URL:https://techplay.jp/event/893175?utm_medium=referral&utm_source=ics&utm
 _campaign=ics
END:VEVENT
END:VCALENDAR
