BEGIN:VCALENDAR
VERSION:2.0
PRODID:-//https://techplay.jp//JP
CALSCALE:GREGORIAN
METHOD:PUBLISH
X-WR-CALDESC:デモで体験！異なるデータソース間のデータ
 を簡単に加工・統合・連携する方法 [Salesforce→BigQuery
 データ連携編]
X-WR-CALNAME:デモで体験！異なるデータソース間のデータ
 を簡単に加工・統合・連携する方法 [Salesforce→BigQuery
 データ連携編]
X-WR-TIMEZONE:Asia/Tokyo
BEGIN:VTIMEZONE
TZID:Asia/Tokyo
BEGIN:STANDARD
DTSTART:19700101T000000
TZOFFSETFROM:+0900
TZOFFSETTO:+0900
TZNAME:JST
END:STANDARD
END:VTIMEZONE
BEGIN:VEVENT
UID:893237@techplay.jp
SUMMARY:デモで体験！異なるデータソース間のデータを簡
 単に加工・統合・連携する方法 [Salesforce→BigQueryデー
 タ連携編]
DTSTART;TZID=Asia/Tokyo:20230309T140000
DTEND;TZID=Asia/Tokyo:20230309T150000
DTSTAMP:20260422T121513Z
CREATED:20230221T011806Z
DESCRIPTION:イベント詳細はこちら\nhttps://techplay.jp/event/89323
 7?utm_medium=referral&utm_source=ics&utm_campaign=ics\n\nデモで体験
 ！異なるデータソース間のデータを簡単に加工・統合
 ・連携する方法 [Salesforce→BigQueryデータ連携編]\nセミ
 ナー概要\n社内のあらゆるデータをDWH（データウェア
 ハウス）に蓄積していくことでビジネスにおける重要
 なデータを継続的に分析することができますが、取り
 扱うデータの種類が増えれば増えるほどデータソース
 からデータを抽出・変換して連携する作業は非常に大
 きな手間となります。\nこの課題に対してはETLツール
 を用いることで、作業に費やす時間を大幅に削減し連
 携を容易に実行することができます。\n本セミナーで
 は、Salesforce内のデータの抽出・変換やBigQueryへの連携
 をETLツールのReckonerを用いてデモで実施し、Reckonerを使
 用することで作業をどのように効率化できるかをご紹
 介します。\nセミナーで分かること\n\nBigQuery活用のメ
 リットと活用にあたっての課題\nETLツールとは？\nReckon
 erの概要\nSalesforce→BigQueryへのデータ連携の方法\nReckone
 rを用いたデータ抽出・変換・連携の手順\n\nこんな方
 におすすめ\n\nReckonerを使って何ができるのか知りたい
 方\nETLツールの導入を検討している方\nデータ分析基盤
 の運用工数に課題をお持ちの方\n情報システム、セー
 ルス、マーケティングなどデータを取り扱う方\n\n注意
 事項\n\n本セミナーは法人のお客様限定となります。ま
 た、同業者様のお申込みはお断りさせていただく場合
 がございます。\n視聴用URLは開催前日・当日のリマイ
 ンドメールにてお知らせいたします。\n
LOCATION:オンライン（zoom）
URL:https://techplay.jp/event/893237?utm_medium=referral&utm_source=ics&utm
 _campaign=ics
END:VEVENT
END:VCALENDAR
