BEGIN:VCALENDAR
VERSION:2.0
PRODID:-//https://techplay.jp//JP
CALSCALE:GREGORIAN
METHOD:PUBLISH
X-WR-CALDESC:NRIネットコムウェビナー「要件定義にUXデザ
 インが効く！～ユーザー視点の導入でモノづくりが変
 わる〜」
X-WR-CALNAME:NRIネットコムウェビナー「要件定義にUXデザ
 インが効く！～ユーザー視点の導入でモノづくりが変
 わる〜」
X-WR-TIMEZONE:Asia/Tokyo
BEGIN:VTIMEZONE
TZID:Asia/Tokyo
BEGIN:STANDARD
DTSTART:19700101T000000
TZOFFSETFROM:+0900
TZOFFSETTO:+0900
TZNAME:JST
END:STANDARD
END:VTIMEZONE
BEGIN:VEVENT
UID:893308@techplay.jp
SUMMARY:NRIネットコムウェビナー「要件定義にUXデザイ
 ンが効く！～ユーザー視点の導入でモノづくりが変わ
 る〜」
DTSTART;TZID=Asia/Tokyo:20230310T120000
DTEND;TZID=Asia/Tokyo:20230310T130000
DTSTAMP:20260423T090233Z
CREATED:20230221T060627Z
DESCRIPTION:イベント詳細はこちら\nhttps://techplay.jp/event/89330
 8?utm_medium=referral&utm_source=ics&utm_campaign=ics\n\nNRIネットコ
 ムウェビナー「要件定義にUXデザインが効く！～ユ
 ーザー視点の導入でモノづくりが変わる〜」\n概要\nWeb
 サイト構築・システム開発を担当される方には、依頼
 者から要求された機能やUIを実現してもそれが有効に
 働くのか確信が持てない、デザインについての指摘が
 あっても明確な応えを打ち出せないというご経験もあ
 るかと思います。そんな悩みを抱える開発の現場であ
 っても、UXやユーザー視点を正しく理解し、導入する
 事で、その品質を向上していく事ができます。\n本ウ
 ェビナーではWebサイト構築・システム開発に携わる
 方々に向け、着実に成果へと近づく為に、上流工程か
 らどの様にユーザー視点を取り入れていくのかをUXデ
 ザインの専門家がわかりやすくお伝えします。UXに関
 しては言葉として聞いた事があるくらいという方でも
 、お気軽に参加いただけます。\n▼こんな方におスス
 メです\n\n自社製品やWebサイトの品質を向上し、成果を
 出したい方\nシステム開発の予定があり、情報収集を
 したい方\nUI/UXに関心があり、自社内で活用する方法を
 知りたい方\n\n▼アジェンダ\n\nUIとUXについて\nUXの分類
 〜いろいろなUX\nその問題がどこから来るのかを知る\nU
 Xデザインの導入\nQ＆A\n\n登壇者\n長田和之\nNRIネットコ
 ム株式会社　Webデザイン事業部HCD-Net認定 人間中心設
 計専門家\n参加費\n無料\n注意事項\n・競合製品提供企
 業様や個人の方からのお申込みをお断りさせて頂いて
 おります。・イベントの内容やスケジュールは予告な
 く変更となる場合があります。予めご了承下さい。・
 映像や音声は参加者様の通信環境に依存します。なる
 べく通信環境の良い状態で視聴ください。・配信サー
 ビス側でのトラブル発生時は予告なく中断されるおそ
 れがあります。予めご了承下さい。
LOCATION:オンライン
URL:https://techplay.jp/event/893308?utm_medium=referral&utm_source=ics&utm
 _campaign=ics
END:VEVENT
END:VCALENDAR
