BEGIN:VCALENDAR
VERSION:2.0
PRODID:-//https://techplay.jp//JP
CALSCALE:GREGORIAN
METHOD:PUBLISH
X-WR-CALDESC:【無料Webセミナー】Qlik Cloudデータ統合：デー
 タ変換機能のご紹介
X-WR-CALNAME:【無料Webセミナー】Qlik Cloudデータ統合：デー
 タ変換機能のご紹介
X-WR-TIMEZONE:Asia/Tokyo
BEGIN:VTIMEZONE
TZID:Asia/Tokyo
BEGIN:STANDARD
DTSTART:19700101T000000
TZOFFSETFROM:+0900
TZOFFSETTO:+0900
TZNAME:JST
END:STANDARD
END:VTIMEZONE
BEGIN:VEVENT
UID:893715@techplay.jp
SUMMARY:【無料Webセミナー】Qlik Cloudデータ統合：データ変
 換機能のご紹介
DTSTART;TZID=Asia/Tokyo:20230307T140000
DTEND;TZID=Asia/Tokyo:20230307T150000
DTSTAMP:20260420T005450Z
CREATED:20230224T010912Z
DESCRIPTION:イベント詳細はこちら\nhttps://techplay.jp/event/89371
 5?utm_medium=referral&utm_source=ics&utm_campaign=ics\n\n【無料Webセ
 ミナー】Qlik Cloudデータ統合：データ変換機能のご紹介
 \n概要\nQlik Cloudデータ統合 (Qlik Cloud Data Integration) は、
 データ パイプラインを作成して、データのオンボーデ
 ィングによるリアルタイムデータ配信(CDC)、ローコー
 ドのデータ変換、分析に必要なデータマートの自動生
 成など、分析要件をサポートするさまざまなデータ統
 合タスクを実行します。巷で話題のELTをベースとした
 「モダンデータスタック」をワンツールで構築するこ
 とができます。\nその中の「データ変換」機能では、
 ノーコードでシンプルな変換ルールを作成することが
 できます。また、複雑な変換については、比較的シン
 プルなSQLのSELECT文の記述により変換パイプラインを構
 築可能です。\n本セッションでは、Qlik Cloudデータ統合
 の「データ変換」機能について詳しく解説します。\n
 当日はチャットによるご質問も受け付けます。\n登壇
 者\n\n中嶋 翔\nソリューション技術部 シニアソリュー
 ションアーキテクト\nコンサルティング企業にてBI導入
 、データ分析、機械学習モデル構築、AI活用支援など
 のプロジェクトを経て2018年11月にクリックテック・ジ
 ャパン株式会社に入社。小売・流通、製造、金融など
 のクライアントに対しQlikソリューションの導入提案を
 支援している。その他、技術書籍の執筆やカンファレ
 ンス、セミナーへの登壇、メディアでの技術情報発信
 を通じたマーケティング支援を行っている。\n\n参加対
 象\nQlik Sense、QlikViewを既にお使いのお客様、また利用
 をご検討頂いているユーザー様、データ分析にご興味
 がある方、Qlik製品をお取り扱い頂いているパートナー
 様など、どなたでもご参加いただけます。お気軽にご
 参加ください。これまでQlik Senseをご利用されたことの
 ない方は、事前に下記よりQlik Sense 入門ハンズオンWeb
 セミナーをご利用いただいてご体験頂くと、さらに当
 セミナーの内容をご活用いただけます。Qlik Sense Business
  入門 ハンズオン Web セミナー\n事前準備\nZoom（Web会議
 ツール）を使用します。あらかじめご利用のPCやタブ
 レット、スマートフォンにインストールをお願いしま
 す。当セミナーのURLはお申込みいただいた方に、セミ
 ナー開催日前日までにお知らせいたします。
LOCATION:オンライン
URL:https://techplay.jp/event/893715?utm_medium=referral&utm_source=ics&utm
 _campaign=ics
END:VEVENT
END:VCALENDAR
