BEGIN:VCALENDAR
VERSION:2.0
PRODID:-//https://techplay.jp//JP
CALSCALE:GREGORIAN
METHOD:PUBLISH
X-WR-CALDESC:WindowsServer2012のAzure移行とOffice2013の365切替セミ
 ナー
X-WR-CALNAME:WindowsServer2012のAzure移行とOffice2013の365切替セミ
 ナー
X-WR-TIMEZONE:Asia/Tokyo
BEGIN:VTIMEZONE
TZID:Asia/Tokyo
BEGIN:STANDARD
DTSTART:19700101T000000
TZOFFSETFROM:+0900
TZOFFSETTO:+0900
TZNAME:JST
END:STANDARD
END:VTIMEZONE
BEGIN:VEVENT
UID:893745@techplay.jp
SUMMARY:WindowsServer2012のAzure移行とOffice2013の365切替セミナ
 ー
DTSTART;TZID=Asia/Tokyo:20230308T140000
DTEND;TZID=Asia/Tokyo:20230308T150000
DTSTAMP:20260422T071318Z
CREATED:20230224T020349Z
DESCRIPTION:イベント詳細はこちら\nhttps://techplay.jp/event/89374
 5?utm_medium=referral&utm_source=ics&utm_campaign=ics\n\nWindowsServer201
 2のAzure移行とOffice2013の365切替セミナー\n概要\nWindowsServ
 er2012とOffice2013のサポート終了が間近に迫る中、オンプ
 レミス環境の更改ではなく、クラウド環境またはSaaS製
 品へ移行検討するお客様が増えています。本講演では
 、前編にMicrosoft AzureがWindowsServer2012の移行先として最
 適であることを中心に説明し、後編では、Office2013をMic
 rosoft365に切替える際のメリットについて講演させて頂
 きます。\nタイムスケジュール\n\n\n\n時間\n内容\n\n\n\n\n
 13:50〜14:00\n受付\n\n\n14:00〜14:05\nオープニング\n\n\n14:05
 〜15:00\n前編 ＜Microsoft Azure＞1.Windows Server2012のサポート
 終了2.Microsoft Azure とは3.Microsoft Azure移行によるメリッ
 ト4.その他Microsoft Azure 豊富なサービスラインナップ 
 後編 ＜Microsoft 365＞1.Office2013のサポート終了2.最新版Off
 ice LTSCの注意点3.Microsoft 365への切替によるメリット4.Mic
 rosoft 365の活用事例\n\n\n15:00〜15:05\nアンケート回答\n\n\n
 \n※ 当日予告なく時間配分・内容が変更になる可能性
 がございます。\n登壇者\n株式会社大塚商会ビジネスパ
 ートナー事業部 NBくらうどーる課前編：下村 東造後編
 ：小山 紗世子\n参加費\n無料\n会場\nオンライン（Zoom）
 \n注意事項\n\nリクルーティング、勧誘など、採用目的
 でのイベント参加はお断りしております。\nキャンセ
 ル待ち・補欠・落選の方はご参加いただくことが出来
 ませんのでご了承ください。\n欠席される場合は、お
 手数ですが速やかにキャンセル処理をお願い致します
 。\n無断キャンセルや欠席が続く場合、次回以降の参
 加をお断りさせていただく場合がございます。\n
LOCATION:オンライン
URL:https://techplay.jp/event/893745?utm_medium=referral&utm_source=ics&utm
 _campaign=ics
END:VEVENT
END:VCALENDAR
