BEGIN:VCALENDAR
VERSION:2.0
PRODID:-//https://techplay.jp//JP
CALSCALE:GREGORIAN
METHOD:PUBLISH
X-WR-CALDESC:【無料Webセミナー】Qlik Cloudデータ統合：デー
 タマート作成機能のご紹介
X-WR-CALNAME:【無料Webセミナー】Qlik Cloudデータ統合：デー
 タマート作成機能のご紹介
X-WR-TIMEZONE:Asia/Tokyo
BEGIN:VTIMEZONE
TZID:Asia/Tokyo
BEGIN:STANDARD
DTSTART:19700101T000000
TZOFFSETFROM:+0900
TZOFFSETTO:+0900
TZNAME:JST
END:STANDARD
END:VTIMEZONE
BEGIN:VEVENT
UID:894166@techplay.jp
SUMMARY:【無料Webセミナー】Qlik Cloudデータ統合：データマ
 ート作成機能のご紹介
DTSTART;TZID=Asia/Tokyo:20230314T140000
DTEND;TZID=Asia/Tokyo:20230314T150000
DTSTAMP:20260420T105022Z
CREATED:20230228T022300Z
DESCRIPTION:イベント詳細はこちら\nhttps://techplay.jp/event/89416
 6?utm_medium=referral&utm_source=ics&utm_campaign=ics\n\n【無料Webセ
 ミナー】Qlik Cloudデータ統合：データマート作成機能の
 ご紹介\n概要\nQlik Cloudデータ統合 (Qlik Cloud Data Integration
 ) は、データ パイプラインを作成して、データのオン
 ボーディングによるリアルタイムデータ配信(CDC)、ロ
 ーコードのデータ変換、分析に必要なデータマートの
 自動生成など、分析要件をサポートするさまざまなデ
 ータ統合タスクを実行します。巷で話題のELTをベース
 とした「モダンデータスタック」をワンツールで構築
 することができます。\nその中の「データマートの作
 成」機能を用いることで、Qlik上で定義したテーブル間
 のリレーションシップ（データモデル）に基づいて、
 ノーコードでテーブルの非正規化(JOIN)を行い、スター
 スキーマや大福帳テーブルといったデータマートをSnow
 flakeなどのクラウドデータプラットフォームに作成す
 ることができます。\n本セッションでは、Qlik Cloudデー
 タ統合の「データマート作成」機能について詳しく解
 説します。\n当日はチャットによるご質問も受け付け
 ます。\n登壇者\n\n中嶋 翔\nソリューション技術部 シニ
 アソリューションアーキテクト\nコンサルティング企
 業にてBI導入、データ分析、機械学習モデル構築、AI活
 用支援などのプロジェクトを経て2018年11月にクリック
 テック・ジャパン株式会社に入社。小売・流通、製造
 、金融などのクライアントに対しQlikソリューションの
 導入提案を支援している。その他、技術書籍の執筆や
 カンファレンス、セミナーへの登壇、メディアでの技
 術情報発信を通じたマーケティング支援を行っている
 。\n\n参加対象\nQlik Sense、QlikViewを既にお使いのお客様
 、また利用をご検討頂いているユーザー様、データ分
 析にご興味がある方、Qlik製品をお取り扱い頂いている
 パートナー様など、どなたでもご参加いただけます。
 お気軽にご参加ください。これまでQlik Senseをご利用さ
 れたことのない方は、事前に下記よりQlik Sense 入門ハ
 ンズオンWebセミナーをご利用いただいてご体験頂くと
 、さらに当セミナーの内容をご活用いただけます。Qlik
  Sense Business 入門 ハンズオン Web セミナー\n事前準備\nZo
 om（Web会議ツール）を使用します。あらかじめご利用
 のPCやタブレット、スマートフォンにインストールを
 お願いします。当セミナーのURLはお申込みいただいた
 方に、セミナー開催日前日までにお知らせいたします
 。
LOCATION:オンライン
URL:https://techplay.jp/event/894166?utm_medium=referral&utm_source=ics&utm
 _campaign=ics
END:VEVENT
END:VCALENDAR
