BEGIN:VCALENDAR
VERSION:2.0
PRODID:-//https://techplay.jp//JP
CALSCALE:GREGORIAN
METHOD:PUBLISH
X-WR-CALDESC:コーチングのプロ×AIデータで生み出す新しい
 コーチングの形、見てみませんか？
X-WR-CALNAME:コーチングのプロ×AIデータで生み出す新しい
 コーチングの形、見てみませんか？
X-WR-TIMEZONE:Asia/Tokyo
BEGIN:VTIMEZONE
TZID:Asia/Tokyo
BEGIN:STANDARD
DTSTART:19700101T000000
TZOFFSETFROM:+0900
TZOFFSETTO:+0900
TZNAME:JST
END:STANDARD
END:VTIMEZONE
BEGIN:VEVENT
UID:894204@techplay.jp
SUMMARY:コーチングのプロ×AIデータで生み出す新しいコー
 チングの形、見てみませんか？
DTSTART;TZID=Asia/Tokyo:20230301T000000
DTEND;TZID=Asia/Tokyo:20230331T230000
DTSTAMP:20260422T134826Z
CREATED:20230228T060709Z
DESCRIPTION:イベント詳細はこちら\nhttps://techplay.jp/event/89420
 4?utm_medium=referral&utm_source=ics&utm_campaign=ics\n\nコーチング
 改善のプロにAIを用いた面談分析の可能性をお話いた
 だきます。\n概要\n現在このような悩みはありませんか
 ？\n・1on1の効果が出ているのかわからない・面談で部
 下の本音を引き出すことができない・面談を部下・上
 司に有益な時間にしたいが、改善の時間がない・上司
 のコーチングスキルの上げ方がわからない\n1on1のお手
 本は自分の過去の上司だけ、そんな時代は終わりです
 。ひとりひとりに合った指導をAIを用いてフィードバ
 ックする、そんな新しいコーチング・1on1指導の在り方
 を多くの人に知っていただきたく、本ウェビナーは企
 画されました。\n弊社が提供する、AIコミュニケーショ
 ンツールの【COG-COACH】は「傾聴・支援・承認」の３パ
 ートで、上司のコーチングスキルを分析いたします。\
 n自分のクセや改善点を客観的に把握でき、具体的で納
 得感の高いフィードバックを得ることで、コーチング
 スキルの向上を実現します。\n今回はコーチングのプ
 ロである、チームスキル研究所、田中様をゲストにお
 呼びします。コーチング向上に長年携わってきた現場
 のプロのお話と弊社がこれまでに蓄積してきた1on1分析
 データのコラボレーションから見えてくる、新しい1on1
 ・コーチングの在り方を皆様にお伝えいたします。\n\n
 【対象となる方】\nコーチングのプロの経験に基づい
 たお話を聞きたい方教育現場における、AI活用・デー
 タ活用の事例を知りたい方トークの質を見える化・デ
 ータ化できる技術の可能性を知りたい方\n【参考資料
 】\n\n開催概要\n＜日時＞\n・3月2日(木)	18:30-20・3月7日(
 火)	15:30-17・3月27日(月)	18:30-20:00・3月30日(木)	16:00-17:30\n
 各回１時間半を予定しております。日程が変更になる
 場合もございますので、最新情報は、弊社お申込みフ
 ォームよりご確認ください。\n\n＜費用＞\n無料\n\n＜場
 所＞\nZoom※開催日前日にメールにて、URLをご連絡しま
 す\n\n＜お申し込み方法＞\n当サイトよりお申込みいた
 だけます。弊社googleフォームによるエントリーも可能
 です。開催前日〜当日のお申込みは、開催情報通知が
 間に合わない可能性があるため、上記フォームからお
 申し込みいただきますようお願いいたします。\n\n＜登
 壇者＞\n田中　信　氏　　一般社団法人チームスキル
 研究所　コ・ファウンダー理事　研究所長\n河野　理
 愛　コグニティ株式会社　代表取締役\n\n＜プログラム
 ＞\n1．INTRODUCTION　　組織パフォーマンスを高める人軸
 マネジメントとは？2．「COG-COACH」で分析できる項目に
 ついて3．分析結果からわかる、改善・指導可能性（パ
 ネルディスカッション・質疑）\n\n【注意事項】\n・本
 ウェビナーはお申込みいただくことで無料でご視聴い
 ただけます。視聴の際の通信料につきましては、各個
 人のご負担となります。\n・ウェビナー前日にURLメー
 ルが届かない場合はメールアドレスが誤って登録され
 ている可能性がございますので、お手数ですが、こち
 らのフォーム（https://cognitee.com/contact）よりお問い合わ
 せをお願いいたします。\n・メール指定受信を設定さ
 れている場合は、＜@cognitee.com＞のドメイン設定を各自
 でお願いします。\n・ご登録いただいた個人情報は、We
 binarに関するご連絡の他、製品資料の送付、新製品・
 サービス、イベントに関する情報提供のために利用さ
 せていただく場合がございます。また、共同開催者へ
 の情報提供もございます。ご登録いただいた時点でご
 同意いただく形になりますことをご了承ください。\n
 プライバシーポリシー：https://cognitee.com/about/5014\n\n★
 コグニティは「ＨＲアワード2022」人材開発・育成部門
 にて最優秀賞受賞★\n詳細はこちら：https://cognitee.com/ne
 ws/11236\n日本の人事部「HRアワード2022」（後援：厚生労
 働省）で、コグニティのAI分析サービス「COG-COACH」が
 「人材開発・育成部門」にて最優秀賞を受賞しました
 ！「COG-COACH（コグ・コーチ）」は1on1スキルをAI分析で
 可視化、上司の指導力を強化します。\n受賞を記念し
 て、コーチングに関するプロ企業3社とのコラボ回をま
 とめたウェビナーを配信いたします。反響が良かった
 過去回、4時間分の重要なトピックをぎゅっと1時間に
 凝縮しております。詳しくはこちらから\n10月13日（水
 ）赤坂インターシティコンファレンスにて開催された
 表彰式
LOCATION:オンライン（ZOOM）
URL:https://techplay.jp/event/894204?utm_medium=referral&utm_source=ics&utm
 _campaign=ics
END:VEVENT
END:VCALENDAR
