BEGIN:VCALENDAR
VERSION:2.0
PRODID:-//https://techplay.jp//JP
CALSCALE:GREGORIAN
METHOD:PUBLISH
X-WR-CALDESC:3/14(火)開催	問い合わせ10倍のサイト改善 ＆ CVR
 2倍になったLP改善 ノウハウ公開 【free web hope共催】（
 オンライン開催）
X-WR-CALNAME:3/14(火)開催	問い合わせ10倍のサイト改善 ＆ CVR
 2倍になったLP改善 ノウハウ公開 【free web hope共催】（
 オンライン開催）
X-WR-TIMEZONE:Asia/Tokyo
BEGIN:VTIMEZONE
TZID:Asia/Tokyo
BEGIN:STANDARD
DTSTART:19700101T000000
TZOFFSETFROM:+0900
TZOFFSETTO:+0900
TZNAME:JST
END:STANDARD
END:VTIMEZONE
BEGIN:VEVENT
UID:894238@techplay.jp
SUMMARY:3/14(火)開催	問い合わせ10倍のサイト改善 ＆ CVR2倍
 になったLP改善 ノウハウ公開 【free web hope共催】（オ
 ンライン開催）
DTSTART;TZID=Asia/Tokyo:20230314T150000
DTEND;TZID=Asia/Tokyo:20230314T160000
DTSTAMP:20260425T232358Z
CREATED:20230228T071525Z
DESCRIPTION:イベント詳細はこちら\nhttps://techplay.jp/event/89423
 8?utm_medium=referral&utm_source=ics&utm_campaign=ics\n\nインターネ
 ット広告の費用を投下しSNSの運用に力を入れ、訪問す
 るユーザー数が増加しても、受け皿であるウェブペー
 ジの離脱率が高い状態ではいくら広告費をかけても、
 残念ながら成果を出すことは困難です。集客～購入ま
 での一連の「売れる流れ」をつくる必要があります。\
 nまず、優先度高く取り組むべきは受け皿であるウェブ
 ページの改善です。\n本セミナーでは、受け皿となる
 ウェブページとランディングページに特化して改善施
 策の具体的内容をご紹介します。\n第1部：ホームペー
 ジからの問い合わせが2倍に︕サイト改善セミナー（バ
 リューエージェント）第2部：CVR2倍に!　ユーザー目線
 で改善するLPのポイント（フリーウェブホープ）第3部
 ：質疑応答\n質問などがある方は、お申込み時に書い
 ていただくとセミナー時に取り上げることが可能です
 。\n今回のセミナーでは、以下が学べます\n\nウェブペ
 ージ、ランディングページ改善の効果\nウェブページ
 、ランディングページの改善点の見つけ方\nウェブペ
 ージ、ランディングページの具体的改善方法\n成果が
 でた事例の紹介\n\n※当日、トークの流れにより一部内
 容が変更になる可能性がございます。※聞けなかった
 内容、聞きたかった内容等ございましたら、是非質疑
 応答にてお気軽にご質問くださいませ。\n\n登壇者紹介
 \n親川太貴（おやかわ　たいき）（株式会社free web hope
 ）\n株式会社free web hope　コンサルタント兼インサイド
 セールスリーダー　親川太貴\n大学卒業後、新卒で総
 合人材サービス大手パーソルキャリア株式会社に入社
 。福岡配属となり約2年半求人広告営業に従事。その後
 、株式会社free web hopeに入社しコンサルタントとして100
 社以上のweb集客をサポート。BtoCでは人材系（会員募集
 ）やスポーツジム、不動産関連の案件を多く手掛ける
 。現在はインサイドセールス部署の立ち上げとリーダ
 ーも兼任。\n「株式会社free web hopeのサイトを見る」\n
 上野山光雄 (株式会社 バリューエージェント)\n株式会
 社バリューエージェント　代表取締役Webマーケッター/
 Webコンサルタント上野山 光雄（うえのやま　みつお）
 \n専門学校を卒業後、店頭公開のITシステム会社にSEと
 して就職。その後建築会社の営業で活躍し売上げ100億
 円超の企業で取締役を3年間経験。2005年に株式会社バ
 リューエージェント設立。マーケティングシステム、
 店舗集客、Webマーケティング事業で中小企業を中心に5
 00社を超える集客サービスの導入実績あり。\n得意分野
 は、戦略作り、サイト改善、SEO。\nセミナー概要・お
 申込み\nセミナー名問い合わせ10倍のサイト改善 ＆ CVR2
 倍になったLP改善 ノウハウ公開【free web hope共催】（オ
 ンライン開催）\nこんな方におすすめ！\n\n以前よりも
 ウェブページ、ランディングページからの問合せ/購入
 が減ってしまった\nウェブページ、ランディングペー
 ジからの流入が売上につながらない\n広告費が高騰し
 ており、対策を打ちたい\n\n2023年3月14日(火)　15:00～16:0
 0（14:50　受付開始）\n場所オンライン開催※メールに
 て参加用のZOOMのURLをお送りします。※出席の確認もご
 ざいますので、10分前にはご入室頂きますようお願い
 いたします。\n参加料無料\n定員60名
LOCATION:オンライン
URL:https://techplay.jp/event/894238?utm_medium=referral&utm_source=ics&utm
 _campaign=ics
END:VEVENT
END:VCALENDAR
