BEGIN:VCALENDAR
VERSION:2.0
PRODID:-//https://techplay.jp//JP
CALSCALE:GREGORIAN
METHOD:PUBLISH
X-WR-CALDESC:何から始めればいい？ Webサイトからの情報漏
 えいや サービス停止を防ぐために実施すべき セキュ
 リティ対策とは～金融業界必見！サイバー攻撃対策セ
 ミナー～
X-WR-CALNAME:何から始めればいい？ Webサイトからの情報漏
 えいや サービス停止を防ぐために実施すべき セキュ
 リティ対策とは～金融業界必見！サイバー攻撃対策セ
 ミナー～
X-WR-TIMEZONE:Asia/Tokyo
BEGIN:VTIMEZONE
TZID:Asia/Tokyo
BEGIN:STANDARD
DTSTART:19700101T000000
TZOFFSETFROM:+0900
TZOFFSETTO:+0900
TZNAME:JST
END:STANDARD
END:VTIMEZONE
BEGIN:VEVENT
UID:894522@techplay.jp
SUMMARY:何から始めればいい？ Webサイトからの情報漏えい
 や サービス停止を防ぐために実施すべき セキュリテ
 ィ対策とは～金融業界必見！サイバー攻撃対策セミナ
 ー～
DTSTART;TZID=Asia/Tokyo:20230316T130000
DTEND;TZID=Asia/Tokyo:20230316T133000
DTSTAMP:20260421T041155Z
CREATED:20230302T043818Z
DESCRIPTION:イベント詳細はこちら\nhttps://techplay.jp/event/89452
 2?utm_medium=referral&utm_source=ics&utm_campaign=ics\n\n何から始め
 ればいい？Webサイトからの情報漏えいやサービス停止
 を防ぐために実施すべきセキュリティ対策とは～金融
 業界必見！サイバー攻撃対策セミナー\n概要\n年々増加
 し続けるサイバー攻撃。特に、顧客の機密情報を多数
 保持している金融関連サービスを展開している場合、
 情報漏えい事故が発生してしまうと事業ダメージはも
 ちろん、企業やサービスに対するイメージや信頼の失
 墜につながり大きな打撃を受けてしまいます。\n一方
 で、セキュリティ対策にかける工数や人員確保の課題
 がつきまとい、なかなか思うように対策ができていな
 い企業様も多いかと存じます。次々と出現する新たな
 脆弱性への対応や、情報収集に手が増らなくなってい
 た矢先にセキュリティインシデントが起きてしまった
 、という事例も少なくありません。仮にサイバー攻撃
 の被害に遭って情報が漏えいしてしまった場合、担当
 者の対処にかかる工数のみでなく、企業としてのブラ
 ンドイメージも低下しかねてしまいます。\nそこで、
 本セミナーでは、より効率的、かつ効果のある”Webセ
 キュリティ対策”の全体像をお伝えしていきます。\n
 特に、・多くの機密情報を保持しているWebサイト・サ
 ービスからの情報漏えい対策・DDoS攻撃によるWebサイト
 のサービス停止を防ぐ対策・脆弱性の情報収集・管理
 の工数を下げ、根本からサイバー攻撃を防ぐなどの方
 法について解説していく予定です。\n無料のセミナー
 となっておりますので、ぜひご参加下さい。\n※本セ
 ミナーの定員は100名です。100名を超えた場合は、申込
 を締め切りますので、予めご了承ください。\n-----------
 ----------------------------------主催：株式会社サイバーセキ
 ュリティクラウド日時：2023年3月16日（木）13:00〜13:30
 場所：オンライン費用：無料セミナーへの申込、詳細
 ：https://lp.cscloud.co.jp/20230316/TP----------------------------------
 ---------\nこんな方におすすめです！\n\nWebサイトにて個
 人情報を入力するフォームを保持している\nWebサーバ
 内にて顧客の個人情報データを管理している\nWebサイ
 ト・サーバのセキュリティ対策を検討している\nDDoS攻
 撃対策を検討している\n\n注意事項\n\nリクルーティン
 グ、勧誘など、採用目的でのイベント参加はお断りし
 ております。\nキャンセル待ち・補欠・落選の方はご
 参加いただくことが出来ませんのでご了承ください。\
 n欠席される場合は、お手数ですが速やかにキャンセル
 処理をお願い致します。\n無断キャンセルや欠席が続
 く場合、次回以降の参加をお断りさせていただく場合
 がございます。\n
LOCATION:オンライン
URL:https://techplay.jp/event/894522?utm_medium=referral&utm_source=ics&utm
 _campaign=ics
END:VEVENT
END:VCALENDAR
