BEGIN:VCALENDAR
VERSION:2.0
PRODID:-//https://techplay.jp//JP
CALSCALE:GREGORIAN
METHOD:PUBLISH
X-WR-CALDESC:【無料オンライントークライブ 】『シン・ウ
 ルトラマン』を生み出した樋口真嗣監督が語る！ 日本
 映画の“未来と可能性”
X-WR-CALNAME:【無料オンライントークライブ 】『シン・ウ
 ルトラマン』を生み出した樋口真嗣監督が語る！ 日本
 映画の“未来と可能性”
X-WR-TIMEZONE:Asia/Tokyo
BEGIN:VTIMEZONE
TZID:Asia/Tokyo
BEGIN:STANDARD
DTSTART:19700101T000000
TZOFFSETFROM:+0900
TZOFFSETTO:+0900
TZNAME:JST
END:STANDARD
END:VTIMEZONE
BEGIN:VEVENT
UID:895089@techplay.jp
SUMMARY:【無料オンライントークライブ 】『シン・ウルト
 ラマン』を生み出した樋口真嗣監督が語る！ 日本映画
 の“未来と可能性”
DTSTART;TZID=Asia/Tokyo:20230322T130000
DTEND;TZID=Asia/Tokyo:20230322T140000
DTSTAMP:20260421T083328Z
CREATED:20230306T065851Z
DESCRIPTION:イベント詳細はこちら\nhttps://techplay.jp/event/89508
 9?utm_medium=referral&utm_source=ics&utm_campaign=ics\n\n映画監督と
 して数多くの名作を手がけ、独創的な映像表現で多く
 のファンを魅了している樋口真嗣監督が登壇します！
 樋口監督は、『日本沈没』や『進撃の巨人ATTACK ON TITAN
 』、『シン・ゴジラ』といった傑作を手掛け、国内外
 で高い評価を受けてきました。しかし一方で、日本映
 画界という視点では、海外の映画マーケットと比較す
 ると、規模感や収益化の面で課題を抱えている部分が
 多くあり、日本の映画界自体がシュリンクしていると
 いう懸念もあります。本トークライブでは、樋口監督
 がこれまでの作品を振り返りながら、制作の舞台裏や
 業界の現状などに触れつつ、日本映画の未来と可能性
 について語ってもらいます。\n■登壇者樋口 真嗣（ひ
 ぐち しんじ）氏1965年生まれ、東京都出身。『ゴジラ
 』（1984年）で特殊造形に携わったことがきっかけで映
 画界に入る。『ガメラ大怪獣空中決戦』（1995年）など
 平成「ガメラ」三部作で特技監督を務め、2005年『ロー
 レライ』で監督デビュー。2012年の『のぼうの城』（犬
 童一心と共同監督）では日本アカデミー賞優秀監督賞
 を受賞。『シン・ゴジラ』（16年）では、監督・特技
 監督を務める。\n■聞き手東 紗友美（ひがし さゆみ）
 氏映画ソムリエ。女性誌（『CLASSY.』、『sweet』、『旅
 色』など）他、連載多数。TV・ラジオ（文化放送）等
 での映画紹介や、不定期でTSUTAYAの棚展開も実施。映画
 イベントに登壇する他、舞台挨拶のMCなどもつとめる
 。映画ロケ地にまつわるトピックも得意分野で2021年GOT
 Oトラベル主催の映画旅達人に選出される。音声アプリ
 Voicyで映画解説の配信中。\n■注意事項【フェローズク
 リエイティブNEXT は「ZOOM」で配信します】※お申込み
 受付が完了したら、弊社よりZOOMの受講するための『招
 待URL』を前日までにお送りします。　この『招待URL』
 でオンライントークライブに参加（ログイン）するこ
 とができますので　『招待URL』は無くさないようにお
 願いします。※本講座は、オンライン講座となります
 。必要な環境をご確認の上、ご参加ください。※オン
 ライン受講（ZOOM）の流れについてはコチラ\n▼開催前
 　1.オンライントークライブ参加申し込み　2.オンライ
 ントークライブ視聴登録　3.視聴URLの確認（前日まで
 にお送りします）\n▼開催当日　4.オンライントークラ
 イブ視聴　5.終了後アンケート回答にご協力ください\n
 【注意事項】 　　※オンライントークライブご受講に
 際し、受講者様の使用されているデバイスやブラウザ
 、　インターネット環境およびアクセス状況等によっ
 て視聴できない可能性がありますが、　当社では責任
 を負いかねます。　恐れ入りますが予めご理解・ご了
 承いただきますようお願いいたします。\n※本トーク
 ライブの録画・録音・撮影、スクリーンショットやダ
 ウンロードおよび　セミナー資料等の無断転用や受講
 用URLの無断転載は固くお断りいたします。　万が一こ
 れらの行為が発覚した場合、著作権および肖像権侵害
 で　対処させていただくことがございます。\n【クリ
 エティブNEXTについての問い合わせ先】　株式会社フェ
 ローズFellows Creative Academy事務局　 03-5728-5580 / academy@fell
 ow-s.co.jp
LOCATION:オンライン
URL:https://techplay.jp/event/895089?utm_medium=referral&utm_source=ics&utm
 _campaign=ics
END:VEVENT
END:VCALENDAR
