BEGIN:VCALENDAR
VERSION:2.0
PRODID:-//https://techplay.jp//JP
CALSCALE:GREGORIAN
METHOD:PUBLISH
X-WR-CALDESC:90分で学ぶIllustratorロゴ制作
X-WR-CALNAME:90分で学ぶIllustratorロゴ制作
X-WR-TIMEZONE:Asia/Tokyo
BEGIN:VTIMEZONE
TZID:Asia/Tokyo
BEGIN:STANDARD
DTSTART:19700101T000000
TZOFFSETFROM:+0900
TZOFFSETTO:+0900
TZNAME:JST
END:STANDARD
END:VTIMEZONE
BEGIN:VEVENT
UID:895385@techplay.jp
SUMMARY:90分で学ぶIllustratorロゴ制作
DTSTART;TZID=Asia/Tokyo:20230323T203000
DTEND;TZID=Asia/Tokyo:20230323T220000
DTSTAMP:20260420T024605Z
CREATED:20230308T084357Z
DESCRIPTION:イベント詳細はこちら\nhttps://techplay.jp/event/89538
 5?utm_medium=referral&utm_source=ics&utm_campaign=ics\n\n【オンライ
 ン・マンツーマン】\n◆講座概要本講座は、Adobe「Illust
 rator」のさまざまな技法を使ってロゴ制作にチャレン
 ジする90分の初心者～中級者向けのセミナーです。オ
 ンラインでの1対1講座となります。\n簡単な図形を重ね
 たり、くり抜いたりして複雑な図形を作り出すことが
 できる「マスク」と「パスファインダ」の使い方、ス
 テンドグラスのように文字の塗り分けをする「ステン
 ドグラス文字技法」など、Illustratorならではの機能を
 学ぶことで、制作物の表現の幅を広げることができま
 す。\n操作手順はオリジナルテキストを用いて分かり
 やすく解説。制作の重要ポイントをまとめた資料も用
 意しますので、初心者の方でも1時間でロゴを制作して
 いただけます。\n「まったくロゴのアイデアが浮かば
 ない！」という方もご安心ください。時代と共に変化
 するロゴデザインの流行や、オシャレなロゴにするた
 めの秘訣もお伝えしていきます!Adobe Illustratorで自分の
 作りたいイメージを形にするスキルを習得していきま
 しょう！\n◆内容冒頭）自己紹介1）Adobe Illustrator技法
 実習(50分)・基本操作の解説・マスクとパスファインダ
 の使い方・知恵の輪技法・ステンドグラス文字技法　
 ・・など２）総括・質疑応答\n◆対象　【初級】・Adobe
  Illustratorのさまざまな技法を習得したい方・Adobe Illustr
 atorをインストールしたが、何をどのように勉強したら
 良いのかわからない方・Adobe Illustratorの基本をおさら
 いしたい方・社内でロゴや広告などを制作する必要が
 ある方・オシャレなロゴやシンボルマークを作りたい
 方\n※Adobe Illustrator（体験版可）をお持ちで、　PCの基
 本操作（ドラッグやドロップなど）ができる方が対象
 です。\n◆受講後像・Adobe Illustratorの基本操作が身につ
 きます。・ロゴを制作できるようになります。・流行
 を意識したロゴを制作できるようになります。\n＼開
 催リクエスト受付中！／ご希望の日時がありましたら
 、候補日を3つFellows Creative Academy事務局まで！！\n◆定
 員　1人\n◆持ち物・インターネットに接続可能で「Adob
 e Illustrator」がインストールされているPC（体験版でも
 可）・カメラ(インカメラ可)・マイク\n※オンライン講
 座です。必要な環境をご確認のうえ、上記を用意して
 ご参加ください。※海外から受講される場合、インタ
 ーネット環境が日本の規定と異なり、　まれに動画の
 呼び出しがうまく行われない可能性がございます。\n
 ＝＝＝＝＝＝＝＝＝＝＝＝＝＝＝＝＝＝＝＝\n◆講師
 プロフィール\n田村　秀和／デザイナー・アーティス
 ト\n神戸市出身。幼少より絵を描くことが大好きで、20
 03年よりアーティスト活動を開始。2009年頃より、それ
 までのペン描きアートからパソコンアートに転換し、
 ポップで楽しい作品を精力的に創作。\n三つ目のオバ
 ケをモチーフにした作品をはじめ、明るく元気なポッ
 プアートで人気上昇中。ごみ収集車のデザインアート
 、シャッターアート、パッケージアートなど、生活の
 さまざまなシーンやマテリアルでも作品が生かされて
 いる。\nhttp://smiling.jp\n「神戸市展」「姫路市展」「二
 科展」をはじめ、毎年複数のコンテストで入選。\n関
 西に軸足を置き、企業デザイナー、商業イラストレー
 ターとして活躍しつつ、デザイン・ファッション・ビ
 ジネスなどの学校で講座も。\n日本イラストレーター
 協会会員\n＝＝＝＝＝＝＝＝＝＝＝＝＝＝＝＝
LOCATION:オンライン
URL:https://techplay.jp/event/895385?utm_medium=referral&utm_source=ics&utm
 _campaign=ics
END:VEVENT
END:VCALENDAR
