BEGIN:VCALENDAR
VERSION:2.0
PRODID:-//https://techplay.jp//JP
CALSCALE:GREGORIAN
METHOD:PUBLISH
X-WR-CALDESC:Mendix Japan Community （第１回）
X-WR-CALNAME:Mendix Japan Community （第１回）
X-WR-TIMEZONE:Asia/Tokyo
BEGIN:VTIMEZONE
TZID:Asia/Tokyo
BEGIN:STANDARD
DTSTART:19700101T000000
TZOFFSETFROM:+0900
TZOFFSETTO:+0900
TZNAME:JST
END:STANDARD
END:VTIMEZONE
BEGIN:VEVENT
UID:896003@techplay.jp
SUMMARY:Mendix Japan Community （第１回）
DTSTART;TZID=Asia/Tokyo:20230420T160000
DTEND;TZID=Asia/Tokyo:20230420T180000
DTSTAMP:20260419T123816Z
CREATED:20230313T080253Z
DESCRIPTION:イベント詳細はこちら\nhttps://techplay.jp/event/89600
 3?utm_medium=referral&utm_source=ics&utm_campaign=ics\n\n★Mendix Japan
 のコミュニティミーティングを開催いたします。★\n
 イベント目的：Mendix Japan Community (MJC)の第1回コミュニ
 ティ**参加条件：**Mendixの技術側面、利用方法に関心が
 ある方アジェンダ予定16:00 MJCについて16:10 テクニカル
 アップデート (Mendix)16:30 メンバー発表１17:00 メンバー
 発表 217:30 フリーディスカッション開催場所：シーメ
 ンス株式会社オフィス**住所：**東京都渋谷区代々木2-2
 -1 小田急サザンタワー 9階
LOCATION:シーメンス株式会社新宿オフィス　トレーニング
 ルーム 東京都渋谷区代々木2-2-1 小田急サザンタワー9
 階
URL:https://techplay.jp/event/896003?utm_medium=referral&utm_source=ics&utm
 _campaign=ics
END:VEVENT
END:VCALENDAR
